BEGIN:VCALENDAR
VERSION:2.0
PRODID:-//Sport Éve 2026 - ECPv6.15.20//NONSGML v1.0//EN
CALSCALE:GREGORIAN
METHOD:PUBLISH
X-ORIGINAL-URL:https://sport.uni-pannon.hu/en
X-WR-CALDESC:Events for Sport Éve 2026
REFRESH-INTERVAL;VALUE=DURATION:PT1H
X-Robots-Tag:noindex
X-PUBLISHED-TTL:PT1H
BEGIN:VTIMEZONE
TZID:Europe/Budapest
BEGIN:DAYLIGHT
TZOFFSETFROM:+0100
TZOFFSETTO:+0200
TZNAME:CEST
DTSTART:20250330T010000
END:DAYLIGHT
BEGIN:STANDARD
TZOFFSETFROM:+0200
TZOFFSETTO:+0100
TZNAME:CET
DTSTART:20251026T010000
END:STANDARD
BEGIN:DAYLIGHT
TZOFFSETFROM:+0100
TZOFFSETTO:+0200
TZNAME:CEST
DTSTART:20260329T010000
END:DAYLIGHT
BEGIN:STANDARD
TZOFFSETFROM:+0200
TZOFFSETTO:+0100
TZNAME:CET
DTSTART:20261025T010000
END:STANDARD
BEGIN:DAYLIGHT
TZOFFSETFROM:+0100
TZOFFSETTO:+0200
TZNAME:CEST
DTSTART:20270328T010000
END:DAYLIGHT
BEGIN:STANDARD
TZOFFSETFROM:+0200
TZOFFSETTO:+0100
TZNAME:CET
DTSTART:20271031T010000
END:STANDARD
END:VTIMEZONE
BEGIN:VEVENT
DTSTART;TZID=Europe/Budapest:20260428T160000
DTEND;TZID=Europe/Budapest:20260428T173000
DTSTAMP:20260420T075456
CREATED:20260204T110918Z
LAST-MODIFIED:20260219T094348Z
UID:10000014-1777392000-1777397400@sport.uni-pannon.hu
SUMMARY:Köredzés (dolgozói)
DESCRIPTION:Minden izomcsoportra kiterjedő erősítő gyakorlatok köredzés formában eszközökkel és eszközök nélkül. A foglalkozáson való részvétel előzetes regisztrációhoz kötött! Regisztráció és további információ a megadott e-mail címen lehetséges. Térítésmentes egyetemi dolgozók részére. \n\nIdőpont: kedd 16:00-17:30\nÓratartó: Szigeti-Osváth Erzsébet\nHelyszín: Vívóterem\nElérhetőség: szigeti-osvath.erzsebet@uni-pannon.hu
URL:https://sport.uni-pannon.hu/en/event/koredzes-dolgozoi/2026-04-28/
LOCATION:Vívóterem\, Egyetem utca 10.\, Veszprém\, Veszprém\, 8200\, Hungary
CATEGORIES:Dolgozói sportkínálat
ATTACH;FMTTYPE=image/jpeg:https://sport.uni-pannon.hu/wp-content/uploads/2026/02/koredzes-sml.jpg
ORGANIZER;CN="Szigeti-Osv%C3%A1th Erzs%C3%A9bet":MAILTO:szigeti-osvath.erzsebet@uni-pannon.hu
END:VEVENT
BEGIN:VEVENT
DTSTART;TZID=Europe/Budapest:20260428T170000
DTEND;TZID=Europe/Budapest:20260428T180000
DTSTAMP:20260420T075456
CREATED:20260212T080652Z
LAST-MODIFIED:20260312T141937Z
UID:10001748-1777395600-1777399200@sport.uni-pannon.hu
SUMMARY:Spinning
DESCRIPTION:Előzetes bejelentkezés alapján! A részvétel díjhoz kötött! \nIdőpont: \n\nhétfő 17:00-18:00\, 18:15-19:15\nkedd: 16:00-16:45\, 17:00-18:00\, 18:15-19:15\ncsütörtök: 16:00-16:45\, 17:00-18:00\, 18:15-19:15\n\nElérhetőség: 06-30/556-5305 \nHelyszín: Pannon Egyetem\, Testnevelési és Sport Intézet\, tornaszoba (8200 Veszprém\, Egyetem utca 10.)
URL:https://sport.uni-pannon.hu/en/event/spinning-4/2026-04-28/
LOCATION:Tornacsarnok\, Egyetem utca 10.\, Veszprém\, Veszprém\, 8200\, Hungary
CATEGORIES:Nyilvános sportkínálat
ATTACH;FMTTYPE=image/jpeg:https://sport.uni-pannon.hu/wp-content/uploads/2026/02/spinning.jpg
END:VEVENT
BEGIN:VEVENT
DTSTART;TZID=Europe/Budapest:20260428T170000
DTEND;TZID=Europe/Budapest:20260428T200000
DTSTAMP:20260420T075456
CREATED:20260212T100412Z
LAST-MODIFIED:20260212T100622Z
UID:10003163-1777395600-1777406400@sport.uni-pannon.hu
SUMMARY:Légpuska/lövészet
DESCRIPTION:Időpont: kedd:17:00-20:00\, csütörtök: 8:00-11:00.\nHelyszín: Veszprém\, Egyetem utca 10.\, C épület mélypince\, Légó lőterem\nTérítésmentes egyetemi hallgatók részére.\nDíjhoz kötött\, jelentkezés: https://practiscore.com/clubs/veszpremi_sportlovesz_egyesulet\nTovábbi információ: veszpremisportlovesz@gmail.com
URL:https://sport.uni-pannon.hu/en/event/legpuska-loveszet/2026-04-28/
LOCATION:Légó Lőterem\, Egyeten utca 10.\, Veszprém\, Veszprém\, 8200\, Hungary
CATEGORIES:Hallgatói sportkínálat
ATTACH;FMTTYPE=image/jpeg:https://sport.uni-pannon.hu/wp-content/uploads/2026/02/shallow-focus-shot-from-male-shooting-gun-gun-range-scaled.jpg
END:VEVENT
BEGIN:VEVENT
DTSTART;TZID=Europe/Budapest:20260428T170000
DTEND;TZID=Europe/Budapest:20260428T200000
DTSTAMP:20260420T075456
CREATED:20260302T074448Z
LAST-MODIFIED:20260302T074448Z
UID:10003923-1777395600-1777406400@sport.uni-pannon.hu
SUMMARY:Airsoft lövészet
DESCRIPTION:Időpont:  kedd: 17:00-20:00\, csütörtök: 8:00-11:00\nHelyszín: Veszprém\, Egyetem utca 10.\, C épület mélypince\, Légó lőterem\nDíjhoz kötött\, jelentkezés: https://practiscore.com/clubs/veszpremi_sportlovesz_egyesulet\nTovábbi információ: veszpremisportlovesz@gmail.com
URL:https://sport.uni-pannon.hu/en/event/airsoft-loveszet/2026-04-28/
LOCATION:Légó Lőterem\, Egyeten utca 10.\, Veszprém\, Veszprém\, 8200\, Hungary
CATEGORIES:Hallgatói sportkínálat
ATTACH;FMTTYPE=image/jpeg:https://sport.uni-pannon.hu/wp-content/uploads/2026/03/old-soldier-uniform-pointing-with-sniper-rifle-scaled.jpg
END:VEVENT
BEGIN:VEVENT
DTSTART;TZID=Europe/Budapest:20260428T173000
DTEND;TZID=Europe/Budapest:20260428T190000
DTSTAMP:20260420T075456
CREATED:20260212T075320Z
LAST-MODIFIED:20260312T142336Z
UID:10001581-1777397400-1777402800@sport.uni-pannon.hu
SUMMARY:Vívás (utánpótlás)
DESCRIPTION:Díjhoz kötött\, de térítésmentes egyetemi hallgatók részére.\nHelyszín: Pannon Egyetem\, Testnevelési és Sport Intézet\, Vívóterem (8200 Veszprém\, Egyetem utca 10.)\nJelentkezés és további információ: Imreh László\, laci.imreh@gmail.com\nIdőpontok:\nkedd: 17:30-19:00\ncsütörtök: 17:00-19:00\npéntek: 17:00-19:00
URL:https://sport.uni-pannon.hu/en/event/vivas-utanpotlas/2026-04-28/
LOCATION:Vívóterem\, Egyetem utca 10.\, Veszprém\, Veszprém\, 8200\, Hungary
CATEGORIES:Nyilvános sportkínálat
ATTACH;FMTTYPE=image/jpeg:https://sport.uni-pannon.hu/wp-content/uploads/2026/02/vivas-1.jpg
END:VEVENT
BEGIN:VEVENT
DTSTART;TZID=Europe/Budapest:20260428T181500
DTEND;TZID=Europe/Budapest:20260428T191500
DTSTAMP:20260420T075456
CREATED:20260212T080644Z
LAST-MODIFIED:20260312T142027Z
UID:10001830-1777400100-1777403700@sport.uni-pannon.hu
SUMMARY:Spinning
DESCRIPTION:Előzetes bejelentkezés alapján! A részvétel díjhoz kötött! \nIdőpont: \n\nhétfő 17:00-18:00\, 18:15-19:15\nkedd: 16:00-16:45\, 17:00-18:00\, 18:15-19:15\ncsütörtök: 16:00-16:45\, 17:00-18:00\, 18:15-19:15\n\nElérhetőség: 06-30/556-5305 \nHelyszín: Pannon Egyetem\, Testnevelési és Sport Intézet\, tornaszoba (8200 Veszprém\, Egyetem utca 10.)
URL:https://sport.uni-pannon.hu/en/event/spinning-2-2/2026-04-28/
LOCATION:Tornacsarnok\, Egyetem utca 10.\, Veszprém\, Veszprém\, 8200\, Hungary
CATEGORIES:Nyilvános sportkínálat
ATTACH;FMTTYPE=image/jpeg:https://sport.uni-pannon.hu/wp-content/uploads/2026/02/spinning.jpg
END:VEVENT
BEGIN:VEVENT
DTSTART;TZID=Europe/Budapest:20260428T183000
DTEND;TZID=Europe/Budapest:20260428T183000
DTSTAMP:20260420T075456
CREATED:20260213T084114Z
LAST-MODIFIED:20260312T142215Z
UID:10003756-1777401000-1777401000@sport.uni-pannon.hu
SUMMARY:Haladó futás - VeszpRun
DESCRIPTION:Időpont: kedd 18:30\nHelyszín: Veszprém\, Színházkert/Gulyadomb\nJelentkezés és további információ: www.facebook.com/groups/VeszpRUN www.facebook.com/veszprun Kérdés esetén messengeren is megtalálsz minket. \nIngyenes közösségi futás\, melyre szeretettel várunk minden futót\, aki képes legalább 8-10 km-t 6:00-6:30 perc/km tempóban teljesíteni.
URL:https://sport.uni-pannon.hu/en/event/halado-futas-veszprun/2026-04-28/
LOCATION:Színházkert\, Óvári Ferenc út\, Veszprém\, Veszprém\, 8200\, Hungary
CATEGORIES:Nyilvános sportkínálat
ATTACH;FMTTYPE=image/jpeg:https://sport.uni-pannon.hu/wp-content/uploads/2026/02/veszprun.jpg
END:VEVENT
BEGIN:VEVENT
DTSTART;TZID=Europe/Budapest:20260428T183000
DTEND;TZID=Europe/Budapest:20260428T200000
DTSTAMP:20260420T075456
CREATED:20260213T085852Z
LAST-MODIFIED:20260213T085852Z
UID:10003511-1777401000-1777406400@sport.uni-pannon.hu
SUMMARY:Sakk
DESCRIPTION:Időpont: hétfő\, kedd: 18:30-20:00\nHelyszín: Veszprém\, Pannon Egyetem\, E épület\, E13 terem\nTérítésmentes egyetemi hallgatók részére.\nJelentkezés és további információ: https://alairas.sport.uni-pannon.hu/
URL:https://sport.uni-pannon.hu/en/event/sakk/2026-04-28/
LOCATION:Pannon Egyetem\, E épület\, Egyeten utca 10.\, Veszprém\, Veszprém\, 8200\, Hungary
CATEGORIES:Hallgatói sportkínálat
ATTACH;FMTTYPE=image/jpeg:https://sport.uni-pannon.hu/wp-content/uploads/2026/02/DSC_6568-scaled.jpg
END:VEVENT
BEGIN:VEVENT
DTSTART;TZID=Europe/Budapest:20260428T190000
DTEND;TZID=Europe/Budapest:20260428T200000
DTSTAMP:20260420T075456
CREATED:20260213T095523Z
LAST-MODIFIED:20260227T115859Z
UID:10003724-1777402800-1777406400@sport.uni-pannon.hu
SUMMARY:Funkcionális tréning (Nagykanizsa)
DESCRIPTION:Időpont: kedd 19:00-20:00\nHelyszín: 8800 Nagykanizsa Szent Imre u. 5.\nJelentkezés és további információ: https://alairas.sport.uni-pannon.hu/
URL:https://sport.uni-pannon.hu/en/event/funkcionalis-trening/2026-04-28/
LOCATION:Nagykanizsa Szent Imre u. 5.\, Szent Imre u. 5.\, Nagykanizsa\, Zala\, 8800\, Hungary
CATEGORIES:Hallgatói sportkínálat
ATTACH;FMTTYPE=image/jpeg:https://sport.uni-pannon.hu/wp-content/uploads/2026/02/exercise-weights-iron-dumbbell-with-extra-plates-scaled.jpg
END:VEVENT
BEGIN:VEVENT
DTSTART;TZID=Europe/Budapest:20260428T190000
DTEND;TZID=Europe/Budapest:20260428T203000
DTSTAMP:20260420T075456
CREATED:20260217T074253Z
LAST-MODIFIED:20260312T134844Z
UID:10003826-1777402800-1777408200@sport.uni-pannon.hu
SUMMARY:Aikido
DESCRIPTION:Díjhoz kötött \n\nIdőpont: kedd\, csütörtök: 19:00-20:30\nhelyszín: VESC Küzdősport terem (VESC Küzdősport központ\, 8200 Veszprém\, Wartha Vince utca 3. (régi tornászgyakorló))\njelentkezés és további információ: Pál Szilárd +36 30 2270 715
URL:https://sport.uni-pannon.hu/en/event/aikido-2/2026-04-28/
LOCATION:VESC Küzdősport terem\, Wartha Vince utca 3.\, Veszprém\, Veszprém\, 8200\, Hungary
CATEGORIES:Nyilvános sportkínálat
ATTACH;FMTTYPE=image/jpeg:https://sport.uni-pannon.hu/wp-content/uploads/2026/02/aikido.jpg
END:VEVENT
BEGIN:VEVENT
DTSTART;TZID=Europe/Budapest:20260428T190000
DTEND;TZID=Europe/Budapest:20260428T213000
DTSTAMP:20260420T075456
CREATED:20260212T075422Z
LAST-MODIFIED:20260312T142303Z
UID:10001665-1777402800-1777411800@sport.uni-pannon.hu
SUMMARY:Vívás (felnőtt)
DESCRIPTION:Díjhoz kötött\, de térítésmentes egyetemi hallgatók részére.\nHelyszín: Pannon Egyetem\, Testnevelési és Sport Intézet\, Vívóterem (8200 Veszprém\, Egyetem utca 10.)\nJelentkezés és további információ: Imreh László\, laci.imreh@gmail.com\nIdőpontok:\nkedd: 19:00-21:30\ncsütörtök: 19:00-21:30\npéntek: 19:00-21:30
URL:https://sport.uni-pannon.hu/en/event/vivas-felnott/2026-04-28/
LOCATION:Vívóterem\, Egyetem utca 10.\, Veszprém\, Veszprém\, 8200\, Hungary
CATEGORIES:Nyilvános sportkínálat
ATTACH;FMTTYPE=image/jpeg:https://sport.uni-pannon.hu/wp-content/uploads/2026/02/vivas.jpg
END:VEVENT
BEGIN:VEVENT
DTSTART;TZID=Europe/Budapest:20260428T213000
DTEND;TZID=Europe/Budapest:20260428T230000
DTSTAMP:20260420T075456
CREATED:20260213T091105Z
LAST-MODIFIED:20260213T091105Z
UID:10003569-1777411800-1777417200@sport.uni-pannon.hu
SUMMARY:Hallgatói röplabda - kezdő
DESCRIPTION:Időpont: kedd 21:30-23:00\nHelyszín: Veszprém\, Pannon Egyetem\, tornacsarnok\nJelentkezés és további információ: https://alairas.sport.uni-pannon.hu/
URL:https://sport.uni-pannon.hu/en/event/hallgatoi-roplabda-kezdo/2026-04-28/
LOCATION:Tornacsarnok\, Egyetem utca 10.\, Veszprém\, Veszprém\, 8200\, Hungary
CATEGORIES:Hallgatói sportkínálat
ATTACH;FMTTYPE=image/jpeg:https://sport.uni-pannon.hu/wp-content/uploads/2026/02/Z2A9013-scaled.jpg
END:VEVENT
BEGIN:VEVENT
DTSTART;TZID=Europe/Budapest:20260428T213000
DTEND;TZID=Europe/Budapest:20260428T233000
DTSTAMP:20260420T075456
CREATED:20260227T110852Z
LAST-MODIFIED:20260227T110852Z
UID:10003895-1777411800-1777419000@sport.uni-pannon.hu
SUMMARY:Röplabda – Jedlik Ányos Szakkollégium diákja részére
DESCRIPTION:Időpont: kedd 21:30-23:30\nHelyszín: Veszprém\, Pannon Egyetem\, tornacsarnok
URL:https://sport.uni-pannon.hu/en/event/roplabda-jedlik-anyos-szakkollegium-diakja-reszere/2026-04-28/
LOCATION:Pannon Egyetem\, Testnevelési és Sport Intézet\, Egyeten utca 10.\, Veszprém\, Veszprém\, 8200\, Hungary
CATEGORIES:Hallgatói sportkínálat
ATTACH;FMTTYPE=image/jpeg:https://sport.uni-pannon.hu/wp-content/uploads/2026/02/Z2A9013-scaled.jpg
END:VEVENT
BEGIN:VEVENT
DTSTART;TZID=Europe/Budapest:20260429T060000
DTEND;TZID=Europe/Budapest:20260429T073000
DTSTAMP:20260420T075456
CREATED:20260216T105538Z
LAST-MODIFIED:20260312T142438Z
UID:10003410-1777442400-1777447800@sport.uni-pannon.hu
SUMMARY:Vízi evezős edzések - VESC
DESCRIPTION:Időpont: hétfő\, szerda\, péntek: 06:00-07:30\nhétfő\, szerda: 15:30-17:30 (Amennyiben az időjárás nem teszi lehetővé a szabadtéri edzést\, a TSI ergo termében szárazedzés. A délutáni szárazedzések 15:30 helyett csak 16:00 órakor kezdődnek.)\nHelyszín: Veszprém\,\nDíjhoz kötött\, jelentkezés és további információ: szentessy.balazs@uni-pannon.hu
URL:https://sport.uni-pannon.hu/en/event/vizi-evezos-edzesek-vesc-3/2026-04-29/
LOCATION:Veszprém\, Veszprém\, Veszprém\, 8200\, Hungary
CATEGORIES:Nyilvános sportkínálat
ATTACH;FMTTYPE=image/jpeg:https://sport.uni-pannon.hu/wp-content/uploads/2026/02/vizi-evezos-edzes.jpg
END:VEVENT
BEGIN:VEVENT
DTSTART;TZID=Europe/Budapest:20260429T090000
DTEND;TZID=Europe/Budapest:20260429T210000
DTSTAMP:20260420T075456
CREATED:20260212T081547Z
LAST-MODIFIED:20260312T140847Z
UID:10001969-1777453200-1777496400@sport.uni-pannon.hu
SUMMARY:BrickZone-egyetemi konditerem
DESCRIPTION:Időpont:\nHétfő-péntek: 09:00-21:00\nSzombat: 09:00-15:00\nHelyszín: Pannon Egyetem\, Testnevelési és Sport Intézet\, alagsor (8200 Veszprém\, Egyetem utca 10.)
URL:https://sport.uni-pannon.hu/en/event/brickzone-egyetemi-konditerem/2026-04-29/
LOCATION:Pannon Egyetem\, Testnevelési és Sport Intézet\, Egyeten utca 10.\, Veszprém\, Veszprém\, 8200\, Hungary
CATEGORIES:Nyilvános sportkínálat
ATTACH;FMTTYPE=image/jpeg:https://sport.uni-pannon.hu/wp-content/uploads/2026/02/birckzone-konditerem.jpg
END:VEVENT
BEGIN:VEVENT
DTSTART;TZID=Europe/Budapest:20260429T120000
DTEND;TZID=Europe/Budapest:20260429T133000
DTSTAMP:20260420T075456
CREATED:20260212T095644Z
LAST-MODIFIED:20260216T130247Z
UID:10003149-1777464000-1777469400@sport.uni-pannon.hu
SUMMARY:Kondícionáló tréning (hallgatói)
DESCRIPTION:Időpont: szerda 12:00-13:30\nHelyszín: Testnevelési és Sport Intézet\, vívóterem\nTérítésmentes egyetemi hallgatók részére.\nJelentkezés és további információ: https://alairas.sport.uni-pannon.hu/
URL:https://sport.uni-pannon.hu/en/event/kondicionalo-trening-2/2026-04-29/
LOCATION:Vívóterem\, Egyetem utca 10.\, Veszprém\, Veszprém\, 8200\, Hungary
CATEGORIES:Hallgatói sportkínálat
ATTACH;FMTTYPE=image/jpeg:https://sport.uni-pannon.hu/wp-content/uploads/2026/02/IMGL0501-scaled.jpg
END:VEVENT
BEGIN:VEVENT
DTSTART;TZID=Europe/Budapest:20260429T120000
DTEND;TZID=Europe/Budapest:20260429T133000
DTSTAMP:20260420T075456
CREATED:20260213T091220Z
LAST-MODIFIED:20260213T091220Z
UID:10003583-1777464000-1777469400@sport.uni-pannon.hu
SUMMARY:Hallgatói röplabda - haladó
DESCRIPTION:Időpont: szerda: 12:00-13:30\nHelyszín: Veszprém\, Pannon Egyetem\, tornacsarnok\nJelentkezés és további információ: https://alairas.sport.uni-pannon.hu/
URL:https://sport.uni-pannon.hu/en/event/hallgatoi-roplabda-halado/2026-04-29/
LOCATION:Tornacsarnok\, Egyetem utca 10.\, Veszprém\, Veszprém\, 8200\, Hungary
CATEGORIES:Hallgatói sportkínálat
ATTACH;FMTTYPE=image/jpeg:https://sport.uni-pannon.hu/wp-content/uploads/2026/02/Z2A9013-scaled.jpg
END:VEVENT
BEGIN:VEVENT
DTSTART;TZID=Europe/Budapest:20260429T140000
DTEND;TZID=Europe/Budapest:20260429T153000
DTSTAMP:20260420T075456
CREATED:20260212T102440Z
LAST-MODIFIED:20260212T102440Z
UID:10003291-1777471200-1777476600@sport.uni-pannon.hu
SUMMARY:Step aerobic
DESCRIPTION:Időpont: szerda 14:00-15:30\nHelyszín: Testnevelési és Sport Intézet\, vívóterem\nTérítésmentes egyetemi hallgatók részére.\nJelentkezés és további információ: https://alairas.sport.uni-pannon.hu/
URL:https://sport.uni-pannon.hu/en/event/step-aerobic/2026-04-29/
LOCATION:Vívóterem\, Egyetem utca 10.\, Veszprém\, Veszprém\, 8200\, Hungary
CATEGORIES:Hallgatói sportkínálat
ATTACH;FMTTYPE=image/jpeg:https://sport.uni-pannon.hu/wp-content/uploads/2026/02/footwear-opportunity-concept-human-business-scaled.jpg
END:VEVENT
BEGIN:VEVENT
DTSTART;TZID=Europe/Budapest:20260429T153000
DTEND;TZID=Europe/Budapest:20260429T173000
DTSTAMP:20260420T075456
CREATED:20260213T085602Z
LAST-MODIFIED:20260312T142500Z
UID:10003483-1777476600-1777483800@sport.uni-pannon.hu
SUMMARY:Vízi evezős edzések - VESC
DESCRIPTION:Időpont: hétfő\, szerda\, péntek: 06:00-07:30\nhétfő\, szerda: 15:30-17:30 (Amennyiben az időjárás nem teszi lehetővé a szabadtéri edzést\, a TSI ergo termében szárazedzés. A délutáni szárazedzések 15:30 helyett csak 16:00 órakor kezdődnek.)\nHelyszín: Veszprém\,\nDíjhoz kötött\, jelentkezés és további információ: szentessy.balazs@uni-pannon.hu
URL:https://sport.uni-pannon.hu/en/event/vizi-evezos-edzesek-vesc-2/2026-04-29/
LOCATION:Veszprém\, Veszprém\, Veszprém\, 8200\, Hungary
CATEGORIES:Nyilvános sportkínálat
ATTACH;FMTTYPE=image/jpeg:https://sport.uni-pannon.hu/wp-content/uploads/2026/02/vizi-evezos-edzes.jpg
END:VEVENT
BEGIN:VEVENT
DTSTART;TZID=Europe/Budapest:20260429T160000
DTEND;TZID=Europe/Budapest:20260429T173000
DTSTAMP:20260420T075456
CREATED:20260204T112916Z
LAST-MODIFIED:20260219T094419Z
UID:10000146-1777478400-1777483800@sport.uni-pannon.hu
SUMMARY:Kondicionáló tréning (dolgozói)
DESCRIPTION:Az edzések célja\, hogy a szervezet teljesítőképessége nőjön\, és általános fizikai állóképességét javítsa. A kondicionáló edzések különféle mozgásformákat kombinálnak\, beleértve a kardiót\, az erősítést és a nyújtást. Bárki számára hasznos lehet\, aki szeretné növelni fizikai terhelhetőségét és javítani általános közérzetét. Térítésmentes az egyetemi dolgozók részére. \n\nIdőpont: szerda 16:00-17:30\nÓratartó: Tóth Zsuzsa\nHelyszín: Vívóterem\nJelentkezés: toth.zsuzsa@uni-pannon.hu
URL:https://sport.uni-pannon.hu/en/event/kondicionalo-trening/2026-04-29/
LOCATION:Vívóterem\, Egyetem utca 10.\, Veszprém\, Veszprém\, 8200\, Hungary
CATEGORIES:Dolgozói sportkínálat
ATTACH;FMTTYPE=image/jpeg:https://sport.uni-pannon.hu/wp-content/uploads/2026/02/kondi.jpg
ORGANIZER;CN="T%C3%B3th Zsuzsa":MAILTO:toth.zsuzsa@uni-pannon.hu
END:VEVENT
BEGIN:VEVENT
DTSTART;TZID=Europe/Budapest:20260429T160000
DTEND;TZID=Europe/Budapest:20260429T180000
DTSTAMP:20260420T075456
CREATED:20260213T090329Z
LAST-MODIFIED:20260213T090420Z
UID:10003527-1777478400-1777485600@sport.uni-pannon.hu
SUMMARY:Asztalitenisz – VESC
DESCRIPTION:Időpont: szerda 16:00-18:00\nHelyszín: Veszprém\, Pannon Egyetem\, Központi kollégium\nTérítésmentes egyetemi hallgatók részére.\nJelentkezés és további információ: https://alairas.sport.uni-pannon.hu/
URL:https://sport.uni-pannon.hu/en/event/asztalitenisz-vesc/2026-04-29/
LOCATION:Központi Kollégium\, Egyeten utca 12.\, Veszprém\, Veszprém\, 8200\, Hungary
CATEGORIES:Hallgatói sportkínálat
ATTACH;FMTTYPE=image/jpeg:https://sport.uni-pannon.hu/wp-content/uploads/2026/02/Pesthy-Marton-PES_9115-20250916-scaled.jpg
END:VEVENT
BEGIN:VEVENT
DTSTART;TZID=Europe/Budapest:20260429T161500
DTEND;TZID=Europe/Budapest:20260429T171500
DTSTAMP:20260420T075456
CREATED:20260213T091535Z
LAST-MODIFIED:20260213T091535Z
UID:10003611-1777479300-1777482900@sport.uni-pannon.hu
SUMMARY:Hatha jóga
DESCRIPTION:Időpont: szerda 16:15-17:15\nHelyszín: Veszprém\, Pannon Egyetem\, E épület\, Pannon KözTér\nJelentkezés és további információ: https://alairas.sport.uni-pannon.hu/
URL:https://sport.uni-pannon.hu/en/event/hatha-joga/2026-04-29/
LOCATION:Pannon Egyetem\, E épület\, Egyeten utca 10.\, Veszprém\, Veszprém\, 8200\, Hungary
CATEGORIES:Hallgatói sportkínálat
ATTACH;FMTTYPE=image/jpeg:https://sport.uni-pannon.hu/wp-content/uploads/2026/02/group-young-people-balasana-pose-scaled.jpg
END:VEVENT
BEGIN:VEVENT
DTSTART;TZID=Europe/Budapest:20260429T170000
DTEND;TZID=Europe/Budapest:20260429T190000
DTSTAMP:20260420T075456
CREATED:20260212T071721Z
LAST-MODIFIED:20260312T140817Z
UID:10000547-1777482000-1777489200@sport.uni-pannon.hu
SUMMARY:Baranta
DESCRIPTION:Előzetes bejelentkezés alapján! A részvétel díjhoz kötött! \n\nHelyszín: Veszprém\, Kossuth iskola tornaterme\nIdőpont: szerda 17.00-19.00\nBejelentkezés: Fajd Bence\, email: fajdbence[at]gmail.com
URL:https://sport.uni-pannon.hu/en/event/baranta/2026-04-29/
LOCATION:Kossuth iskola tornaterme\, Budapesti út 11.\, Veszprém\, Veszprém\, 8200\, Hungary
CATEGORIES:Nyilvános sportkínálat
ATTACH;FMTTYPE=image/jpeg:https://sport.uni-pannon.hu/wp-content/uploads/2026/02/baranta.jpg
END:VEVENT
BEGIN:VEVENT
DTSTART;TZID=Europe/Budapest:20260429T171500
DTEND;TZID=Europe/Budapest:20260429T181500
DTSTAMP:20260420T075456
CREATED:20260212T072616Z
LAST-MODIFIED:20260227T112116Z
UID:10000741-1777482900-1777486500@sport.uni-pannon.hu
SUMMARY:Thai box/Kick-box
DESCRIPTION:Ár: 2.000Ft/fő/alkalom (diák- és alumni kedvezmény 30%)\, bérlet lehetőségekről további információ telefonon vagy e-mailen elérhető. \n\nHelyszín: Wartha Vince u. 3. VESC Küzdősport központ (régi tornászgyakorló)\nIdőpont: hétfő\, szerda\, péntek: 17:15-18:15\nTovábbi információ: Fontos Tamás\, tamasfontos@gmail.com
URL:https://sport.uni-pannon.hu/en/event/thai-box/2026-04-29/
LOCATION:VESC Küzdősport terem\, Wartha Vince utca 3.\, Veszprém\, Veszprém\, 8200\, Hungary
CATEGORIES:Nyilvános sportkínálat
ATTACH;FMTTYPE=image/jpeg:https://sport.uni-pannon.hu/wp-content/uploads/2026/02/Pesthy-Marton-PES_7142-20250716-scaled.jpg
END:VEVENT
BEGIN:VEVENT
DTSTART;TZID=Europe/Budapest:20260429T180000
DTEND;TZID=Europe/Budapest:20260429T193000
DTSTAMP:20260420T075456
CREATED:20260211T144711Z
LAST-MODIFIED:20260312T140707Z
UID:10000403-1777485600-1777491000@sport.uni-pannon.hu
SUMMARY:Atlétika\, erősítés
DESCRIPTION:Haladó szintű óra. Atletikus alap mozgásra épülő általános képességfejlesztés\, állóképességtől a maximális erőig.\nTagdíj: 8.000 Ft/félév \no    Időpont: hétfő 18:00-19:30\, szerda 18:00-19:30\, péntek 06:00-07:30 \no    Óratartó: Dr. Edvy László \no    Helyszín: Pannon Egyetem\, Testnevelési és Sport Intézet\, (8200 Veszprém\, Egyetem utca 10.) \no    Elérhetőség: edvy.laszlo@uni-pannon.hu
URL:https://sport.uni-pannon.hu/en/event/atletika-erosites/2026-04-29/
LOCATION:Tornacsarnok\, Egyetem utca 10.\, Veszprém\, Veszprém\, 8200\, Hungary
CATEGORIES:Nyilvános sportkínálat
ATTACH;FMTTYPE=image/jpeg:https://sport.uni-pannon.hu/wp-content/uploads/2026/02/atletika-scaled-e1773324367949.jpg
END:VEVENT
BEGIN:VEVENT
DTSTART;TZID=Europe/Budapest:20260429T180000
DTEND;TZID=Europe/Budapest:20260429T200000
DTSTAMP:20260420T075456
CREATED:20260213T091744Z
LAST-MODIFIED:20260213T091744Z
UID:10003625-1777485600-1777492800@sport.uni-pannon.hu
SUMMARY:Salsa/Bachata
DESCRIPTION:Időpont: szerda 18:00-20:00\nHelyszín: Veszprém\, Pannon Egyetem\, vívóterem\nJelentkezés és további információ: https://alairas.sport.uni-pannon.hu/
URL:https://sport.uni-pannon.hu/en/event/salsa-bachata/2026-04-29/
LOCATION:Vívóterem\, Egyetem utca 10.\, Veszprém\, Veszprém\, 8200\, Hungary
CATEGORIES:Hallgatói sportkínálat
ATTACH;FMTTYPE=image/jpeg:https://sport.uni-pannon.hu/wp-content/uploads/2026/02/young-couple-dancing-bachata-scaled.jpg
END:VEVENT
BEGIN:VEVENT
DTSTART;TZID=Europe/Budapest:20260429T183000
DTEND;TZID=Europe/Budapest:20260429T200000
DTSTAMP:20260420T075456
CREATED:20260212T072207Z
LAST-MODIFIED:20260312T141258Z
UID:10000584-1777487400-1777492800@sport.uni-pannon.hu
SUMMARY:Grappling/ földharc
DESCRIPTION:Ár: 2.000Ft/fő/alkalom (diák- és alumni kedvezmény 30%)\, bérlet lehetőségekről további információ telefonon vagy e-mailen elérhető. \n\nHelyszín: Wartha Vince u. 3. VESC Küzdősport központ (régi tornászgyakorló)\nIdőpontok: hétfő\, szerda\, péntek: 18:30-20:00\nTovábbi információ: Fontos Tamás\, tamasfontos@gmail.com
URL:https://sport.uni-pannon.hu/en/event/grappling-foldharc/2026-04-29/
LOCATION:VESC Küzdősport terem\, Wartha Vince utca 3.\, Veszprém\, Veszprém\, 8200\, Hungary
CATEGORIES:Nyilvános sportkínálat
ATTACH;FMTTYPE=image/jpeg:https://sport.uni-pannon.hu/wp-content/uploads/2026/02/grappling-kickbox-okolvivas.jpeg
END:VEVENT
BEGIN:VEVENT
DTSTART;TZID=Europe/Budapest:20260429T183000
DTEND;TZID=Europe/Budapest:20260429T200000
DTSTAMP:20260420T075456
CREATED:20260212T072851Z
LAST-MODIFIED:20260212T072851Z
UID:10001526-1777487400-1777492800@sport.uni-pannon.hu
SUMMARY:Ökölvívás
DESCRIPTION:Ár: 2.000Ft/fő/alkalom (diák- és alumni kedvezmény 30%)\, bérlet lehetőségekről további információ telefonon vagy e-mailen elérhető. \n\nHelyszín: Wartha Vince u. 3. VESC Küzdősport központ (régi tornászgyakorló)\nIdőpont: hétfő\, szerda\, péntek: 18:30-20:00\nTovábbi információ: Fontos Tamás\, tamasfontos@gmail.com
URL:https://sport.uni-pannon.hu/en/event/okolvivas/2026-04-29/
LOCATION:VESC Küzdősport terem\, Wartha Vince utca 3.\, Veszprém\, Veszprém\, 8200\, Hungary
CATEGORIES:Nyilvános sportkínálat
ATTACH;FMTTYPE=image/jpeg:https://sport.uni-pannon.hu/wp-content/uploads/2026/02/KBAL0164.jpg
END:VEVENT
BEGIN:VEVENT
DTSTART;TZID=Europe/Budapest:20260429T184500
DTEND;TZID=Europe/Budapest:20260429T194500
DTSTAMP:20260420T075456
CREATED:20260302T093933Z
LAST-MODIFIED:20260302T093933Z
UID:10003977-1777488300-1777491900@sport.uni-pannon.hu
SUMMARY:Aquafitness
DESCRIPTION:Időpont: hétfő\, szerda 18:45-19:45-ig\nHelyszín: Veszprém Sportuszoda Veszprém\, Külső-Kádártai u. 1/1.\nRészvételi díjhoz kötött.\nJelentkezés és további információ: https://alairas.sport.uni-pannon.hu/
URL:https://sport.uni-pannon.hu/en/event/aquafitness/2026-04-29/
LOCATION:Sportuszoda\, Külső-Kádártai u. 1/1.\, Veszprém\, Veszprém\, 8200
CATEGORIES:Nyilvános sportkínálat
ATTACH;FMTTYPE=image/jpeg:https://sport.uni-pannon.hu/wp-content/uploads/2026/03/blonde-swimmer-stretching-back-shot-scaled.jpg
END:VEVENT
BEGIN:VEVENT
DTSTART;TZID=Europe/Budapest:20260429T190000
DTEND;TZID=Europe/Budapest:20260429T200000
DTSTAMP:20260420T075456
CREATED:20260216T133339Z
LAST-MODIFIED:20260312T141653Z
UID:10003813-1777489200-1777492800@sport.uni-pannon.hu
SUMMARY:Shotokan karate
DESCRIPTION:Időpont: hétfő: 18:00-19:00\, szerda: 19:00-20:00\nHelyszín: Veszprém\, Acticity (Hóvirág utca 1.) \nTérítésmentes egyetemi hallgatók részére.\nDíjhoz kötött\, jelentkezés és további információ: Nagy Lóránt info: lorantster@gmail.com\, +36702016810.
URL:https://sport.uni-pannon.hu/en/event/shotokan-karate/2026-04-29/
LOCATION:Acticity\, Hóvirág utca 1.\, Veszprém\, Veszprém\, 8200\, Hungary
CATEGORIES:Hallgatói sportkínálat
ATTACH;FMTTYPE=image/jpeg:https://sport.uni-pannon.hu/wp-content/uploads/2026/02/shotokan-karate-e1773325001550.jpg
END:VEVENT
END:VCALENDAR