BEGIN:VCALENDAR
VERSION:2.0
PRODID:-//Sport Éve 2026 - ECPv6.15.20//NONSGML v1.0//EN
CALSCALE:GREGORIAN
METHOD:PUBLISH
X-ORIGINAL-URL:https://sport.uni-pannon.hu
X-WR-CALDESC:Események Sport Éve 2026
REFRESH-INTERVAL;VALUE=DURATION:PT1H
X-Robots-Tag:noindex
X-PUBLISHED-TTL:PT1H
BEGIN:VTIMEZONE
TZID:Europe/Budapest
BEGIN:DAYLIGHT
TZOFFSETFROM:+0100
TZOFFSETTO:+0200
TZNAME:CEST
DTSTART:20250330T010000
END:DAYLIGHT
BEGIN:STANDARD
TZOFFSETFROM:+0200
TZOFFSETTO:+0100
TZNAME:CET
DTSTART:20251026T010000
END:STANDARD
BEGIN:DAYLIGHT
TZOFFSETFROM:+0100
TZOFFSETTO:+0200
TZNAME:CEST
DTSTART:20260329T010000
END:DAYLIGHT
BEGIN:STANDARD
TZOFFSETFROM:+0200
TZOFFSETTO:+0100
TZNAME:CET
DTSTART:20261025T010000
END:STANDARD
BEGIN:DAYLIGHT
TZOFFSETFROM:+0100
TZOFFSETTO:+0200
TZNAME:CEST
DTSTART:20270328T010000
END:DAYLIGHT
BEGIN:STANDARD
TZOFFSETFROM:+0200
TZOFFSETTO:+0100
TZNAME:CET
DTSTART:20271031T010000
END:STANDARD
END:VTIMEZONE
BEGIN:VEVENT
DTSTART;VALUE=DATE:20260315
DTEND;VALUE=DATE:20260316
DTSTAMP:20260420T171724
CREATED:20260218T084731Z
LAST-MODIFIED:20260218T084731Z
UID:10003839-1773532800-1773619199@sport.uni-pannon.hu
SUMMARY:Evezzünk egy csapatban: vállalati csapatépítő evezős programok (TSI\,VESC)
DESCRIPTION:
URL:https://sport.uni-pannon.hu/event/evezzunk-egy-csapatban-vallalati-csapatepito-evezos-programok-tsivesc/
LOCATION:Veszprém
ATTACH;FMTTYPE=image/jpeg:https://sport.uni-pannon.hu/wp-content/uploads/2026/02/529973522_752427940873730_7710527099784328012_n.jpg
END:VEVENT
END:VCALENDAR