BEGIN:VCALENDAR
VERSION:2.0
PRODID:-//Sport Éve 2026 - ECPv6.15.20//NONSGML v1.0//EN
CALSCALE:GREGORIAN
METHOD:PUBLISH
X-WR-CALNAME:Sport Éve 2026
X-ORIGINAL-URL:https://sport.uni-pannon.hu
X-WR-CALDESC:Események Sport Éve 2026
REFRESH-INTERVAL;VALUE=DURATION:PT1H
X-Robots-Tag:noindex
X-PUBLISHED-TTL:PT1H
BEGIN:VTIMEZONE
TZID:Europe/Budapest
BEGIN:DAYLIGHT
TZOFFSETFROM:+0100
TZOFFSETTO:+0200
TZNAME:CEST
DTSTART:20250330T010000
END:DAYLIGHT
BEGIN:STANDARD
TZOFFSETFROM:+0200
TZOFFSETTO:+0100
TZNAME:CET
DTSTART:20251026T010000
END:STANDARD
BEGIN:DAYLIGHT
TZOFFSETFROM:+0100
TZOFFSETTO:+0200
TZNAME:CEST
DTSTART:20260329T010000
END:DAYLIGHT
BEGIN:STANDARD
TZOFFSETFROM:+0200
TZOFFSETTO:+0100
TZNAME:CET
DTSTART:20261025T010000
END:STANDARD
BEGIN:DAYLIGHT
TZOFFSETFROM:+0100
TZOFFSETTO:+0200
TZNAME:CEST
DTSTART:20270328T010000
END:DAYLIGHT
BEGIN:STANDARD
TZOFFSETFROM:+0200
TZOFFSETTO:+0100
TZNAME:CET
DTSTART:20271031T010000
END:STANDARD
END:VTIMEZONE
BEGIN:VEVENT
DTSTART;TZID=Europe/Budapest:20260209T183000
DTEND;TZID=Europe/Budapest:20260209T200000
DTSTAMP:20260420T153032
CREATED:20260212T072851Z
LAST-MODIFIED:20260212T072851Z
UID:10001492-1770661800-1770667200@sport.uni-pannon.hu
SUMMARY:Ökölvívás
DESCRIPTION:Ár: 2.000Ft/fő/alkalom (diák- és alumni kedvezmény 30%)\, bérlet lehetőségekről további információ telefonon vagy e-mailen elérhető. \n\nHelyszín: Wartha Vince u. 3. VESC Küzdősport központ (régi tornászgyakorló)\nIdőpont: hétfő\, szerda\, péntek: 18:30-20:00\nTovábbi információ: Fontos Tamás\, tamasfontos@gmail.com
URL:https://sport.uni-pannon.hu/event/okolvivas/2026-02-09/
LOCATION:VESC Küzdősport terem\, Wartha Vince utca 3.\, Veszprém\, Veszprém\, 8200\, Hungary
CATEGORIES:Nyilvános sportkínálat
ATTACH;FMTTYPE=image/jpeg:https://sport.uni-pannon.hu/wp-content/uploads/2026/02/KBAL0164.jpg
END:VEVENT
BEGIN:VEVENT
DTSTART;TZID=Europe/Budapest:20260210T173000
DTEND;TZID=Europe/Budapest:20260210T190000
DTSTAMP:20260420T153033
CREATED:20260212T075320Z
LAST-MODIFIED:20260312T142336Z
UID:10001548-1770744600-1770750000@sport.uni-pannon.hu
SUMMARY:Vívás (utánpótlás)
DESCRIPTION:Díjhoz kötött\, de térítésmentes egyetemi hallgatók részére.\nHelyszín: Pannon Egyetem\, Testnevelési és Sport Intézet\, Vívóterem (8200 Veszprém\, Egyetem utca 10.)\nJelentkezés és további információ: Imreh László\, laci.imreh@gmail.com\nIdőpontok:\nkedd: 17:30-19:00\ncsütörtök: 17:00-19:00\npéntek: 17:00-19:00
URL:https://sport.uni-pannon.hu/event/vivas-utanpotlas/2026-02-10/
LOCATION:Vívóterem\, Egyetem utca 10.\, Veszprém\, Veszprém\, 8200\, Hungary
CATEGORIES:Nyilvános sportkínálat
ATTACH;FMTTYPE=image/jpeg:https://sport.uni-pannon.hu/wp-content/uploads/2026/02/vivas-1.jpg
END:VEVENT
BEGIN:VEVENT
DTSTART;TZID=Europe/Budapest:20260210T190000
DTEND;TZID=Europe/Budapest:20260210T213000
DTSTAMP:20260420T153033
CREATED:20260212T075422Z
LAST-MODIFIED:20260312T142303Z
UID:10001632-1770750000-1770759000@sport.uni-pannon.hu
SUMMARY:Vívás (felnőtt)
DESCRIPTION:Díjhoz kötött\, de térítésmentes egyetemi hallgatók részére.\nHelyszín: Pannon Egyetem\, Testnevelési és Sport Intézet\, Vívóterem (8200 Veszprém\, Egyetem utca 10.)\nJelentkezés és további információ: Imreh László\, laci.imreh@gmail.com\nIdőpontok:\nkedd: 19:00-21:30\ncsütörtök: 19:00-21:30\npéntek: 19:00-21:30
URL:https://sport.uni-pannon.hu/event/vivas-felnott/2026-02-10/
LOCATION:Vívóterem\, Egyetem utca 10.\, Veszprém\, Veszprém\, 8200\, Hungary
CATEGORIES:Nyilvános sportkínálat
ATTACH;FMTTYPE=image/jpeg:https://sport.uni-pannon.hu/wp-content/uploads/2026/02/vivas.jpg
END:VEVENT
BEGIN:VEVENT
DTSTART;TZID=Europe/Budapest:20260211T183000
DTEND;TZID=Europe/Budapest:20260211T200000
DTSTAMP:20260420T153033
CREATED:20260212T072851Z
LAST-MODIFIED:20260212T072851Z
UID:10001493-1770834600-1770840000@sport.uni-pannon.hu
SUMMARY:Ökölvívás
DESCRIPTION:Ár: 2.000Ft/fő/alkalom (diák- és alumni kedvezmény 30%)\, bérlet lehetőségekről további információ telefonon vagy e-mailen elérhető. \n\nHelyszín: Wartha Vince u. 3. VESC Küzdősport központ (régi tornászgyakorló)\nIdőpont: hétfő\, szerda\, péntek: 18:30-20:00\nTovábbi információ: Fontos Tamás\, tamasfontos@gmail.com
URL:https://sport.uni-pannon.hu/event/okolvivas/2026-02-11/
LOCATION:VESC Küzdősport terem\, Wartha Vince utca 3.\, Veszprém\, Veszprém\, 8200\, Hungary
CATEGORIES:Nyilvános sportkínálat
ATTACH;FMTTYPE=image/jpeg:https://sport.uni-pannon.hu/wp-content/uploads/2026/02/KBAL0164.jpg
END:VEVENT
BEGIN:VEVENT
DTSTART;TZID=Europe/Budapest:20260212T173000
DTEND;TZID=Europe/Budapest:20260212T190000
DTSTAMP:20260420T153033
CREATED:20260212T075320Z
LAST-MODIFIED:20260312T142336Z
UID:10001549-1770917400-1770922800@sport.uni-pannon.hu
SUMMARY:Vívás (utánpótlás)
DESCRIPTION:Díjhoz kötött\, de térítésmentes egyetemi hallgatók részére.\nHelyszín: Pannon Egyetem\, Testnevelési és Sport Intézet\, Vívóterem (8200 Veszprém\, Egyetem utca 10.)\nJelentkezés és további információ: Imreh László\, laci.imreh@gmail.com\nIdőpontok:\nkedd: 17:30-19:00\ncsütörtök: 17:00-19:00\npéntek: 17:00-19:00
URL:https://sport.uni-pannon.hu/event/vivas-utanpotlas/2026-02-12/
LOCATION:Vívóterem\, Egyetem utca 10.\, Veszprém\, Veszprém\, 8200\, Hungary
CATEGORIES:Nyilvános sportkínálat
ATTACH;FMTTYPE=image/jpeg:https://sport.uni-pannon.hu/wp-content/uploads/2026/02/vivas-1.jpg
END:VEVENT
BEGIN:VEVENT
DTSTART;TZID=Europe/Budapest:20260212T190000
DTEND;TZID=Europe/Budapest:20260212T213000
DTSTAMP:20260420T153033
CREATED:20260212T075422Z
LAST-MODIFIED:20260312T142303Z
UID:10001633-1770922800-1770931800@sport.uni-pannon.hu
SUMMARY:Vívás (felnőtt)
DESCRIPTION:Díjhoz kötött\, de térítésmentes egyetemi hallgatók részére.\nHelyszín: Pannon Egyetem\, Testnevelési és Sport Intézet\, Vívóterem (8200 Veszprém\, Egyetem utca 10.)\nJelentkezés és további információ: Imreh László\, laci.imreh@gmail.com\nIdőpontok:\nkedd: 19:00-21:30\ncsütörtök: 19:00-21:30\npéntek: 19:00-21:30
URL:https://sport.uni-pannon.hu/event/vivas-felnott/2026-02-12/
LOCATION:Vívóterem\, Egyetem utca 10.\, Veszprém\, Veszprém\, 8200\, Hungary
CATEGORIES:Nyilvános sportkínálat
ATTACH;FMTTYPE=image/jpeg:https://sport.uni-pannon.hu/wp-content/uploads/2026/02/vivas.jpg
END:VEVENT
BEGIN:VEVENT
DTSTART;TZID=Europe/Budapest:20260213T173000
DTEND;TZID=Europe/Budapest:20260213T190000
DTSTAMP:20260420T153033
CREATED:20260212T075320Z
LAST-MODIFIED:20260312T142336Z
UID:10001550-1771003800-1771009200@sport.uni-pannon.hu
SUMMARY:Vívás (utánpótlás)
DESCRIPTION:Díjhoz kötött\, de térítésmentes egyetemi hallgatók részére.\nHelyszín: Pannon Egyetem\, Testnevelési és Sport Intézet\, Vívóterem (8200 Veszprém\, Egyetem utca 10.)\nJelentkezés és további információ: Imreh László\, laci.imreh@gmail.com\nIdőpontok:\nkedd: 17:30-19:00\ncsütörtök: 17:00-19:00\npéntek: 17:00-19:00
URL:https://sport.uni-pannon.hu/event/vivas-utanpotlas/2026-02-13/
LOCATION:Vívóterem\, Egyetem utca 10.\, Veszprém\, Veszprém\, 8200\, Hungary
CATEGORIES:Nyilvános sportkínálat
ATTACH;FMTTYPE=image/jpeg:https://sport.uni-pannon.hu/wp-content/uploads/2026/02/vivas-1.jpg
END:VEVENT
BEGIN:VEVENT
DTSTART;TZID=Europe/Budapest:20260213T183000
DTEND;TZID=Europe/Budapest:20260213T200000
DTSTAMP:20260420T153033
CREATED:20260212T072851Z
LAST-MODIFIED:20260212T072851Z
UID:10001494-1771007400-1771012800@sport.uni-pannon.hu
SUMMARY:Ökölvívás
DESCRIPTION:Ár: 2.000Ft/fő/alkalom (diák- és alumni kedvezmény 30%)\, bérlet lehetőségekről további információ telefonon vagy e-mailen elérhető. \n\nHelyszín: Wartha Vince u. 3. VESC Küzdősport központ (régi tornászgyakorló)\nIdőpont: hétfő\, szerda\, péntek: 18:30-20:00\nTovábbi információ: Fontos Tamás\, tamasfontos@gmail.com
URL:https://sport.uni-pannon.hu/event/okolvivas/2026-02-13/
LOCATION:VESC Küzdősport terem\, Wartha Vince utca 3.\, Veszprém\, Veszprém\, 8200\, Hungary
CATEGORIES:Nyilvános sportkínálat
ATTACH;FMTTYPE=image/jpeg:https://sport.uni-pannon.hu/wp-content/uploads/2026/02/KBAL0164.jpg
END:VEVENT
BEGIN:VEVENT
DTSTART;TZID=Europe/Budapest:20260213T190000
DTEND;TZID=Europe/Budapest:20260213T213000
DTSTAMP:20260420T153033
CREATED:20260212T075422Z
LAST-MODIFIED:20260312T142303Z
UID:10001634-1771009200-1771018200@sport.uni-pannon.hu
SUMMARY:Vívás (felnőtt)
DESCRIPTION:Díjhoz kötött\, de térítésmentes egyetemi hallgatók részére.\nHelyszín: Pannon Egyetem\, Testnevelési és Sport Intézet\, Vívóterem (8200 Veszprém\, Egyetem utca 10.)\nJelentkezés és további információ: Imreh László\, laci.imreh@gmail.com\nIdőpontok:\nkedd: 19:00-21:30\ncsütörtök: 19:00-21:30\npéntek: 19:00-21:30
URL:https://sport.uni-pannon.hu/event/vivas-felnott/2026-02-13/
LOCATION:Vívóterem\, Egyetem utca 10.\, Veszprém\, Veszprém\, 8200\, Hungary
CATEGORIES:Nyilvános sportkínálat
ATTACH;FMTTYPE=image/jpeg:https://sport.uni-pannon.hu/wp-content/uploads/2026/02/vivas.jpg
END:VEVENT
BEGIN:VEVENT
DTSTART;TZID=Europe/Budapest:20260216T183000
DTEND;TZID=Europe/Budapest:20260216T200000
DTSTAMP:20260420T153033
CREATED:20260212T072851Z
LAST-MODIFIED:20260212T072851Z
UID:10001495-1771266600-1771272000@sport.uni-pannon.hu
SUMMARY:Ökölvívás
DESCRIPTION:Ár: 2.000Ft/fő/alkalom (diák- és alumni kedvezmény 30%)\, bérlet lehetőségekről további információ telefonon vagy e-mailen elérhető. \n\nHelyszín: Wartha Vince u. 3. VESC Küzdősport központ (régi tornászgyakorló)\nIdőpont: hétfő\, szerda\, péntek: 18:30-20:00\nTovábbi információ: Fontos Tamás\, tamasfontos@gmail.com
URL:https://sport.uni-pannon.hu/event/okolvivas/2026-02-16/
LOCATION:VESC Küzdősport terem\, Wartha Vince utca 3.\, Veszprém\, Veszprém\, 8200\, Hungary
CATEGORIES:Nyilvános sportkínálat
ATTACH;FMTTYPE=image/jpeg:https://sport.uni-pannon.hu/wp-content/uploads/2026/02/KBAL0164.jpg
END:VEVENT
BEGIN:VEVENT
DTSTART;TZID=Europe/Budapest:20260218T183000
DTEND;TZID=Europe/Budapest:20260218T200000
DTSTAMP:20260420T153033
CREATED:20260212T072851Z
LAST-MODIFIED:20260212T072851Z
UID:10001496-1771439400-1771444800@sport.uni-pannon.hu
SUMMARY:Ökölvívás
DESCRIPTION:Ár: 2.000Ft/fő/alkalom (diák- és alumni kedvezmény 30%)\, bérlet lehetőségekről további információ telefonon vagy e-mailen elérhető. \n\nHelyszín: Wartha Vince u. 3. VESC Küzdősport központ (régi tornászgyakorló)\nIdőpont: hétfő\, szerda\, péntek: 18:30-20:00\nTovábbi információ: Fontos Tamás\, tamasfontos@gmail.com
URL:https://sport.uni-pannon.hu/event/okolvivas/2026-02-18/
LOCATION:VESC Küzdősport terem\, Wartha Vince utca 3.\, Veszprém\, Veszprém\, 8200\, Hungary
CATEGORIES:Nyilvános sportkínálat
ATTACH;FMTTYPE=image/jpeg:https://sport.uni-pannon.hu/wp-content/uploads/2026/02/KBAL0164.jpg
END:VEVENT
BEGIN:VEVENT
DTSTART;TZID=Europe/Budapest:20260219T173000
DTEND;TZID=Europe/Budapest:20260219T190000
DTSTAMP:20260420T153033
CREATED:20260212T075320Z
LAST-MODIFIED:20260312T142336Z
UID:10001552-1771522200-1771527600@sport.uni-pannon.hu
SUMMARY:Vívás (utánpótlás)
DESCRIPTION:Díjhoz kötött\, de térítésmentes egyetemi hallgatók részére.\nHelyszín: Pannon Egyetem\, Testnevelési és Sport Intézet\, Vívóterem (8200 Veszprém\, Egyetem utca 10.)\nJelentkezés és további információ: Imreh László\, laci.imreh@gmail.com\nIdőpontok:\nkedd: 17:30-19:00\ncsütörtök: 17:00-19:00\npéntek: 17:00-19:00
URL:https://sport.uni-pannon.hu/event/vivas-utanpotlas/2026-02-19/
LOCATION:Vívóterem\, Egyetem utca 10.\, Veszprém\, Veszprém\, 8200\, Hungary
CATEGORIES:Nyilvános sportkínálat
ATTACH;FMTTYPE=image/jpeg:https://sport.uni-pannon.hu/wp-content/uploads/2026/02/vivas-1.jpg
END:VEVENT
BEGIN:VEVENT
DTSTART;TZID=Europe/Budapest:20260219T190000
DTEND;TZID=Europe/Budapest:20260219T213000
DTSTAMP:20260420T153033
CREATED:20260212T075422Z
LAST-MODIFIED:20260312T142303Z
UID:10001636-1771527600-1771536600@sport.uni-pannon.hu
SUMMARY:Vívás (felnőtt)
DESCRIPTION:Díjhoz kötött\, de térítésmentes egyetemi hallgatók részére.\nHelyszín: Pannon Egyetem\, Testnevelési és Sport Intézet\, Vívóterem (8200 Veszprém\, Egyetem utca 10.)\nJelentkezés és további információ: Imreh László\, laci.imreh@gmail.com\nIdőpontok:\nkedd: 19:00-21:30\ncsütörtök: 19:00-21:30\npéntek: 19:00-21:30
URL:https://sport.uni-pannon.hu/event/vivas-felnott/2026-02-19/
LOCATION:Vívóterem\, Egyetem utca 10.\, Veszprém\, Veszprém\, 8200\, Hungary
CATEGORIES:Nyilvános sportkínálat
ATTACH;FMTTYPE=image/jpeg:https://sport.uni-pannon.hu/wp-content/uploads/2026/02/vivas.jpg
END:VEVENT
BEGIN:VEVENT
DTSTART;TZID=Europe/Budapest:20260220T173000
DTEND;TZID=Europe/Budapest:20260220T190000
DTSTAMP:20260420T153033
CREATED:20260212T075320Z
LAST-MODIFIED:20260312T142336Z
UID:10001553-1771608600-1771614000@sport.uni-pannon.hu
SUMMARY:Vívás (utánpótlás)
DESCRIPTION:Díjhoz kötött\, de térítésmentes egyetemi hallgatók részére.\nHelyszín: Pannon Egyetem\, Testnevelési és Sport Intézet\, Vívóterem (8200 Veszprém\, Egyetem utca 10.)\nJelentkezés és további információ: Imreh László\, laci.imreh@gmail.com\nIdőpontok:\nkedd: 17:30-19:00\ncsütörtök: 17:00-19:00\npéntek: 17:00-19:00
URL:https://sport.uni-pannon.hu/event/vivas-utanpotlas/2026-02-20/
LOCATION:Vívóterem\, Egyetem utca 10.\, Veszprém\, Veszprém\, 8200\, Hungary
CATEGORIES:Nyilvános sportkínálat
ATTACH;FMTTYPE=image/jpeg:https://sport.uni-pannon.hu/wp-content/uploads/2026/02/vivas-1.jpg
END:VEVENT
BEGIN:VEVENT
DTSTART;TZID=Europe/Budapest:20260220T183000
DTEND;TZID=Europe/Budapest:20260220T200000
DTSTAMP:20260420T153033
CREATED:20260212T072851Z
LAST-MODIFIED:20260212T072851Z
UID:10001497-1771612200-1771617600@sport.uni-pannon.hu
SUMMARY:Ökölvívás
DESCRIPTION:Ár: 2.000Ft/fő/alkalom (diák- és alumni kedvezmény 30%)\, bérlet lehetőségekről további információ telefonon vagy e-mailen elérhető. \n\nHelyszín: Wartha Vince u. 3. VESC Küzdősport központ (régi tornászgyakorló)\nIdőpont: hétfő\, szerda\, péntek: 18:30-20:00\nTovábbi információ: Fontos Tamás\, tamasfontos@gmail.com
URL:https://sport.uni-pannon.hu/event/okolvivas/2026-02-20/
LOCATION:VESC Küzdősport terem\, Wartha Vince utca 3.\, Veszprém\, Veszprém\, 8200\, Hungary
CATEGORIES:Nyilvános sportkínálat
ATTACH;FMTTYPE=image/jpeg:https://sport.uni-pannon.hu/wp-content/uploads/2026/02/KBAL0164.jpg
END:VEVENT
BEGIN:VEVENT
DTSTART;TZID=Europe/Budapest:20260220T190000
DTEND;TZID=Europe/Budapest:20260220T213000
DTSTAMP:20260420T153033
CREATED:20260212T075422Z
LAST-MODIFIED:20260312T142303Z
UID:10001637-1771614000-1771623000@sport.uni-pannon.hu
SUMMARY:Vívás (felnőtt)
DESCRIPTION:Díjhoz kötött\, de térítésmentes egyetemi hallgatók részére.\nHelyszín: Pannon Egyetem\, Testnevelési és Sport Intézet\, Vívóterem (8200 Veszprém\, Egyetem utca 10.)\nJelentkezés és további információ: Imreh László\, laci.imreh@gmail.com\nIdőpontok:\nkedd: 19:00-21:30\ncsütörtök: 19:00-21:30\npéntek: 19:00-21:30
URL:https://sport.uni-pannon.hu/event/vivas-felnott/2026-02-20/
LOCATION:Vívóterem\, Egyetem utca 10.\, Veszprém\, Veszprém\, 8200\, Hungary
CATEGORIES:Nyilvános sportkínálat
ATTACH;FMTTYPE=image/jpeg:https://sport.uni-pannon.hu/wp-content/uploads/2026/02/vivas.jpg
END:VEVENT
BEGIN:VEVENT
DTSTART;TZID=Europe/Budapest:20260223T183000
DTEND;TZID=Europe/Budapest:20260223T200000
DTSTAMP:20260420T153033
CREATED:20260212T072851Z
LAST-MODIFIED:20260212T072851Z
UID:10001498-1771871400-1771876800@sport.uni-pannon.hu
SUMMARY:Ökölvívás
DESCRIPTION:Ár: 2.000Ft/fő/alkalom (diák- és alumni kedvezmény 30%)\, bérlet lehetőségekről további információ telefonon vagy e-mailen elérhető. \n\nHelyszín: Wartha Vince u. 3. VESC Küzdősport központ (régi tornászgyakorló)\nIdőpont: hétfő\, szerda\, péntek: 18:30-20:00\nTovábbi információ: Fontos Tamás\, tamasfontos@gmail.com
URL:https://sport.uni-pannon.hu/event/okolvivas/2026-02-23/
LOCATION:VESC Küzdősport terem\, Wartha Vince utca 3.\, Veszprém\, Veszprém\, 8200\, Hungary
CATEGORIES:Nyilvános sportkínálat
ATTACH;FMTTYPE=image/jpeg:https://sport.uni-pannon.hu/wp-content/uploads/2026/02/KBAL0164.jpg
END:VEVENT
BEGIN:VEVENT
DTSTART;TZID=Europe/Budapest:20260225T183000
DTEND;TZID=Europe/Budapest:20260225T200000
DTSTAMP:20260420T153033
CREATED:20260212T072851Z
LAST-MODIFIED:20260212T072851Z
UID:10001499-1772044200-1772049600@sport.uni-pannon.hu
SUMMARY:Ökölvívás
DESCRIPTION:Ár: 2.000Ft/fő/alkalom (diák- és alumni kedvezmény 30%)\, bérlet lehetőségekről további információ telefonon vagy e-mailen elérhető. \n\nHelyszín: Wartha Vince u. 3. VESC Küzdősport központ (régi tornászgyakorló)\nIdőpont: hétfő\, szerda\, péntek: 18:30-20:00\nTovábbi információ: Fontos Tamás\, tamasfontos@gmail.com
URL:https://sport.uni-pannon.hu/event/okolvivas/2026-02-25/
LOCATION:VESC Küzdősport terem\, Wartha Vince utca 3.\, Veszprém\, Veszprém\, 8200\, Hungary
CATEGORIES:Nyilvános sportkínálat
ATTACH;FMTTYPE=image/jpeg:https://sport.uni-pannon.hu/wp-content/uploads/2026/02/KBAL0164.jpg
END:VEVENT
BEGIN:VEVENT
DTSTART;TZID=Europe/Budapest:20260226T173000
DTEND;TZID=Europe/Budapest:20260226T190000
DTSTAMP:20260420T153033
CREATED:20260212T075320Z
LAST-MODIFIED:20260312T142336Z
UID:10001555-1772127000-1772132400@sport.uni-pannon.hu
SUMMARY:Vívás (utánpótlás)
DESCRIPTION:Díjhoz kötött\, de térítésmentes egyetemi hallgatók részére.\nHelyszín: Pannon Egyetem\, Testnevelési és Sport Intézet\, Vívóterem (8200 Veszprém\, Egyetem utca 10.)\nJelentkezés és további információ: Imreh László\, laci.imreh@gmail.com\nIdőpontok:\nkedd: 17:30-19:00\ncsütörtök: 17:00-19:00\npéntek: 17:00-19:00
URL:https://sport.uni-pannon.hu/event/vivas-utanpotlas/2026-02-26/
LOCATION:Vívóterem\, Egyetem utca 10.\, Veszprém\, Veszprém\, 8200\, Hungary
CATEGORIES:Nyilvános sportkínálat
ATTACH;FMTTYPE=image/jpeg:https://sport.uni-pannon.hu/wp-content/uploads/2026/02/vivas-1.jpg
END:VEVENT
BEGIN:VEVENT
DTSTART;TZID=Europe/Budapest:20260226T190000
DTEND;TZID=Europe/Budapest:20260226T213000
DTSTAMP:20260420T153033
CREATED:20260212T075422Z
LAST-MODIFIED:20260312T142303Z
UID:10001639-1772132400-1772141400@sport.uni-pannon.hu
SUMMARY:Vívás (felnőtt)
DESCRIPTION:Díjhoz kötött\, de térítésmentes egyetemi hallgatók részére.\nHelyszín: Pannon Egyetem\, Testnevelési és Sport Intézet\, Vívóterem (8200 Veszprém\, Egyetem utca 10.)\nJelentkezés és további információ: Imreh László\, laci.imreh@gmail.com\nIdőpontok:\nkedd: 19:00-21:30\ncsütörtök: 19:00-21:30\npéntek: 19:00-21:30
URL:https://sport.uni-pannon.hu/event/vivas-felnott/2026-02-26/
LOCATION:Vívóterem\, Egyetem utca 10.\, Veszprém\, Veszprém\, 8200\, Hungary
CATEGORIES:Nyilvános sportkínálat
ATTACH;FMTTYPE=image/jpeg:https://sport.uni-pannon.hu/wp-content/uploads/2026/02/vivas.jpg
END:VEVENT
BEGIN:VEVENT
DTSTART;TZID=Europe/Budapest:20260227T173000
DTEND;TZID=Europe/Budapest:20260227T190000
DTSTAMP:20260420T153033
CREATED:20260212T075320Z
LAST-MODIFIED:20260312T142336Z
UID:10001556-1772213400-1772218800@sport.uni-pannon.hu
SUMMARY:Vívás (utánpótlás)
DESCRIPTION:Díjhoz kötött\, de térítésmentes egyetemi hallgatók részére.\nHelyszín: Pannon Egyetem\, Testnevelési és Sport Intézet\, Vívóterem (8200 Veszprém\, Egyetem utca 10.)\nJelentkezés és további információ: Imreh László\, laci.imreh@gmail.com\nIdőpontok:\nkedd: 17:30-19:00\ncsütörtök: 17:00-19:00\npéntek: 17:00-19:00
URL:https://sport.uni-pannon.hu/event/vivas-utanpotlas/2026-02-27/
LOCATION:Vívóterem\, Egyetem utca 10.\, Veszprém\, Veszprém\, 8200\, Hungary
CATEGORIES:Nyilvános sportkínálat
ATTACH;FMTTYPE=image/jpeg:https://sport.uni-pannon.hu/wp-content/uploads/2026/02/vivas-1.jpg
END:VEVENT
BEGIN:VEVENT
DTSTART;TZID=Europe/Budapest:20260227T183000
DTEND;TZID=Europe/Budapest:20260227T200000
DTSTAMP:20260420T153033
CREATED:20260212T072851Z
LAST-MODIFIED:20260212T072851Z
UID:10001500-1772217000-1772222400@sport.uni-pannon.hu
SUMMARY:Ökölvívás
DESCRIPTION:Ár: 2.000Ft/fő/alkalom (diák- és alumni kedvezmény 30%)\, bérlet lehetőségekről további információ telefonon vagy e-mailen elérhető. \n\nHelyszín: Wartha Vince u. 3. VESC Küzdősport központ (régi tornászgyakorló)\nIdőpont: hétfő\, szerda\, péntek: 18:30-20:00\nTovábbi információ: Fontos Tamás\, tamasfontos@gmail.com
URL:https://sport.uni-pannon.hu/event/okolvivas/2026-02-27/
LOCATION:VESC Küzdősport terem\, Wartha Vince utca 3.\, Veszprém\, Veszprém\, 8200\, Hungary
CATEGORIES:Nyilvános sportkínálat
ATTACH;FMTTYPE=image/jpeg:https://sport.uni-pannon.hu/wp-content/uploads/2026/02/KBAL0164.jpg
END:VEVENT
BEGIN:VEVENT
DTSTART;TZID=Europe/Budapest:20260227T190000
DTEND;TZID=Europe/Budapest:20260227T213000
DTSTAMP:20260420T153033
CREATED:20260212T075422Z
LAST-MODIFIED:20260312T142303Z
UID:10001640-1772218800-1772227800@sport.uni-pannon.hu
SUMMARY:Vívás (felnőtt)
DESCRIPTION:Díjhoz kötött\, de térítésmentes egyetemi hallgatók részére.\nHelyszín: Pannon Egyetem\, Testnevelési és Sport Intézet\, Vívóterem (8200 Veszprém\, Egyetem utca 10.)\nJelentkezés és további információ: Imreh László\, laci.imreh@gmail.com\nIdőpontok:\nkedd: 19:00-21:30\ncsütörtök: 19:00-21:30\npéntek: 19:00-21:30
URL:https://sport.uni-pannon.hu/event/vivas-felnott/2026-02-27/
LOCATION:Vívóterem\, Egyetem utca 10.\, Veszprém\, Veszprém\, 8200\, Hungary
CATEGORIES:Nyilvános sportkínálat
ATTACH;FMTTYPE=image/jpeg:https://sport.uni-pannon.hu/wp-content/uploads/2026/02/vivas.jpg
END:VEVENT
END:VCALENDAR