BEGIN:VCALENDAR
VERSION:2.0
PRODID:-//Sport Éve 2026 - ECPv6.15.20//NONSGML v1.0//EN
CALSCALE:GREGORIAN
METHOD:PUBLISH
X-WR-CALNAME:Sport Éve 2026
X-ORIGINAL-URL:https://sport.uni-pannon.hu
X-WR-CALDESC:Események Sport Éve 2026
REFRESH-INTERVAL;VALUE=DURATION:PT1H
X-Robots-Tag:noindex
X-PUBLISHED-TTL:PT1H
BEGIN:VTIMEZONE
TZID:Europe/Budapest
BEGIN:DAYLIGHT
TZOFFSETFROM:+0100
TZOFFSETTO:+0200
TZNAME:CEST
DTSTART:20250330T010000
END:DAYLIGHT
BEGIN:STANDARD
TZOFFSETFROM:+0200
TZOFFSETTO:+0100
TZNAME:CET
DTSTART:20251026T010000
END:STANDARD
BEGIN:DAYLIGHT
TZOFFSETFROM:+0100
TZOFFSETTO:+0200
TZNAME:CEST
DTSTART:20260329T010000
END:DAYLIGHT
BEGIN:STANDARD
TZOFFSETFROM:+0200
TZOFFSETTO:+0100
TZNAME:CET
DTSTART:20261025T010000
END:STANDARD
BEGIN:DAYLIGHT
TZOFFSETFROM:+0100
TZOFFSETTO:+0200
TZNAME:CEST
DTSTART:20270328T010000
END:DAYLIGHT
BEGIN:STANDARD
TZOFFSETFROM:+0200
TZOFFSETTO:+0100
TZNAME:CET
DTSTART:20271031T010000
END:STANDARD
END:VTIMEZONE
BEGIN:VEVENT
DTSTART;TZID=Europe/Budapest:20260423T140000
DTEND;TZID=Europe/Budapest:20260423T153000
DTSTAMP:20260421T021710
CREATED:20260227T105438Z
LAST-MODIFIED:20260227T105438Z
UID:10003863-1776952800-1776958200@sport.uni-pannon.hu
SUMMARY:Fejlesztő Zsonglőrködés
DESCRIPTION:Pannon Egyetem SAS Bizottsága (https://sasbizottsag.uni-pannon.hu/) által koordinált program. A kurzuson a Pannon Egyetem érvényes SAS regisztrációval rendelkező hallgatói vehetnek részt. A kurzuson való részvétel díjtalan.\nIdőpont: febr. 19. 26.\, márc. 5. 12. 19.\, ápr. 16. 23. 30.\, máj. 7. 14. 14:00 – 15:30.\nHelyszín: Pannon Egyetem\, E épület\nKedvcsináló videó: https://fb.watch/ioMdsOeHu8/
URL:https://sport.uni-pannon.hu/event/fejleszto-zsonglorkodes-3/2026-04-23/
LOCATION:Pannon Egyetem\, E épület\, Egyeten utca 10.\, Veszprém\, Veszprém\, 8200\, Hungary
CATEGORIES:Hallgatói sportkínálat
ATTACH;FMTTYPE=image/jpeg:https://sport.uni-pannon.hu/wp-content/uploads/2026/02/multi-colored-spheres-sport-balls-galore-outdoors-generated-by-ai-scaled.jpg
END:VEVENT
BEGIN:VEVENT
DTSTART;TZID=Europe/Budapest:20260430T140000
DTEND;TZID=Europe/Budapest:20260430T153000
DTSTAMP:20260421T021710
CREATED:20260227T105438Z
LAST-MODIFIED:20260227T105438Z
UID:10003864-1777557600-1777563000@sport.uni-pannon.hu
SUMMARY:Fejlesztő Zsonglőrködés
DESCRIPTION:Pannon Egyetem SAS Bizottsága (https://sasbizottsag.uni-pannon.hu/) által koordinált program. A kurzuson a Pannon Egyetem érvényes SAS regisztrációval rendelkező hallgatói vehetnek részt. A kurzuson való részvétel díjtalan.\nIdőpont: febr. 19. 26.\, márc. 5. 12. 19.\, ápr. 16. 23. 30.\, máj. 7. 14. 14:00 – 15:30.\nHelyszín: Pannon Egyetem\, E épület\nKedvcsináló videó: https://fb.watch/ioMdsOeHu8/
URL:https://sport.uni-pannon.hu/event/fejleszto-zsonglorkodes-3/2026-04-30/
LOCATION:Pannon Egyetem\, E épület\, Egyeten utca 10.\, Veszprém\, Veszprém\, 8200\, Hungary
CATEGORIES:Hallgatói sportkínálat
ATTACH;FMTTYPE=image/jpeg:https://sport.uni-pannon.hu/wp-content/uploads/2026/02/multi-colored-spheres-sport-balls-galore-outdoors-generated-by-ai-scaled.jpg
END:VEVENT
BEGIN:VEVENT
DTSTART;TZID=Europe/Budapest:20260507T140000
DTEND;TZID=Europe/Budapest:20260507T153000
DTSTAMP:20260421T021710
CREATED:20260227T105509Z
LAST-MODIFIED:20260227T105509Z
UID:10003868-1778162400-1778167800@sport.uni-pannon.hu
SUMMARY:Fejlesztő Zsonglőrködés
DESCRIPTION:Pannon Egyetem SAS Bizottsága (https://sasbizottsag.uni-pannon.hu/) által koordinált program. A kurzuson a Pannon Egyetem érvényes SAS regisztrációval rendelkező hallgatói vehetnek részt. A kurzuson való részvétel díjtalan.\nIdőpont: febr. 19. 26.\, márc. 5. 12. 19.\, ápr. 16. 23. 30.\, máj. 7. 14. 14:00 – 15:30.\nHelyszín: Pannon Egyetem\, E épület\nKedvcsináló videó: https://fb.watch/ioMdsOeHu8/
URL:https://sport.uni-pannon.hu/event/fejleszto-zsonglorkodes-4/2026-05-07/
LOCATION:Pannon Egyetem\, E épület\, Egyeten utca 10.\, Veszprém\, Veszprém\, 8200\, Hungary
CATEGORIES:Hallgatói sportkínálat
ATTACH;FMTTYPE=image/jpeg:https://sport.uni-pannon.hu/wp-content/uploads/2026/02/multi-colored-spheres-sport-balls-galore-outdoors-generated-by-ai-scaled.jpg
END:VEVENT
BEGIN:VEVENT
DTSTART;TZID=Europe/Budapest:20260514T140000
DTEND;TZID=Europe/Budapest:20260514T153000
DTSTAMP:20260421T021710
CREATED:20260227T105509Z
LAST-MODIFIED:20260227T105509Z
UID:10003869-1778767200-1778772600@sport.uni-pannon.hu
SUMMARY:Fejlesztő Zsonglőrködés
DESCRIPTION:Pannon Egyetem SAS Bizottsága (https://sasbizottsag.uni-pannon.hu/) által koordinált program. A kurzuson a Pannon Egyetem érvényes SAS regisztrációval rendelkező hallgatói vehetnek részt. A kurzuson való részvétel díjtalan.\nIdőpont: febr. 19. 26.\, márc. 5. 12. 19.\, ápr. 16. 23. 30.\, máj. 7. 14. 14:00 – 15:30.\nHelyszín: Pannon Egyetem\, E épület\nKedvcsináló videó: https://fb.watch/ioMdsOeHu8/
URL:https://sport.uni-pannon.hu/event/fejleszto-zsonglorkodes-4/2026-05-14/
LOCATION:Pannon Egyetem\, E épület\, Egyeten utca 10.\, Veszprém\, Veszprém\, 8200\, Hungary
CATEGORIES:Hallgatói sportkínálat
ATTACH;FMTTYPE=image/jpeg:https://sport.uni-pannon.hu/wp-content/uploads/2026/02/multi-colored-spheres-sport-balls-galore-outdoors-generated-by-ai-scaled.jpg
END:VEVENT
END:VCALENDAR