BEGIN:VCALENDAR
VERSION:2.0
PRODID:-//Sport Éve 2026 - ECPv6.15.20//NONSGML v1.0//EN
CALSCALE:GREGORIAN
METHOD:PUBLISH
X-WR-CALNAME:Sport Éve 2026
X-ORIGINAL-URL:https://sport.uni-pannon.hu
X-WR-CALDESC:Események Sport Éve 2026
REFRESH-INTERVAL;VALUE=DURATION:PT1H
X-Robots-Tag:noindex
X-PUBLISHED-TTL:PT1H
BEGIN:VTIMEZONE
TZID:Europe/Budapest
BEGIN:DAYLIGHT
TZOFFSETFROM:+0100
TZOFFSETTO:+0200
TZNAME:CEST
DTSTART:20250330T010000
END:DAYLIGHT
BEGIN:STANDARD
TZOFFSETFROM:+0200
TZOFFSETTO:+0100
TZNAME:CET
DTSTART:20251026T010000
END:STANDARD
BEGIN:DAYLIGHT
TZOFFSETFROM:+0100
TZOFFSETTO:+0200
TZNAME:CEST
DTSTART:20260329T010000
END:DAYLIGHT
BEGIN:STANDARD
TZOFFSETFROM:+0200
TZOFFSETTO:+0100
TZNAME:CET
DTSTART:20261025T010000
END:STANDARD
BEGIN:DAYLIGHT
TZOFFSETFROM:+0100
TZOFFSETTO:+0200
TZNAME:CEST
DTSTART:20270328T010000
END:DAYLIGHT
BEGIN:STANDARD
TZOFFSETFROM:+0200
TZOFFSETTO:+0100
TZNAME:CET
DTSTART:20271031T010000
END:STANDARD
END:VTIMEZONE
BEGIN:VEVENT
DTSTART;TZID=Europe/Budapest:20260421T170000
DTEND;TZID=Europe/Budapest:20260421T200000
DTSTAMP:20260419T215445
CREATED:20260302T074448Z
LAST-MODIFIED:20260302T074448Z
UID:10003922-1776790800-1776801600@sport.uni-pannon.hu
SUMMARY:Airsoft lövészet
DESCRIPTION:Időpont:  kedd: 17:00-20:00\, csütörtök: 8:00-11:00\nHelyszín: Veszprém\, Egyetem utca 10.\, C épület mélypince\, Légó lőterem\nDíjhoz kötött\, jelentkezés: https://practiscore.com/clubs/veszpremi_sportlovesz_egyesulet\nTovábbi információ: veszpremisportlovesz@gmail.com
URL:https://sport.uni-pannon.hu/event/airsoft-loveszet/2026-04-21/
LOCATION:Légó Lőterem\, Egyeten utca 10.\, Veszprém\, Veszprém\, 8200\, Hungary
CATEGORIES:Hallgatói sportkínálat
ATTACH;FMTTYPE=image/jpeg:https://sport.uni-pannon.hu/wp-content/uploads/2026/03/old-soldier-uniform-pointing-with-sniper-rifle-scaled.jpg
END:VEVENT
BEGIN:VEVENT
DTSTART;TZID=Europe/Budapest:20260423T080000
DTEND;TZID=Europe/Budapest:20260423T110000
DTSTAMP:20260419T215445
CREATED:20260302T074534Z
LAST-MODIFIED:20260302T074534Z
UID:10003950-1776931200-1776942000@sport.uni-pannon.hu
SUMMARY:Airsoft lövészet
DESCRIPTION:Időpont:  kedd: 17:00-20:00\, csütörtök: 8:00-11:00\nHelyszín: Veszprém\, Egyetem utca 10.\, C épület mélypince\, Légó lőterem\nDíjhoz kötött\, jelentkezés: https://practiscore.com/clubs/veszpremi_sportlovesz_egyesulet\nTovábbi információ: veszpremisportlovesz@gmail.com
URL:https://sport.uni-pannon.hu/event/airsoft-loveszet-2/2026-04-23/
LOCATION:Légó Lőterem\, Egyeten utca 10.\, Veszprém\, Veszprém\, 8200\, Hungary
CATEGORIES:Hallgatói sportkínálat
ATTACH;FMTTYPE=image/jpeg:https://sport.uni-pannon.hu/wp-content/uploads/2026/03/old-soldier-uniform-pointing-with-sniper-rifle-scaled.jpg
END:VEVENT
BEGIN:VEVENT
DTSTART;TZID=Europe/Budapest:20260428T170000
DTEND;TZID=Europe/Budapest:20260428T200000
DTSTAMP:20260419T215445
CREATED:20260302T074448Z
LAST-MODIFIED:20260302T074448Z
UID:10003923-1777395600-1777406400@sport.uni-pannon.hu
SUMMARY:Airsoft lövészet
DESCRIPTION:Időpont:  kedd: 17:00-20:00\, csütörtök: 8:00-11:00\nHelyszín: Veszprém\, Egyetem utca 10.\, C épület mélypince\, Légó lőterem\nDíjhoz kötött\, jelentkezés: https://practiscore.com/clubs/veszpremi_sportlovesz_egyesulet\nTovábbi információ: veszpremisportlovesz@gmail.com
URL:https://sport.uni-pannon.hu/event/airsoft-loveszet/2026-04-28/
LOCATION:Légó Lőterem\, Egyeten utca 10.\, Veszprém\, Veszprém\, 8200\, Hungary
CATEGORIES:Hallgatói sportkínálat
ATTACH;FMTTYPE=image/jpeg:https://sport.uni-pannon.hu/wp-content/uploads/2026/03/old-soldier-uniform-pointing-with-sniper-rifle-scaled.jpg
END:VEVENT
BEGIN:VEVENT
DTSTART;TZID=Europe/Budapest:20260430T080000
DTEND;TZID=Europe/Budapest:20260430T110000
DTSTAMP:20260419T215445
CREATED:20260302T074534Z
LAST-MODIFIED:20260302T074534Z
UID:10003951-1777536000-1777546800@sport.uni-pannon.hu
SUMMARY:Airsoft lövészet
DESCRIPTION:Időpont:  kedd: 17:00-20:00\, csütörtök: 8:00-11:00\nHelyszín: Veszprém\, Egyetem utca 10.\, C épület mélypince\, Légó lőterem\nDíjhoz kötött\, jelentkezés: https://practiscore.com/clubs/veszpremi_sportlovesz_egyesulet\nTovábbi információ: veszpremisportlovesz@gmail.com
URL:https://sport.uni-pannon.hu/event/airsoft-loveszet-2/2026-04-30/
LOCATION:Légó Lőterem\, Egyeten utca 10.\, Veszprém\, Veszprém\, 8200\, Hungary
CATEGORIES:Hallgatói sportkínálat
ATTACH;FMTTYPE=image/jpeg:https://sport.uni-pannon.hu/wp-content/uploads/2026/03/old-soldier-uniform-pointing-with-sniper-rifle-scaled.jpg
END:VEVENT
BEGIN:VEVENT
DTSTART;TZID=Europe/Budapest:20260505T170000
DTEND;TZID=Europe/Budapest:20260505T200000
DTSTAMP:20260419T215445
CREATED:20260302T074448Z
LAST-MODIFIED:20260302T074448Z
UID:10003924-1778000400-1778011200@sport.uni-pannon.hu
SUMMARY:Airsoft lövészet
DESCRIPTION:Időpont:  kedd: 17:00-20:00\, csütörtök: 8:00-11:00\nHelyszín: Veszprém\, Egyetem utca 10.\, C épület mélypince\, Légó lőterem\nDíjhoz kötött\, jelentkezés: https://practiscore.com/clubs/veszpremi_sportlovesz_egyesulet\nTovábbi információ: veszpremisportlovesz@gmail.com
URL:https://sport.uni-pannon.hu/event/airsoft-loveszet/2026-05-05/
LOCATION:Légó Lőterem\, Egyeten utca 10.\, Veszprém\, Veszprém\, 8200\, Hungary
CATEGORIES:Hallgatói sportkínálat
ATTACH;FMTTYPE=image/jpeg:https://sport.uni-pannon.hu/wp-content/uploads/2026/03/old-soldier-uniform-pointing-with-sniper-rifle-scaled.jpg
END:VEVENT
BEGIN:VEVENT
DTSTART;TZID=Europe/Budapest:20260507T080000
DTEND;TZID=Europe/Budapest:20260507T110000
DTSTAMP:20260419T215445
CREATED:20260302T074534Z
LAST-MODIFIED:20260302T074534Z
UID:10003952-1778140800-1778151600@sport.uni-pannon.hu
SUMMARY:Airsoft lövészet
DESCRIPTION:Időpont:  kedd: 17:00-20:00\, csütörtök: 8:00-11:00\nHelyszín: Veszprém\, Egyetem utca 10.\, C épület mélypince\, Légó lőterem\nDíjhoz kötött\, jelentkezés: https://practiscore.com/clubs/veszpremi_sportlovesz_egyesulet\nTovábbi információ: veszpremisportlovesz@gmail.com
URL:https://sport.uni-pannon.hu/event/airsoft-loveszet-2/2026-05-07/
LOCATION:Légó Lőterem\, Egyeten utca 10.\, Veszprém\, Veszprém\, 8200\, Hungary
CATEGORIES:Hallgatói sportkínálat
ATTACH;FMTTYPE=image/jpeg:https://sport.uni-pannon.hu/wp-content/uploads/2026/03/old-soldier-uniform-pointing-with-sniper-rifle-scaled.jpg
END:VEVENT
BEGIN:VEVENT
DTSTART;TZID=Europe/Budapest:20260512T170000
DTEND;TZID=Europe/Budapest:20260512T200000
DTSTAMP:20260419T215445
CREATED:20260302T074448Z
LAST-MODIFIED:20260302T074448Z
UID:10003925-1778605200-1778616000@sport.uni-pannon.hu
SUMMARY:Airsoft lövészet
DESCRIPTION:Időpont:  kedd: 17:00-20:00\, csütörtök: 8:00-11:00\nHelyszín: Veszprém\, Egyetem utca 10.\, C épület mélypince\, Légó lőterem\nDíjhoz kötött\, jelentkezés: https://practiscore.com/clubs/veszpremi_sportlovesz_egyesulet\nTovábbi információ: veszpremisportlovesz@gmail.com
URL:https://sport.uni-pannon.hu/event/airsoft-loveszet/2026-05-12/
LOCATION:Légó Lőterem\, Egyeten utca 10.\, Veszprém\, Veszprém\, 8200\, Hungary
CATEGORIES:Hallgatói sportkínálat
ATTACH;FMTTYPE=image/jpeg:https://sport.uni-pannon.hu/wp-content/uploads/2026/03/old-soldier-uniform-pointing-with-sniper-rifle-scaled.jpg
END:VEVENT
BEGIN:VEVENT
DTSTART;TZID=Europe/Budapest:20260514T080000
DTEND;TZID=Europe/Budapest:20260514T110000
DTSTAMP:20260419T215445
CREATED:20260302T074534Z
LAST-MODIFIED:20260302T074534Z
UID:10003953-1778745600-1778756400@sport.uni-pannon.hu
SUMMARY:Airsoft lövészet
DESCRIPTION:Időpont:  kedd: 17:00-20:00\, csütörtök: 8:00-11:00\nHelyszín: Veszprém\, Egyetem utca 10.\, C épület mélypince\, Légó lőterem\nDíjhoz kötött\, jelentkezés: https://practiscore.com/clubs/veszpremi_sportlovesz_egyesulet\nTovábbi információ: veszpremisportlovesz@gmail.com
URL:https://sport.uni-pannon.hu/event/airsoft-loveszet-2/2026-05-14/
LOCATION:Légó Lőterem\, Egyeten utca 10.\, Veszprém\, Veszprém\, 8200\, Hungary
CATEGORIES:Hallgatói sportkínálat
ATTACH;FMTTYPE=image/jpeg:https://sport.uni-pannon.hu/wp-content/uploads/2026/03/old-soldier-uniform-pointing-with-sniper-rifle-scaled.jpg
END:VEVENT
END:VCALENDAR