BEGIN:VCALENDAR
VERSION:2.0
PRODID:-//Sport Éve 2026 - ECPv6.15.20//NONSGML v1.0//EN
CALSCALE:GREGORIAN
METHOD:PUBLISH
X-WR-CALNAME:Sport Éve 2026
X-ORIGINAL-URL:https://sport.uni-pannon.hu
X-WR-CALDESC:Események Sport Éve 2026
REFRESH-INTERVAL;VALUE=DURATION:PT1H
X-Robots-Tag:noindex
X-PUBLISHED-TTL:PT1H
BEGIN:VTIMEZONE
TZID:Europe/Budapest
BEGIN:DAYLIGHT
TZOFFSETFROM:+0100
TZOFFSETTO:+0200
TZNAME:CEST
DTSTART:20250330T010000
END:DAYLIGHT
BEGIN:STANDARD
TZOFFSETFROM:+0200
TZOFFSETTO:+0100
TZNAME:CET
DTSTART:20251026T010000
END:STANDARD
BEGIN:DAYLIGHT
TZOFFSETFROM:+0100
TZOFFSETTO:+0200
TZNAME:CEST
DTSTART:20260329T010000
END:DAYLIGHT
BEGIN:STANDARD
TZOFFSETFROM:+0200
TZOFFSETTO:+0100
TZNAME:CET
DTSTART:20261025T010000
END:STANDARD
BEGIN:DAYLIGHT
TZOFFSETFROM:+0100
TZOFFSETTO:+0200
TZNAME:CEST
DTSTART:20270328T010000
END:DAYLIGHT
BEGIN:STANDARD
TZOFFSETFROM:+0200
TZOFFSETTO:+0100
TZNAME:CET
DTSTART:20271031T010000
END:STANDARD
END:VTIMEZONE
BEGIN:VEVENT
DTSTART;TZID=Europe/Budapest:20260429T160000
DTEND;TZID=Europe/Budapest:20260429T173000
DTSTAMP:20260423T143100
CREATED:20260204T112916Z
LAST-MODIFIED:20260219T094419Z
UID:10000146-1777478400-1777483800@sport.uni-pannon.hu
SUMMARY:Kondicionáló tréning (dolgozói)
DESCRIPTION:Az edzések célja\, hogy a szervezet teljesítőképessége nőjön\, és általános fizikai állóképességét javítsa. A kondicionáló edzések különféle mozgásformákat kombinálnak\, beleértve a kardiót\, az erősítést és a nyújtást. Bárki számára hasznos lehet\, aki szeretné növelni fizikai terhelhetőségét és javítani általános közérzetét. Térítésmentes az egyetemi dolgozók részére. \n\nIdőpont: szerda 16:00-17:30\nÓratartó: Tóth Zsuzsa\nHelyszín: Vívóterem\nJelentkezés: toth.zsuzsa@uni-pannon.hu
URL:https://sport.uni-pannon.hu/event/kondicionalo-trening/2026-04-29/
LOCATION:Vívóterem\, Egyetem utca 10.\, Veszprém\, Veszprém\, 8200\, Hungary
CATEGORIES:Dolgozói sportkínálat
ATTACH;FMTTYPE=image/jpeg:https://sport.uni-pannon.hu/wp-content/uploads/2026/02/kondi.jpg
ORGANIZER;CN="T%C3%B3th Zsuzsa":MAILTO:toth.zsuzsa@uni-pannon.hu
END:VEVENT
BEGIN:VEVENT
DTSTART;TZID=Europe/Budapest:20260506T160000
DTEND;TZID=Europe/Budapest:20260506T173000
DTSTAMP:20260423T143100
CREATED:20260204T112916Z
LAST-MODIFIED:20260219T094419Z
UID:10000147-1778083200-1778088600@sport.uni-pannon.hu
SUMMARY:Kondicionáló tréning (dolgozói)
DESCRIPTION:Az edzések célja\, hogy a szervezet teljesítőképessége nőjön\, és általános fizikai állóképességét javítsa. A kondicionáló edzések különféle mozgásformákat kombinálnak\, beleértve a kardiót\, az erősítést és a nyújtást. Bárki számára hasznos lehet\, aki szeretné növelni fizikai terhelhetőségét és javítani általános közérzetét. Térítésmentes az egyetemi dolgozók részére. \n\nIdőpont: szerda 16:00-17:30\nÓratartó: Tóth Zsuzsa\nHelyszín: Vívóterem\nJelentkezés: toth.zsuzsa@uni-pannon.hu
URL:https://sport.uni-pannon.hu/event/kondicionalo-trening/2026-05-06/
LOCATION:Vívóterem\, Egyetem utca 10.\, Veszprém\, Veszprém\, 8200\, Hungary
CATEGORIES:Dolgozói sportkínálat
ATTACH;FMTTYPE=image/jpeg:https://sport.uni-pannon.hu/wp-content/uploads/2026/02/kondi.jpg
ORGANIZER;CN="T%C3%B3th Zsuzsa":MAILTO:toth.zsuzsa@uni-pannon.hu
END:VEVENT
BEGIN:VEVENT
DTSTART;TZID=Europe/Budapest:20260513T160000
DTEND;TZID=Europe/Budapest:20260513T173000
DTSTAMP:20260423T143100
CREATED:20260204T112916Z
LAST-MODIFIED:20260219T094419Z
UID:10000148-1778688000-1778693400@sport.uni-pannon.hu
SUMMARY:Kondicionáló tréning (dolgozói)
DESCRIPTION:Az edzések célja\, hogy a szervezet teljesítőképessége nőjön\, és általános fizikai állóképességét javítsa. A kondicionáló edzések különféle mozgásformákat kombinálnak\, beleértve a kardiót\, az erősítést és a nyújtást. Bárki számára hasznos lehet\, aki szeretné növelni fizikai terhelhetőségét és javítani általános közérzetét. Térítésmentes az egyetemi dolgozók részére. \n\nIdőpont: szerda 16:00-17:30\nÓratartó: Tóth Zsuzsa\nHelyszín: Vívóterem\nJelentkezés: toth.zsuzsa@uni-pannon.hu
URL:https://sport.uni-pannon.hu/event/kondicionalo-trening/2026-05-13/
LOCATION:Vívóterem\, Egyetem utca 10.\, Veszprém\, Veszprém\, 8200\, Hungary
CATEGORIES:Dolgozói sportkínálat
ATTACH;FMTTYPE=image/jpeg:https://sport.uni-pannon.hu/wp-content/uploads/2026/02/kondi.jpg
ORGANIZER;CN="T%C3%B3th Zsuzsa":MAILTO:toth.zsuzsa@uni-pannon.hu
END:VEVENT
END:VCALENDAR