BEGIN:VCALENDAR
VERSION:2.0
PRODID:-//Sport Éve 2026 - ECPv6.15.20//NONSGML v1.0//EN
CALSCALE:GREGORIAN
METHOD:PUBLISH
X-WR-CALNAME:Sport Éve 2026
X-ORIGINAL-URL:https://sport.uni-pannon.hu
X-WR-CALDESC:Események Sport Éve 2026
REFRESH-INTERVAL;VALUE=DURATION:PT1H
X-Robots-Tag:noindex
X-PUBLISHED-TTL:PT1H
BEGIN:VTIMEZONE
TZID:Europe/Budapest
BEGIN:DAYLIGHT
TZOFFSETFROM:+0100
TZOFFSETTO:+0200
TZNAME:CEST
DTSTART:20250330T010000
END:DAYLIGHT
BEGIN:STANDARD
TZOFFSETFROM:+0200
TZOFFSETTO:+0100
TZNAME:CET
DTSTART:20251026T010000
END:STANDARD
BEGIN:DAYLIGHT
TZOFFSETFROM:+0100
TZOFFSETTO:+0200
TZNAME:CEST
DTSTART:20260329T010000
END:DAYLIGHT
BEGIN:STANDARD
TZOFFSETFROM:+0200
TZOFFSETTO:+0100
TZNAME:CET
DTSTART:20261025T010000
END:STANDARD
BEGIN:DAYLIGHT
TZOFFSETFROM:+0100
TZOFFSETTO:+0200
TZNAME:CEST
DTSTART:20270328T010000
END:DAYLIGHT
BEGIN:STANDARD
TZOFFSETFROM:+0200
TZOFFSETTO:+0100
TZNAME:CET
DTSTART:20271031T010000
END:STANDARD
END:VTIMEZONE
BEGIN:VEVENT
DTSTART;TZID=Europe/Budapest:20260427T120000
DTEND;TZID=Europe/Budapest:20260427T124500
DTSTAMP:20260421T235620
CREATED:20260212T101344Z
LAST-MODIFIED:20260212T101344Z
UID:10003219-1777291200-1777293900@sport.uni-pannon.hu
SUMMARY:Nyújtás\, hengerezés
DESCRIPTION:Időpont: hétfő: 12:00-12:45\, kedd: 08:00-08:45\nHelyszín: Testnevelési és Sport Intézet\, tornaszoba\nTérítésmentes egyetemi hallgatók részére.\nJelentkezés és további információ: https://alairas.sport.uni-pannon.hu/
URL:https://sport.uni-pannon.hu/event/nyujtas-hengerezes/2026-04-27/
LOCATION:Tornacsarnok\, Egyetem utca 10.\, Veszprém\, Veszprém\, 8200\, Hungary
CATEGORIES:Hallgatói sportkínálat
ATTACH;FMTTYPE=image/jpeg:https://sport.uni-pannon.hu/wp-content/uploads/2026/02/yoga-stretching-photo-gorgeous-blonde-woman-gym-her-weekend-time-scaled.jpg
END:VEVENT
BEGIN:VEVENT
DTSTART;TZID=Europe/Budapest:20260428T080000
DTEND;TZID=Europe/Budapest:20260428T084500
DTSTAMP:20260421T235620
CREATED:20260212T101423Z
LAST-MODIFIED:20260212T101423Z
UID:10003247-1777363200-1777365900@sport.uni-pannon.hu
SUMMARY:Nyújtás\, hengerezés
DESCRIPTION:Időpont: hétfő: 12:00-12:45\, kedd: 08:00-08:45\nHelyszín: Testnevelési és Sport Intézet\, tornaszoba\nTérítésmentes egyetemi hallgatók részére.\nJelentkezés és további információ: https://alairas.sport.uni-pannon.hu/
URL:https://sport.uni-pannon.hu/event/nyujtas-hengerezes-2/2026-04-28/
LOCATION:Tornacsarnok\, Egyetem utca 10.\, Veszprém\, Veszprém\, 8200\, Hungary
CATEGORIES:Hallgatói sportkínálat
ATTACH;FMTTYPE=image/jpeg:https://sport.uni-pannon.hu/wp-content/uploads/2026/02/yoga-stretching-photo-gorgeous-blonde-woman-gym-her-weekend-time-scaled.jpg
END:VEVENT
BEGIN:VEVENT
DTSTART;TZID=Europe/Budapest:20260504T120000
DTEND;TZID=Europe/Budapest:20260504T124500
DTSTAMP:20260421T235620
CREATED:20260212T101344Z
LAST-MODIFIED:20260212T101344Z
UID:10003220-1777896000-1777898700@sport.uni-pannon.hu
SUMMARY:Nyújtás\, hengerezés
DESCRIPTION:Időpont: hétfő: 12:00-12:45\, kedd: 08:00-08:45\nHelyszín: Testnevelési és Sport Intézet\, tornaszoba\nTérítésmentes egyetemi hallgatók részére.\nJelentkezés és további információ: https://alairas.sport.uni-pannon.hu/
URL:https://sport.uni-pannon.hu/event/nyujtas-hengerezes/2026-05-04/
LOCATION:Tornacsarnok\, Egyetem utca 10.\, Veszprém\, Veszprém\, 8200\, Hungary
CATEGORIES:Hallgatói sportkínálat
ATTACH;FMTTYPE=image/jpeg:https://sport.uni-pannon.hu/wp-content/uploads/2026/02/yoga-stretching-photo-gorgeous-blonde-woman-gym-her-weekend-time-scaled.jpg
END:VEVENT
BEGIN:VEVENT
DTSTART;TZID=Europe/Budapest:20260505T080000
DTEND;TZID=Europe/Budapest:20260505T084500
DTSTAMP:20260421T235620
CREATED:20260212T101423Z
LAST-MODIFIED:20260212T101423Z
UID:10003248-1777968000-1777970700@sport.uni-pannon.hu
SUMMARY:Nyújtás\, hengerezés
DESCRIPTION:Időpont: hétfő: 12:00-12:45\, kedd: 08:00-08:45\nHelyszín: Testnevelési és Sport Intézet\, tornaszoba\nTérítésmentes egyetemi hallgatók részére.\nJelentkezés és további információ: https://alairas.sport.uni-pannon.hu/
URL:https://sport.uni-pannon.hu/event/nyujtas-hengerezes-2/2026-05-05/
LOCATION:Tornacsarnok\, Egyetem utca 10.\, Veszprém\, Veszprém\, 8200\, Hungary
CATEGORIES:Hallgatói sportkínálat
ATTACH;FMTTYPE=image/jpeg:https://sport.uni-pannon.hu/wp-content/uploads/2026/02/yoga-stretching-photo-gorgeous-blonde-woman-gym-her-weekend-time-scaled.jpg
END:VEVENT
BEGIN:VEVENT
DTSTART;TZID=Europe/Budapest:20260511T120000
DTEND;TZID=Europe/Budapest:20260511T124500
DTSTAMP:20260421T235620
CREATED:20260212T101344Z
LAST-MODIFIED:20260212T101344Z
UID:10003221-1778500800-1778503500@sport.uni-pannon.hu
SUMMARY:Nyújtás\, hengerezés
DESCRIPTION:Időpont: hétfő: 12:00-12:45\, kedd: 08:00-08:45\nHelyszín: Testnevelési és Sport Intézet\, tornaszoba\nTérítésmentes egyetemi hallgatók részére.\nJelentkezés és további információ: https://alairas.sport.uni-pannon.hu/
URL:https://sport.uni-pannon.hu/event/nyujtas-hengerezes/2026-05-11/
LOCATION:Tornacsarnok\, Egyetem utca 10.\, Veszprém\, Veszprém\, 8200\, Hungary
CATEGORIES:Hallgatói sportkínálat
ATTACH;FMTTYPE=image/jpeg:https://sport.uni-pannon.hu/wp-content/uploads/2026/02/yoga-stretching-photo-gorgeous-blonde-woman-gym-her-weekend-time-scaled.jpg
END:VEVENT
BEGIN:VEVENT
DTSTART;TZID=Europe/Budapest:20260512T080000
DTEND;TZID=Europe/Budapest:20260512T084500
DTSTAMP:20260421T235620
CREATED:20260212T101423Z
LAST-MODIFIED:20260212T101423Z
UID:10003249-1778572800-1778575500@sport.uni-pannon.hu
SUMMARY:Nyújtás\, hengerezés
DESCRIPTION:Időpont: hétfő: 12:00-12:45\, kedd: 08:00-08:45\nHelyszín: Testnevelési és Sport Intézet\, tornaszoba\nTérítésmentes egyetemi hallgatók részére.\nJelentkezés és további információ: https://alairas.sport.uni-pannon.hu/
URL:https://sport.uni-pannon.hu/event/nyujtas-hengerezes-2/2026-05-12/
LOCATION:Tornacsarnok\, Egyetem utca 10.\, Veszprém\, Veszprém\, 8200\, Hungary
CATEGORIES:Hallgatói sportkínálat
ATTACH;FMTTYPE=image/jpeg:https://sport.uni-pannon.hu/wp-content/uploads/2026/02/yoga-stretching-photo-gorgeous-blonde-woman-gym-her-weekend-time-scaled.jpg
END:VEVENT
END:VCALENDAR