BEGIN:VCALENDAR
VERSION:2.0
PRODID:-//Sport Éve 2026 - ECPv6.15.20//NONSGML v1.0//EN
CALSCALE:GREGORIAN
METHOD:PUBLISH
X-WR-CALNAME:Sport Éve 2026
X-ORIGINAL-URL:https://sport.uni-pannon.hu
X-WR-CALDESC:Események Sport Éve 2026
REFRESH-INTERVAL;VALUE=DURATION:PT1H
X-Robots-Tag:noindex
X-PUBLISHED-TTL:PT1H
BEGIN:VTIMEZONE
TZID:Europe/Budapest
BEGIN:DAYLIGHT
TZOFFSETFROM:+0100
TZOFFSETTO:+0200
TZNAME:CEST
DTSTART:20250330T010000
END:DAYLIGHT
BEGIN:STANDARD
TZOFFSETFROM:+0200
TZOFFSETTO:+0100
TZNAME:CET
DTSTART:20251026T010000
END:STANDARD
BEGIN:DAYLIGHT
TZOFFSETFROM:+0100
TZOFFSETTO:+0200
TZNAME:CEST
DTSTART:20260329T010000
END:DAYLIGHT
BEGIN:STANDARD
TZOFFSETFROM:+0200
TZOFFSETTO:+0100
TZNAME:CET
DTSTART:20261025T010000
END:STANDARD
BEGIN:DAYLIGHT
TZOFFSETFROM:+0100
TZOFFSETTO:+0200
TZNAME:CEST
DTSTART:20270328T010000
END:DAYLIGHT
BEGIN:STANDARD
TZOFFSETFROM:+0200
TZOFFSETTO:+0100
TZNAME:CET
DTSTART:20271031T010000
END:STANDARD
END:VTIMEZONE
BEGIN:VEVENT
DTSTART;TZID=Europe/Budapest:20260420T130000
DTEND;TZID=Europe/Budapest:20260420T143000
DTSTAMP:20260421T002958
CREATED:20260213T093537Z
LAST-MODIFIED:20260227T115706Z
UID:10003666-1776690000-1776695400@sport.uni-pannon.hu
SUMMARY:Funkcionális edzés (Zalaegerszeg)
DESCRIPTION:Időpont: hétfő 13:00-14:30\nHelyszín: Zalaegerszeg\, Pannon Egyetem Gaspa Kollégium\nJelentkezés és további információ: https://alairas.sport.uni-pannon.hu/
URL:https://sport.uni-pannon.hu/event/funkcionalis-edzes/2026-04-20/
LOCATION:Gaspa Kollégium\, Gasparich M. u. 18/a.\, Zalaegerszeg\, Zala\, 8900\, Hungary
CATEGORIES:Hallgatói sportkínálat
ATTACH;FMTTYPE=image/jpeg:https://sport.uni-pannon.hu/wp-content/uploads/2026/02/kondi.jpg
END:VEVENT
BEGIN:VEVENT
DTSTART;TZID=Europe/Budapest:20260413T130000
DTEND;TZID=Europe/Budapest:20260413T143000
DTSTAMP:20260421T002958
CREATED:20260213T093537Z
LAST-MODIFIED:20260227T115706Z
UID:10003665-1776085200-1776090600@sport.uni-pannon.hu
SUMMARY:Funkcionális edzés (Zalaegerszeg)
DESCRIPTION:Időpont: hétfő 13:00-14:30\nHelyszín: Zalaegerszeg\, Pannon Egyetem Gaspa Kollégium\nJelentkezés és további információ: https://alairas.sport.uni-pannon.hu/
URL:https://sport.uni-pannon.hu/event/funkcionalis-edzes/2026-04-13/
LOCATION:Gaspa Kollégium\, Gasparich M. u. 18/a.\, Zalaegerszeg\, Zala\, 8900\, Hungary
CATEGORIES:Hallgatói sportkínálat
ATTACH;FMTTYPE=image/jpeg:https://sport.uni-pannon.hu/wp-content/uploads/2026/02/kondi.jpg
END:VEVENT
BEGIN:VEVENT
DTSTART;TZID=Europe/Budapest:20260406T130000
DTEND;TZID=Europe/Budapest:20260406T143000
DTSTAMP:20260421T002958
CREATED:20260213T093537Z
LAST-MODIFIED:20260227T115706Z
UID:10003664-1775480400-1775485800@sport.uni-pannon.hu
SUMMARY:Funkcionális edzés (Zalaegerszeg)
DESCRIPTION:Időpont: hétfő 13:00-14:30\nHelyszín: Zalaegerszeg\, Pannon Egyetem Gaspa Kollégium\nJelentkezés és további információ: https://alairas.sport.uni-pannon.hu/
URL:https://sport.uni-pannon.hu/event/funkcionalis-edzes/2026-04-06/
LOCATION:Gaspa Kollégium\, Gasparich M. u. 18/a.\, Zalaegerszeg\, Zala\, 8900\, Hungary
CATEGORIES:Hallgatói sportkínálat
ATTACH;FMTTYPE=image/jpeg:https://sport.uni-pannon.hu/wp-content/uploads/2026/02/kondi.jpg
END:VEVENT
BEGIN:VEVENT
DTSTART;TZID=Europe/Budapest:20260330T130000
DTEND;TZID=Europe/Budapest:20260330T143000
DTSTAMP:20260421T002958
CREATED:20260213T093537Z
LAST-MODIFIED:20260227T115706Z
UID:10003663-1774875600-1774881000@sport.uni-pannon.hu
SUMMARY:Funkcionális edzés (Zalaegerszeg)
DESCRIPTION:Időpont: hétfő 13:00-14:30\nHelyszín: Zalaegerszeg\, Pannon Egyetem Gaspa Kollégium\nJelentkezés és további információ: https://alairas.sport.uni-pannon.hu/
URL:https://sport.uni-pannon.hu/event/funkcionalis-edzes/2026-03-30/
LOCATION:Gaspa Kollégium\, Gasparich M. u. 18/a.\, Zalaegerszeg\, Zala\, 8900\, Hungary
CATEGORIES:Hallgatói sportkínálat
ATTACH;FMTTYPE=image/jpeg:https://sport.uni-pannon.hu/wp-content/uploads/2026/02/kondi.jpg
END:VEVENT
BEGIN:VEVENT
DTSTART;TZID=Europe/Budapest:20260323T130000
DTEND;TZID=Europe/Budapest:20260323T143000
DTSTAMP:20260421T002958
CREATED:20260213T093537Z
LAST-MODIFIED:20260227T115706Z
UID:10003662-1774270800-1774276200@sport.uni-pannon.hu
SUMMARY:Funkcionális edzés (Zalaegerszeg)
DESCRIPTION:Időpont: hétfő 13:00-14:30\nHelyszín: Zalaegerszeg\, Pannon Egyetem Gaspa Kollégium\nJelentkezés és további információ: https://alairas.sport.uni-pannon.hu/
URL:https://sport.uni-pannon.hu/event/funkcionalis-edzes/2026-03-23/
LOCATION:Gaspa Kollégium\, Gasparich M. u. 18/a.\, Zalaegerszeg\, Zala\, 8900\, Hungary
CATEGORIES:Hallgatói sportkínálat
ATTACH;FMTTYPE=image/jpeg:https://sport.uni-pannon.hu/wp-content/uploads/2026/02/kondi.jpg
END:VEVENT
BEGIN:VEVENT
DTSTART;TZID=Europe/Budapest:20260316T130000
DTEND;TZID=Europe/Budapest:20260316T143000
DTSTAMP:20260421T002958
CREATED:20260213T093537Z
LAST-MODIFIED:20260227T115706Z
UID:10003661-1773666000-1773671400@sport.uni-pannon.hu
SUMMARY:Funkcionális edzés (Zalaegerszeg)
DESCRIPTION:Időpont: hétfő 13:00-14:30\nHelyszín: Zalaegerszeg\, Pannon Egyetem Gaspa Kollégium\nJelentkezés és további információ: https://alairas.sport.uni-pannon.hu/
URL:https://sport.uni-pannon.hu/event/funkcionalis-edzes/2026-03-16/
LOCATION:Gaspa Kollégium\, Gasparich M. u. 18/a.\, Zalaegerszeg\, Zala\, 8900\, Hungary
CATEGORIES:Hallgatói sportkínálat
ATTACH;FMTTYPE=image/jpeg:https://sport.uni-pannon.hu/wp-content/uploads/2026/02/kondi.jpg
END:VEVENT
BEGIN:VEVENT
DTSTART;TZID=Europe/Budapest:20260309T130000
DTEND;TZID=Europe/Budapest:20260309T143000
DTSTAMP:20260421T002958
CREATED:20260213T093537Z
LAST-MODIFIED:20260227T115706Z
UID:10003660-1773061200-1773066600@sport.uni-pannon.hu
SUMMARY:Funkcionális edzés (Zalaegerszeg)
DESCRIPTION:Időpont: hétfő 13:00-14:30\nHelyszín: Zalaegerszeg\, Pannon Egyetem Gaspa Kollégium\nJelentkezés és további információ: https://alairas.sport.uni-pannon.hu/
URL:https://sport.uni-pannon.hu/event/funkcionalis-edzes/2026-03-09/
LOCATION:Gaspa Kollégium\, Gasparich M. u. 18/a.\, Zalaegerszeg\, Zala\, 8900\, Hungary
CATEGORIES:Hallgatói sportkínálat
ATTACH;FMTTYPE=image/jpeg:https://sport.uni-pannon.hu/wp-content/uploads/2026/02/kondi.jpg
END:VEVENT
BEGIN:VEVENT
DTSTART;TZID=Europe/Budapest:20260302T130000
DTEND;TZID=Europe/Budapest:20260302T143000
DTSTAMP:20260421T002958
CREATED:20260213T093537Z
LAST-MODIFIED:20260227T115706Z
UID:10003659-1772456400-1772461800@sport.uni-pannon.hu
SUMMARY:Funkcionális edzés (Zalaegerszeg)
DESCRIPTION:Időpont: hétfő 13:00-14:30\nHelyszín: Zalaegerszeg\, Pannon Egyetem Gaspa Kollégium\nJelentkezés és további információ: https://alairas.sport.uni-pannon.hu/
URL:https://sport.uni-pannon.hu/event/funkcionalis-edzes/2026-03-02/
LOCATION:Gaspa Kollégium\, Gasparich M. u. 18/a.\, Zalaegerszeg\, Zala\, 8900\, Hungary
CATEGORIES:Hallgatói sportkínálat
ATTACH;FMTTYPE=image/jpeg:https://sport.uni-pannon.hu/wp-content/uploads/2026/02/kondi.jpg
END:VEVENT
BEGIN:VEVENT
DTSTART;TZID=Europe/Budapest:20260223T130000
DTEND;TZID=Europe/Budapest:20260223T143000
DTSTAMP:20260421T002958
CREATED:20260213T093537Z
LAST-MODIFIED:20260227T115706Z
UID:10003658-1771851600-1771857000@sport.uni-pannon.hu
SUMMARY:Funkcionális edzés (Zalaegerszeg)
DESCRIPTION:Időpont: hétfő 13:00-14:30\nHelyszín: Zalaegerszeg\, Pannon Egyetem Gaspa Kollégium\nJelentkezés és további információ: https://alairas.sport.uni-pannon.hu/
URL:https://sport.uni-pannon.hu/event/funkcionalis-edzes/2026-02-23/
LOCATION:Gaspa Kollégium\, Gasparich M. u. 18/a.\, Zalaegerszeg\, Zala\, 8900\, Hungary
CATEGORIES:Hallgatói sportkínálat
ATTACH;FMTTYPE=image/jpeg:https://sport.uni-pannon.hu/wp-content/uploads/2026/02/kondi.jpg
END:VEVENT
BEGIN:VEVENT
DTSTART;TZID=Europe/Budapest:20260216T130000
DTEND;TZID=Europe/Budapest:20260216T143000
DTSTAMP:20260421T002958
CREATED:20260213T093537Z
LAST-MODIFIED:20260227T115706Z
UID:10003657-1771246800-1771252200@sport.uni-pannon.hu
SUMMARY:Funkcionális edzés (Zalaegerszeg)
DESCRIPTION:Időpont: hétfő 13:00-14:30\nHelyszín: Zalaegerszeg\, Pannon Egyetem Gaspa Kollégium\nJelentkezés és további információ: https://alairas.sport.uni-pannon.hu/
URL:https://sport.uni-pannon.hu/event/funkcionalis-edzes/2026-02-16/
LOCATION:Gaspa Kollégium\, Gasparich M. u. 18/a.\, Zalaegerszeg\, Zala\, 8900\, Hungary
CATEGORIES:Hallgatói sportkínálat
ATTACH;FMTTYPE=image/jpeg:https://sport.uni-pannon.hu/wp-content/uploads/2026/02/kondi.jpg
END:VEVENT
BEGIN:VEVENT
DTSTART;TZID=Europe/Budapest:20260209T130000
DTEND;TZID=Europe/Budapest:20260209T143000
DTSTAMP:20260421T002958
CREATED:20260213T093537Z
LAST-MODIFIED:20260227T115706Z
UID:10003656-1770642000-1770647400@sport.uni-pannon.hu
SUMMARY:Funkcionális edzés (Zalaegerszeg)
DESCRIPTION:Időpont: hétfő 13:00-14:30\nHelyszín: Zalaegerszeg\, Pannon Egyetem Gaspa Kollégium\nJelentkezés és további információ: https://alairas.sport.uni-pannon.hu/
URL:https://sport.uni-pannon.hu/event/funkcionalis-edzes/2026-02-09/
LOCATION:Gaspa Kollégium\, Gasparich M. u. 18/a.\, Zalaegerszeg\, Zala\, 8900\, Hungary
CATEGORIES:Hallgatói sportkínálat
ATTACH;FMTTYPE=image/jpeg:https://sport.uni-pannon.hu/wp-content/uploads/2026/02/kondi.jpg
END:VEVENT
END:VCALENDAR