BEGIN:VCALENDAR
VERSION:2.0
PRODID:-//Sport Éve 2026 - ECPv6.15.20//NONSGML v1.0//EN
CALSCALE:GREGORIAN
METHOD:PUBLISH
X-WR-CALNAME:Sport Éve 2026
X-ORIGINAL-URL:https://sport.uni-pannon.hu
X-WR-CALDESC:Események Sport Éve 2026
REFRESH-INTERVAL;VALUE=DURATION:PT1H
X-Robots-Tag:noindex
X-PUBLISHED-TTL:PT1H
BEGIN:VTIMEZONE
TZID:Europe/Budapest
BEGIN:DAYLIGHT
TZOFFSETFROM:+0100
TZOFFSETTO:+0200
TZNAME:CEST
DTSTART:20250330T010000
END:DAYLIGHT
BEGIN:STANDARD
TZOFFSETFROM:+0200
TZOFFSETTO:+0100
TZNAME:CET
DTSTART:20251026T010000
END:STANDARD
BEGIN:DAYLIGHT
TZOFFSETFROM:+0100
TZOFFSETTO:+0200
TZNAME:CEST
DTSTART:20260329T010000
END:DAYLIGHT
BEGIN:STANDARD
TZOFFSETFROM:+0200
TZOFFSETTO:+0100
TZNAME:CET
DTSTART:20261025T010000
END:STANDARD
BEGIN:DAYLIGHT
TZOFFSETFROM:+0100
TZOFFSETTO:+0200
TZNAME:CEST
DTSTART:20270328T010000
END:DAYLIGHT
BEGIN:STANDARD
TZOFFSETFROM:+0200
TZOFFSETTO:+0100
TZNAME:CET
DTSTART:20271031T010000
END:STANDARD
END:VTIMEZONE
BEGIN:VEVENT
DTSTART;TZID=Europe/Budapest:20260415T160000
DTEND;TZID=Europe/Budapest:20260415T180000
DTSTAMP:20260422T091042
CREATED:20260213T090329Z
LAST-MODIFIED:20260213T090420Z
UID:10003525-1776268800-1776276000@sport.uni-pannon.hu
SUMMARY:Asztalitenisz – VESC
DESCRIPTION:Időpont: szerda 16:00-18:00\nHelyszín: Veszprém\, Pannon Egyetem\, Központi kollégium\nTérítésmentes egyetemi hallgatók részére.\nJelentkezés és további információ: https://alairas.sport.uni-pannon.hu/
URL:https://sport.uni-pannon.hu/event/asztalitenisz-vesc/2026-04-15/
LOCATION:Központi Kollégium\, Egyeten utca 12.\, Veszprém\, Veszprém\, 8200\, Hungary
CATEGORIES:Hallgatói sportkínálat
ATTACH;FMTTYPE=image/jpeg:https://sport.uni-pannon.hu/wp-content/uploads/2026/02/Pesthy-Marton-PES_9115-20250916-scaled.jpg
END:VEVENT
BEGIN:VEVENT
DTSTART;TZID=Europe/Budapest:20260408T160000
DTEND;TZID=Europe/Budapest:20260408T180000
DTSTAMP:20260422T091042
CREATED:20260213T090329Z
LAST-MODIFIED:20260213T090420Z
UID:10003524-1775664000-1775671200@sport.uni-pannon.hu
SUMMARY:Asztalitenisz – VESC
DESCRIPTION:Időpont: szerda 16:00-18:00\nHelyszín: Veszprém\, Pannon Egyetem\, Központi kollégium\nTérítésmentes egyetemi hallgatók részére.\nJelentkezés és további információ: https://alairas.sport.uni-pannon.hu/
URL:https://sport.uni-pannon.hu/event/asztalitenisz-vesc/2026-04-08/
LOCATION:Központi Kollégium\, Egyeten utca 12.\, Veszprém\, Veszprém\, 8200\, Hungary
CATEGORIES:Hallgatói sportkínálat
ATTACH;FMTTYPE=image/jpeg:https://sport.uni-pannon.hu/wp-content/uploads/2026/02/Pesthy-Marton-PES_9115-20250916-scaled.jpg
END:VEVENT
BEGIN:VEVENT
DTSTART;TZID=Europe/Budapest:20260401T160000
DTEND;TZID=Europe/Budapest:20260401T180000
DTSTAMP:20260422T091042
CREATED:20260213T090329Z
LAST-MODIFIED:20260213T090420Z
UID:10003523-1775059200-1775066400@sport.uni-pannon.hu
SUMMARY:Asztalitenisz – VESC
DESCRIPTION:Időpont: szerda 16:00-18:00\nHelyszín: Veszprém\, Pannon Egyetem\, Központi kollégium\nTérítésmentes egyetemi hallgatók részére.\nJelentkezés és további információ: https://alairas.sport.uni-pannon.hu/
URL:https://sport.uni-pannon.hu/event/asztalitenisz-vesc/2026-04-01/
LOCATION:Központi Kollégium\, Egyeten utca 12.\, Veszprém\, Veszprém\, 8200\, Hungary
CATEGORIES:Hallgatói sportkínálat
ATTACH;FMTTYPE=image/jpeg:https://sport.uni-pannon.hu/wp-content/uploads/2026/02/Pesthy-Marton-PES_9115-20250916-scaled.jpg
END:VEVENT
BEGIN:VEVENT
DTSTART;TZID=Europe/Budapest:20260325T160000
DTEND;TZID=Europe/Budapest:20260325T180000
DTSTAMP:20260422T091042
CREATED:20260213T090329Z
LAST-MODIFIED:20260213T090420Z
UID:10003522-1774454400-1774461600@sport.uni-pannon.hu
SUMMARY:Asztalitenisz – VESC
DESCRIPTION:Időpont: szerda 16:00-18:00\nHelyszín: Veszprém\, Pannon Egyetem\, Központi kollégium\nTérítésmentes egyetemi hallgatók részére.\nJelentkezés és további információ: https://alairas.sport.uni-pannon.hu/
URL:https://sport.uni-pannon.hu/event/asztalitenisz-vesc/2026-03-25/
LOCATION:Központi Kollégium\, Egyeten utca 12.\, Veszprém\, Veszprém\, 8200\, Hungary
CATEGORIES:Hallgatói sportkínálat
ATTACH;FMTTYPE=image/jpeg:https://sport.uni-pannon.hu/wp-content/uploads/2026/02/Pesthy-Marton-PES_9115-20250916-scaled.jpg
END:VEVENT
BEGIN:VEVENT
DTSTART;TZID=Europe/Budapest:20260318T160000
DTEND;TZID=Europe/Budapest:20260318T180000
DTSTAMP:20260422T091042
CREATED:20260213T090329Z
LAST-MODIFIED:20260213T090420Z
UID:10003521-1773849600-1773856800@sport.uni-pannon.hu
SUMMARY:Asztalitenisz – VESC
DESCRIPTION:Időpont: szerda 16:00-18:00\nHelyszín: Veszprém\, Pannon Egyetem\, Központi kollégium\nTérítésmentes egyetemi hallgatók részére.\nJelentkezés és további információ: https://alairas.sport.uni-pannon.hu/
URL:https://sport.uni-pannon.hu/event/asztalitenisz-vesc/2026-03-18/
LOCATION:Központi Kollégium\, Egyeten utca 12.\, Veszprém\, Veszprém\, 8200\, Hungary
CATEGORIES:Hallgatói sportkínálat
ATTACH;FMTTYPE=image/jpeg:https://sport.uni-pannon.hu/wp-content/uploads/2026/02/Pesthy-Marton-PES_9115-20250916-scaled.jpg
END:VEVENT
BEGIN:VEVENT
DTSTART;TZID=Europe/Budapest:20260311T160000
DTEND;TZID=Europe/Budapest:20260311T180000
DTSTAMP:20260422T091042
CREATED:20260213T090329Z
LAST-MODIFIED:20260213T090420Z
UID:10003520-1773244800-1773252000@sport.uni-pannon.hu
SUMMARY:Asztalitenisz – VESC
DESCRIPTION:Időpont: szerda 16:00-18:00\nHelyszín: Veszprém\, Pannon Egyetem\, Központi kollégium\nTérítésmentes egyetemi hallgatók részére.\nJelentkezés és további információ: https://alairas.sport.uni-pannon.hu/
URL:https://sport.uni-pannon.hu/event/asztalitenisz-vesc/2026-03-11/
LOCATION:Központi Kollégium\, Egyeten utca 12.\, Veszprém\, Veszprém\, 8200\, Hungary
CATEGORIES:Hallgatói sportkínálat
ATTACH;FMTTYPE=image/jpeg:https://sport.uni-pannon.hu/wp-content/uploads/2026/02/Pesthy-Marton-PES_9115-20250916-scaled.jpg
END:VEVENT
BEGIN:VEVENT
DTSTART;TZID=Europe/Budapest:20260304T160000
DTEND;TZID=Europe/Budapest:20260304T180000
DTSTAMP:20260422T091042
CREATED:20260213T090329Z
LAST-MODIFIED:20260213T090420Z
UID:10003519-1772640000-1772647200@sport.uni-pannon.hu
SUMMARY:Asztalitenisz – VESC
DESCRIPTION:Időpont: szerda 16:00-18:00\nHelyszín: Veszprém\, Pannon Egyetem\, Központi kollégium\nTérítésmentes egyetemi hallgatók részére.\nJelentkezés és további információ: https://alairas.sport.uni-pannon.hu/
URL:https://sport.uni-pannon.hu/event/asztalitenisz-vesc/2026-03-04/
LOCATION:Központi Kollégium\, Egyeten utca 12.\, Veszprém\, Veszprém\, 8200\, Hungary
CATEGORIES:Hallgatói sportkínálat
ATTACH;FMTTYPE=image/jpeg:https://sport.uni-pannon.hu/wp-content/uploads/2026/02/Pesthy-Marton-PES_9115-20250916-scaled.jpg
END:VEVENT
BEGIN:VEVENT
DTSTART;TZID=Europe/Budapest:20260225T160000
DTEND;TZID=Europe/Budapest:20260225T180000
DTSTAMP:20260422T091042
CREATED:20260213T090329Z
LAST-MODIFIED:20260213T090420Z
UID:10003518-1772035200-1772042400@sport.uni-pannon.hu
SUMMARY:Asztalitenisz – VESC
DESCRIPTION:Időpont: szerda 16:00-18:00\nHelyszín: Veszprém\, Pannon Egyetem\, Központi kollégium\nTérítésmentes egyetemi hallgatók részére.\nJelentkezés és további információ: https://alairas.sport.uni-pannon.hu/
URL:https://sport.uni-pannon.hu/event/asztalitenisz-vesc/2026-02-25/
LOCATION:Központi Kollégium\, Egyeten utca 12.\, Veszprém\, Veszprém\, 8200\, Hungary
CATEGORIES:Hallgatói sportkínálat
ATTACH;FMTTYPE=image/jpeg:https://sport.uni-pannon.hu/wp-content/uploads/2026/02/Pesthy-Marton-PES_9115-20250916-scaled.jpg
END:VEVENT
BEGIN:VEVENT
DTSTART;TZID=Europe/Budapest:20260218T160000
DTEND;TZID=Europe/Budapest:20260218T180000
DTSTAMP:20260422T091042
CREATED:20260213T090329Z
LAST-MODIFIED:20260213T090420Z
UID:10003517-1771430400-1771437600@sport.uni-pannon.hu
SUMMARY:Asztalitenisz – VESC
DESCRIPTION:Időpont: szerda 16:00-18:00\nHelyszín: Veszprém\, Pannon Egyetem\, Központi kollégium\nTérítésmentes egyetemi hallgatók részére.\nJelentkezés és további információ: https://alairas.sport.uni-pannon.hu/
URL:https://sport.uni-pannon.hu/event/asztalitenisz-vesc/2026-02-18/
LOCATION:Központi Kollégium\, Egyeten utca 12.\, Veszprém\, Veszprém\, 8200\, Hungary
CATEGORIES:Hallgatói sportkínálat
ATTACH;FMTTYPE=image/jpeg:https://sport.uni-pannon.hu/wp-content/uploads/2026/02/Pesthy-Marton-PES_9115-20250916-scaled.jpg
END:VEVENT
BEGIN:VEVENT
DTSTART;TZID=Europe/Budapest:20260211T160000
DTEND;TZID=Europe/Budapest:20260211T180000
DTSTAMP:20260422T091042
CREATED:20260213T090329Z
LAST-MODIFIED:20260213T090420Z
UID:10003516-1770825600-1770832800@sport.uni-pannon.hu
SUMMARY:Asztalitenisz – VESC
DESCRIPTION:Időpont: szerda 16:00-18:00\nHelyszín: Veszprém\, Pannon Egyetem\, Központi kollégium\nTérítésmentes egyetemi hallgatók részére.\nJelentkezés és további információ: https://alairas.sport.uni-pannon.hu/
URL:https://sport.uni-pannon.hu/event/asztalitenisz-vesc/2026-02-11/
LOCATION:Központi Kollégium\, Egyeten utca 12.\, Veszprém\, Veszprém\, 8200\, Hungary
CATEGORIES:Hallgatói sportkínálat
ATTACH;FMTTYPE=image/jpeg:https://sport.uni-pannon.hu/wp-content/uploads/2026/02/Pesthy-Marton-PES_9115-20250916-scaled.jpg
END:VEVENT
END:VCALENDAR