BEGIN:VCALENDAR
VERSION:2.0
PRODID:-//Sport Éve 2026 - ECPv6.15.20//NONSGML v1.0//EN
CALSCALE:GREGORIAN
METHOD:PUBLISH
X-WR-CALNAME:Sport Éve 2026
X-ORIGINAL-URL:https://sport.uni-pannon.hu
X-WR-CALDESC:Események Sport Éve 2026
REFRESH-INTERVAL;VALUE=DURATION:PT1H
X-Robots-Tag:noindex
X-PUBLISHED-TTL:PT1H
BEGIN:VTIMEZONE
TZID:Europe/Budapest
BEGIN:DAYLIGHT
TZOFFSETFROM:+0100
TZOFFSETTO:+0200
TZNAME:CEST
DTSTART:20250330T010000
END:DAYLIGHT
BEGIN:STANDARD
TZOFFSETFROM:+0200
TZOFFSETTO:+0100
TZNAME:CET
DTSTART:20251026T010000
END:STANDARD
BEGIN:DAYLIGHT
TZOFFSETFROM:+0100
TZOFFSETTO:+0200
TZNAME:CEST
DTSTART:20260329T010000
END:DAYLIGHT
BEGIN:STANDARD
TZOFFSETFROM:+0200
TZOFFSETTO:+0100
TZNAME:CET
DTSTART:20261025T010000
END:STANDARD
BEGIN:DAYLIGHT
TZOFFSETFROM:+0100
TZOFFSETTO:+0200
TZNAME:CEST
DTSTART:20270328T010000
END:DAYLIGHT
BEGIN:STANDARD
TZOFFSETFROM:+0200
TZOFFSETTO:+0100
TZNAME:CET
DTSTART:20271031T010000
END:STANDARD
END:VTIMEZONE
BEGIN:VEVENT
DTSTART;TZID=Europe/Budapest:20260423T193000
DTEND;TZID=Europe/Budapest:20260423T213000
DTSTAMP:20260424T001450
CREATED:20260212T074617Z
LAST-MODIFIED:20260401T080817Z
UID:10001544-1776972600-1776979800@sport.uni-pannon.hu
SUMMARY:Népek Táncai Klub
DESCRIPTION:Részvétel díjtalan. \n\nIdőpont: Csütörtök 19:00-21:30\nHelyszín: Pannon Egyetem\, E épület\, kamaraterem (8200 Veszprém\, Egyetem utca 10.)\nÓratartó: Tímár Lajos\, klubvezető\nElérhetőség: timar.lajos@uni-pannon.hu\nTovábbi információ: https://johangulat.uni-pannon.hu/
URL:https://sport.uni-pannon.hu/event/nepek-tancai-klub/2026-04-23/
LOCATION:Pannon Egyetem\, E épület\, Egyeten utca 10.\, Veszprém\, Veszprém\, 8200\, Hungary
CATEGORIES:Nyilvános sportkínálat
ATTACH;FMTTYPE=image/jpeg:https://sport.uni-pannon.hu/wp-content/uploads/2026/02/2Nepek-tancai.jpg
END:VEVENT
BEGIN:VEVENT
DTSTART;TZID=Europe/Budapest:20260423T140000
DTEND;TZID=Europe/Budapest:20260423T153000
DTSTAMP:20260424T001450
CREATED:20260227T105438Z
LAST-MODIFIED:20260227T105438Z
UID:10003863-1776952800-1776958200@sport.uni-pannon.hu
SUMMARY:Fejlesztő Zsonglőrködés
DESCRIPTION:Pannon Egyetem SAS Bizottsága (https://sasbizottsag.uni-pannon.hu/) által koordinált program. A kurzuson a Pannon Egyetem érvényes SAS regisztrációval rendelkező hallgatói vehetnek részt. A kurzuson való részvétel díjtalan.\nIdőpont: febr. 19. 26.\, márc. 5. 12. 19.\, ápr. 16. 23. 30.\, máj. 7. 14. 14:00 – 15:30.\nHelyszín: Pannon Egyetem\, E épület\nKedvcsináló videó: https://fb.watch/ioMdsOeHu8/
URL:https://sport.uni-pannon.hu/event/fejleszto-zsonglorkodes-3/2026-04-23/
LOCATION:Pannon Egyetem\, E épület\, Egyeten utca 10.\, Veszprém\, Veszprém\, 8200\, Hungary
CATEGORIES:Hallgatói sportkínálat
ATTACH;FMTTYPE=image/jpeg:https://sport.uni-pannon.hu/wp-content/uploads/2026/02/multi-colored-spheres-sport-balls-galore-outdoors-generated-by-ai-scaled.jpg
END:VEVENT
BEGIN:VEVENT
DTSTART;TZID=Europe/Budapest:20260422T161500
DTEND;TZID=Europe/Budapest:20260422T171500
DTSTAMP:20260424T001450
CREATED:20260213T091535Z
LAST-MODIFIED:20260213T091535Z
UID:10003610-1776874500-1776878100@sport.uni-pannon.hu
SUMMARY:Hatha jóga
DESCRIPTION:Időpont: szerda 16:15-17:15\nHelyszín: Veszprém\, Pannon Egyetem\, E épület\, Pannon KözTér\nJelentkezés és további információ: https://alairas.sport.uni-pannon.hu/
URL:https://sport.uni-pannon.hu/event/hatha-joga/2026-04-22/
LOCATION:Pannon Egyetem\, E épület\, Egyeten utca 10.\, Veszprém\, Veszprém\, 8200\, Hungary
CATEGORIES:Hallgatói sportkínálat
ATTACH;FMTTYPE=image/jpeg:https://sport.uni-pannon.hu/wp-content/uploads/2026/02/group-young-people-balasana-pose-scaled.jpg
END:VEVENT
BEGIN:VEVENT
DTSTART;TZID=Europe/Budapest:20260421T183000
DTEND;TZID=Europe/Budapest:20260421T200000
DTSTAMP:20260424T001450
CREATED:20260213T085852Z
LAST-MODIFIED:20260213T085852Z
UID:10003509-1776796200-1776801600@sport.uni-pannon.hu
SUMMARY:Sakk
DESCRIPTION:Időpont: hétfő\, kedd: 18:30-20:00\nHelyszín: Veszprém\, Pannon Egyetem\, E épület\, E13 terem\nTérítésmentes egyetemi hallgatók részére.\nJelentkezés és további információ: https://alairas.sport.uni-pannon.hu/
URL:https://sport.uni-pannon.hu/event/sakk/2026-04-21/
LOCATION:Pannon Egyetem\, E épület\, Egyeten utca 10.\, Veszprém\, Veszprém\, 8200\, Hungary
CATEGORIES:Hallgatói sportkínálat
ATTACH;FMTTYPE=image/jpeg:https://sport.uni-pannon.hu/wp-content/uploads/2026/02/DSC_6568-scaled.jpg
END:VEVENT
BEGIN:VEVENT
DTSTART;TZID=Europe/Budapest:20260420T200000
DTEND;TZID=Europe/Budapest:20260420T220000
DTSTAMP:20260424T001450
CREATED:20260212T101022Z
LAST-MODIFIED:20260312T141539Z
UID:10003204-1776715200-1776722400@sport.uni-pannon.hu
SUMMARY:Pannon Egyetem Néptánc kör
DESCRIPTION:Időpont: hétfő 20:00-22:00\nHelyszín: Pannon Egyetem\, E épület\, kamaraterem\nTérítésmentes egyetemi hallgatók részére.\nJelentkezés és további információ: https://alairas.sport.uni-pannon.hu/
URL:https://sport.uni-pannon.hu/event/pannon-egyetem-neptanc-kor/2026-04-20/
LOCATION:Pannon Egyetem\, E épület\, Egyeten utca 10.\, Veszprém\, Veszprém\, 8200\, Hungary
CATEGORIES:Hallgatói sportkínálat
ATTACH;FMTTYPE=image/jpeg:https://sport.uni-pannon.hu/wp-content/uploads/2026/02/neptanc-magyar.jpg
END:VEVENT
BEGIN:VEVENT
DTSTART;TZID=Europe/Budapest:20260420T183000
DTEND;TZID=Europe/Budapest:20260420T200000
DTSTAMP:20260424T001450
CREATED:20260213T085852Z
LAST-MODIFIED:20260213T085852Z
UID:10003508-1776709800-1776715200@sport.uni-pannon.hu
SUMMARY:Sakk
DESCRIPTION:Időpont: hétfő\, kedd: 18:30-20:00\nHelyszín: Veszprém\, Pannon Egyetem\, E épület\, E13 terem\nTérítésmentes egyetemi hallgatók részére.\nJelentkezés és további információ: https://alairas.sport.uni-pannon.hu/
URL:https://sport.uni-pannon.hu/event/sakk/2026-04-20/
LOCATION:Pannon Egyetem\, E épület\, Egyeten utca 10.\, Veszprém\, Veszprém\, 8200\, Hungary
CATEGORIES:Hallgatói sportkínálat
ATTACH;FMTTYPE=image/jpeg:https://sport.uni-pannon.hu/wp-content/uploads/2026/02/DSC_6568-scaled.jpg
END:VEVENT
BEGIN:VEVENT
DTSTART;TZID=Europe/Budapest:20260416T193000
DTEND;TZID=Europe/Budapest:20260416T213000
DTSTAMP:20260424T001450
CREATED:20260212T074617Z
LAST-MODIFIED:20260401T080817Z
UID:10001543-1776367800-1776375000@sport.uni-pannon.hu
SUMMARY:Népek Táncai Klub
DESCRIPTION:Részvétel díjtalan. \n\nIdőpont: Csütörtök 19:00-21:30\nHelyszín: Pannon Egyetem\, E épület\, kamaraterem (8200 Veszprém\, Egyetem utca 10.)\nÓratartó: Tímár Lajos\, klubvezető\nElérhetőség: timar.lajos@uni-pannon.hu\nTovábbi információ: https://johangulat.uni-pannon.hu/
URL:https://sport.uni-pannon.hu/event/nepek-tancai-klub/2026-04-16/
LOCATION:Pannon Egyetem\, E épület\, Egyeten utca 10.\, Veszprém\, Veszprém\, 8200\, Hungary
CATEGORIES:Nyilvános sportkínálat
ATTACH;FMTTYPE=image/jpeg:https://sport.uni-pannon.hu/wp-content/uploads/2026/02/2Nepek-tancai.jpg
END:VEVENT
BEGIN:VEVENT
DTSTART;TZID=Europe/Budapest:20260416T140000
DTEND;TZID=Europe/Budapest:20260416T153000
DTSTAMP:20260424T001450
CREATED:20260227T105438Z
LAST-MODIFIED:20260227T105438Z
UID:10003862-1776348000-1776353400@sport.uni-pannon.hu
SUMMARY:Fejlesztő Zsonglőrködés
DESCRIPTION:Pannon Egyetem SAS Bizottsága (https://sasbizottsag.uni-pannon.hu/) által koordinált program. A kurzuson a Pannon Egyetem érvényes SAS regisztrációval rendelkező hallgatói vehetnek részt. A kurzuson való részvétel díjtalan.\nIdőpont: febr. 19. 26.\, márc. 5. 12. 19.\, ápr. 16. 23. 30.\, máj. 7. 14. 14:00 – 15:30.\nHelyszín: Pannon Egyetem\, E épület\nKedvcsináló videó: https://fb.watch/ioMdsOeHu8/
URL:https://sport.uni-pannon.hu/event/fejleszto-zsonglorkodes-3/2026-04-16/
LOCATION:Pannon Egyetem\, E épület\, Egyeten utca 10.\, Veszprém\, Veszprém\, 8200\, Hungary
CATEGORIES:Hallgatói sportkínálat
ATTACH;FMTTYPE=image/jpeg:https://sport.uni-pannon.hu/wp-content/uploads/2026/02/multi-colored-spheres-sport-balls-galore-outdoors-generated-by-ai-scaled.jpg
END:VEVENT
BEGIN:VEVENT
DTSTART;TZID=Europe/Budapest:20260415T161500
DTEND;TZID=Europe/Budapest:20260415T171500
DTSTAMP:20260424T001450
CREATED:20260213T091535Z
LAST-MODIFIED:20260213T091535Z
UID:10003609-1776269700-1776273300@sport.uni-pannon.hu
SUMMARY:Hatha jóga
DESCRIPTION:Időpont: szerda 16:15-17:15\nHelyszín: Veszprém\, Pannon Egyetem\, E épület\, Pannon KözTér\nJelentkezés és további információ: https://alairas.sport.uni-pannon.hu/
URL:https://sport.uni-pannon.hu/event/hatha-joga/2026-04-15/
LOCATION:Pannon Egyetem\, E épület\, Egyeten utca 10.\, Veszprém\, Veszprém\, 8200\, Hungary
CATEGORIES:Hallgatói sportkínálat
ATTACH;FMTTYPE=image/jpeg:https://sport.uni-pannon.hu/wp-content/uploads/2026/02/group-young-people-balasana-pose-scaled.jpg
END:VEVENT
BEGIN:VEVENT
DTSTART;TZID=Europe/Budapest:20260414T183000
DTEND;TZID=Europe/Budapest:20260414T200000
DTSTAMP:20260424T001450
CREATED:20260213T085852Z
LAST-MODIFIED:20260213T085852Z
UID:10003507-1776191400-1776196800@sport.uni-pannon.hu
SUMMARY:Sakk
DESCRIPTION:Időpont: hétfő\, kedd: 18:30-20:00\nHelyszín: Veszprém\, Pannon Egyetem\, E épület\, E13 terem\nTérítésmentes egyetemi hallgatók részére.\nJelentkezés és további információ: https://alairas.sport.uni-pannon.hu/
URL:https://sport.uni-pannon.hu/event/sakk/2026-04-14/
LOCATION:Pannon Egyetem\, E épület\, Egyeten utca 10.\, Veszprém\, Veszprém\, 8200\, Hungary
CATEGORIES:Hallgatói sportkínálat
ATTACH;FMTTYPE=image/jpeg:https://sport.uni-pannon.hu/wp-content/uploads/2026/02/DSC_6568-scaled.jpg
END:VEVENT
BEGIN:VEVENT
DTSTART;TZID=Europe/Budapest:20260413T200000
DTEND;TZID=Europe/Budapest:20260413T220000
DTSTAMP:20260424T001450
CREATED:20260212T101022Z
LAST-MODIFIED:20260312T141539Z
UID:10003203-1776110400-1776117600@sport.uni-pannon.hu
SUMMARY:Pannon Egyetem Néptánc kör
DESCRIPTION:Időpont: hétfő 20:00-22:00\nHelyszín: Pannon Egyetem\, E épület\, kamaraterem\nTérítésmentes egyetemi hallgatók részére.\nJelentkezés és további információ: https://alairas.sport.uni-pannon.hu/
URL:https://sport.uni-pannon.hu/event/pannon-egyetem-neptanc-kor/2026-04-13/
LOCATION:Pannon Egyetem\, E épület\, Egyeten utca 10.\, Veszprém\, Veszprém\, 8200\, Hungary
CATEGORIES:Hallgatói sportkínálat
ATTACH;FMTTYPE=image/jpeg:https://sport.uni-pannon.hu/wp-content/uploads/2026/02/neptanc-magyar.jpg
END:VEVENT
BEGIN:VEVENT
DTSTART;TZID=Europe/Budapest:20260413T183000
DTEND;TZID=Europe/Budapest:20260413T200000
DTSTAMP:20260424T001450
CREATED:20260213T085852Z
LAST-MODIFIED:20260213T085852Z
UID:10003506-1776105000-1776110400@sport.uni-pannon.hu
SUMMARY:Sakk
DESCRIPTION:Időpont: hétfő\, kedd: 18:30-20:00\nHelyszín: Veszprém\, Pannon Egyetem\, E épület\, E13 terem\nTérítésmentes egyetemi hallgatók részére.\nJelentkezés és további információ: https://alairas.sport.uni-pannon.hu/
URL:https://sport.uni-pannon.hu/event/sakk/2026-04-13/
LOCATION:Pannon Egyetem\, E épület\, Egyeten utca 10.\, Veszprém\, Veszprém\, 8200\, Hungary
CATEGORIES:Hallgatói sportkínálat
ATTACH;FMTTYPE=image/jpeg:https://sport.uni-pannon.hu/wp-content/uploads/2026/02/DSC_6568-scaled.jpg
END:VEVENT
BEGIN:VEVENT
DTSTART;TZID=Europe/Budapest:20260409T193000
DTEND;TZID=Europe/Budapest:20260409T213000
DTSTAMP:20260424T001450
CREATED:20260212T074617Z
LAST-MODIFIED:20260401T080817Z
UID:10001542-1775763000-1775770200@sport.uni-pannon.hu
SUMMARY:Népek Táncai Klub
DESCRIPTION:Részvétel díjtalan. \n\nIdőpont: Csütörtök 19:00-21:30\nHelyszín: Pannon Egyetem\, E épület\, kamaraterem (8200 Veszprém\, Egyetem utca 10.)\nÓratartó: Tímár Lajos\, klubvezető\nElérhetőség: timar.lajos@uni-pannon.hu\nTovábbi információ: https://johangulat.uni-pannon.hu/
URL:https://sport.uni-pannon.hu/event/nepek-tancai-klub/2026-04-09/
LOCATION:Pannon Egyetem\, E épület\, Egyeten utca 10.\, Veszprém\, Veszprém\, 8200\, Hungary
CATEGORIES:Nyilvános sportkínálat
ATTACH;FMTTYPE=image/jpeg:https://sport.uni-pannon.hu/wp-content/uploads/2026/02/2Nepek-tancai.jpg
END:VEVENT
BEGIN:VEVENT
DTSTART;TZID=Europe/Budapest:20260408T161500
DTEND;TZID=Europe/Budapest:20260408T171500
DTSTAMP:20260424T001450
CREATED:20260213T091535Z
LAST-MODIFIED:20260213T091535Z
UID:10003608-1775664900-1775668500@sport.uni-pannon.hu
SUMMARY:Hatha jóga
DESCRIPTION:Időpont: szerda 16:15-17:15\nHelyszín: Veszprém\, Pannon Egyetem\, E épület\, Pannon KözTér\nJelentkezés és további információ: https://alairas.sport.uni-pannon.hu/
URL:https://sport.uni-pannon.hu/event/hatha-joga/2026-04-08/
LOCATION:Pannon Egyetem\, E épület\, Egyeten utca 10.\, Veszprém\, Veszprém\, 8200\, Hungary
CATEGORIES:Hallgatói sportkínálat
ATTACH;FMTTYPE=image/jpeg:https://sport.uni-pannon.hu/wp-content/uploads/2026/02/group-young-people-balasana-pose-scaled.jpg
END:VEVENT
BEGIN:VEVENT
DTSTART;TZID=Europe/Budapest:20260407T183000
DTEND;TZID=Europe/Budapest:20260407T200000
DTSTAMP:20260424T001450
CREATED:20260213T085852Z
LAST-MODIFIED:20260213T085852Z
UID:10003505-1775586600-1775592000@sport.uni-pannon.hu
SUMMARY:Sakk
DESCRIPTION:Időpont: hétfő\, kedd: 18:30-20:00\nHelyszín: Veszprém\, Pannon Egyetem\, E épület\, E13 terem\nTérítésmentes egyetemi hallgatók részére.\nJelentkezés és további információ: https://alairas.sport.uni-pannon.hu/
URL:https://sport.uni-pannon.hu/event/sakk/2026-04-07/
LOCATION:Pannon Egyetem\, E épület\, Egyeten utca 10.\, Veszprém\, Veszprém\, 8200\, Hungary
CATEGORIES:Hallgatói sportkínálat
ATTACH;FMTTYPE=image/jpeg:https://sport.uni-pannon.hu/wp-content/uploads/2026/02/DSC_6568-scaled.jpg
END:VEVENT
BEGIN:VEVENT
DTSTART;TZID=Europe/Budapest:20260406T200000
DTEND;TZID=Europe/Budapest:20260406T220000
DTSTAMP:20260424T001450
CREATED:20260212T101022Z
LAST-MODIFIED:20260312T141539Z
UID:10003202-1775505600-1775512800@sport.uni-pannon.hu
SUMMARY:Pannon Egyetem Néptánc kör
DESCRIPTION:Időpont: hétfő 20:00-22:00\nHelyszín: Pannon Egyetem\, E épület\, kamaraterem\nTérítésmentes egyetemi hallgatók részére.\nJelentkezés és további információ: https://alairas.sport.uni-pannon.hu/
URL:https://sport.uni-pannon.hu/event/pannon-egyetem-neptanc-kor/2026-04-06/
LOCATION:Pannon Egyetem\, E épület\, Egyeten utca 10.\, Veszprém\, Veszprém\, 8200\, Hungary
CATEGORIES:Hallgatói sportkínálat
ATTACH;FMTTYPE=image/jpeg:https://sport.uni-pannon.hu/wp-content/uploads/2026/02/neptanc-magyar.jpg
END:VEVENT
BEGIN:VEVENT
DTSTART;TZID=Europe/Budapest:20260406T183000
DTEND;TZID=Europe/Budapest:20260406T200000
DTSTAMP:20260424T001450
CREATED:20260213T085852Z
LAST-MODIFIED:20260213T085852Z
UID:10003504-1775500200-1775505600@sport.uni-pannon.hu
SUMMARY:Sakk
DESCRIPTION:Időpont: hétfő\, kedd: 18:30-20:00\nHelyszín: Veszprém\, Pannon Egyetem\, E épület\, E13 terem\nTérítésmentes egyetemi hallgatók részére.\nJelentkezés és további információ: https://alairas.sport.uni-pannon.hu/
URL:https://sport.uni-pannon.hu/event/sakk/2026-04-06/
LOCATION:Pannon Egyetem\, E épület\, Egyeten utca 10.\, Veszprém\, Veszprém\, 8200\, Hungary
CATEGORIES:Hallgatói sportkínálat
ATTACH;FMTTYPE=image/jpeg:https://sport.uni-pannon.hu/wp-content/uploads/2026/02/DSC_6568-scaled.jpg
END:VEVENT
BEGIN:VEVENT
DTSTART;TZID=Europe/Budapest:20260402T193000
DTEND;TZID=Europe/Budapest:20260402T213000
DTSTAMP:20260424T001450
CREATED:20260212T074617Z
LAST-MODIFIED:20260401T080817Z
UID:10001541-1775158200-1775165400@sport.uni-pannon.hu
SUMMARY:Népek Táncai Klub
DESCRIPTION:Részvétel díjtalan. \n\nIdőpont: Csütörtök 19:00-21:30\nHelyszín: Pannon Egyetem\, E épület\, kamaraterem (8200 Veszprém\, Egyetem utca 10.)\nÓratartó: Tímár Lajos\, klubvezető\nElérhetőség: timar.lajos@uni-pannon.hu\nTovábbi információ: https://johangulat.uni-pannon.hu/
URL:https://sport.uni-pannon.hu/event/nepek-tancai-klub/2026-04-02/
LOCATION:Pannon Egyetem\, E épület\, Egyeten utca 10.\, Veszprém\, Veszprém\, 8200\, Hungary
CATEGORIES:Nyilvános sportkínálat
ATTACH;FMTTYPE=image/jpeg:https://sport.uni-pannon.hu/wp-content/uploads/2026/02/2Nepek-tancai.jpg
END:VEVENT
BEGIN:VEVENT
DTSTART;TZID=Europe/Budapest:20260401T161500
DTEND;TZID=Europe/Budapest:20260401T171500
DTSTAMP:20260424T001450
CREATED:20260213T091535Z
LAST-MODIFIED:20260213T091535Z
UID:10003607-1775060100-1775063700@sport.uni-pannon.hu
SUMMARY:Hatha jóga
DESCRIPTION:Időpont: szerda 16:15-17:15\nHelyszín: Veszprém\, Pannon Egyetem\, E épület\, Pannon KözTér\nJelentkezés és további információ: https://alairas.sport.uni-pannon.hu/
URL:https://sport.uni-pannon.hu/event/hatha-joga/2026-04-01/
LOCATION:Pannon Egyetem\, E épület\, Egyeten utca 10.\, Veszprém\, Veszprém\, 8200\, Hungary
CATEGORIES:Hallgatói sportkínálat
ATTACH;FMTTYPE=image/jpeg:https://sport.uni-pannon.hu/wp-content/uploads/2026/02/group-young-people-balasana-pose-scaled.jpg
END:VEVENT
BEGIN:VEVENT
DTSTART;TZID=Europe/Budapest:20260331T183000
DTEND;TZID=Europe/Budapest:20260331T200000
DTSTAMP:20260424T001450
CREATED:20260213T085852Z
LAST-MODIFIED:20260213T085852Z
UID:10003503-1774981800-1774987200@sport.uni-pannon.hu
SUMMARY:Sakk
DESCRIPTION:Időpont: hétfő\, kedd: 18:30-20:00\nHelyszín: Veszprém\, Pannon Egyetem\, E épület\, E13 terem\nTérítésmentes egyetemi hallgatók részére.\nJelentkezés és további információ: https://alairas.sport.uni-pannon.hu/
URL:https://sport.uni-pannon.hu/event/sakk/2026-03-31/
LOCATION:Pannon Egyetem\, E épület\, Egyeten utca 10.\, Veszprém\, Veszprém\, 8200\, Hungary
CATEGORIES:Hallgatói sportkínálat
ATTACH;FMTTYPE=image/jpeg:https://sport.uni-pannon.hu/wp-content/uploads/2026/02/DSC_6568-scaled.jpg
END:VEVENT
BEGIN:VEVENT
DTSTART;TZID=Europe/Budapest:20260330T200000
DTEND;TZID=Europe/Budapest:20260330T220000
DTSTAMP:20260424T001450
CREATED:20260212T101022Z
LAST-MODIFIED:20260312T141539Z
UID:10003201-1774900800-1774908000@sport.uni-pannon.hu
SUMMARY:Pannon Egyetem Néptánc kör
DESCRIPTION:Időpont: hétfő 20:00-22:00\nHelyszín: Pannon Egyetem\, E épület\, kamaraterem\nTérítésmentes egyetemi hallgatók részére.\nJelentkezés és további információ: https://alairas.sport.uni-pannon.hu/
URL:https://sport.uni-pannon.hu/event/pannon-egyetem-neptanc-kor/2026-03-30/
LOCATION:Pannon Egyetem\, E épület\, Egyeten utca 10.\, Veszprém\, Veszprém\, 8200\, Hungary
CATEGORIES:Hallgatói sportkínálat
ATTACH;FMTTYPE=image/jpeg:https://sport.uni-pannon.hu/wp-content/uploads/2026/02/neptanc-magyar.jpg
END:VEVENT
BEGIN:VEVENT
DTSTART;TZID=Europe/Budapest:20260330T183000
DTEND;TZID=Europe/Budapest:20260330T200000
DTSTAMP:20260424T001450
CREATED:20260213T085852Z
LAST-MODIFIED:20260213T085852Z
UID:10003502-1774895400-1774900800@sport.uni-pannon.hu
SUMMARY:Sakk
DESCRIPTION:Időpont: hétfő\, kedd: 18:30-20:00\nHelyszín: Veszprém\, Pannon Egyetem\, E épület\, E13 terem\nTérítésmentes egyetemi hallgatók részére.\nJelentkezés és további információ: https://alairas.sport.uni-pannon.hu/
URL:https://sport.uni-pannon.hu/event/sakk/2026-03-30/
LOCATION:Pannon Egyetem\, E épület\, Egyeten utca 10.\, Veszprém\, Veszprém\, 8200\, Hungary
CATEGORIES:Hallgatói sportkínálat
ATTACH;FMTTYPE=image/jpeg:https://sport.uni-pannon.hu/wp-content/uploads/2026/02/DSC_6568-scaled.jpg
END:VEVENT
BEGIN:VEVENT
DTSTART;TZID=Europe/Budapest:20260326T193000
DTEND;TZID=Europe/Budapest:20260326T213000
DTSTAMP:20260424T001450
CREATED:20260212T074617Z
LAST-MODIFIED:20260401T080817Z
UID:10001540-1774553400-1774560600@sport.uni-pannon.hu
SUMMARY:Népek Táncai Klub
DESCRIPTION:Részvétel díjtalan. \n\nIdőpont: Csütörtök 19:00-21:30\nHelyszín: Pannon Egyetem\, E épület\, kamaraterem (8200 Veszprém\, Egyetem utca 10.)\nÓratartó: Tímár Lajos\, klubvezető\nElérhetőség: timar.lajos@uni-pannon.hu\nTovábbi információ: https://johangulat.uni-pannon.hu/
URL:https://sport.uni-pannon.hu/event/nepek-tancai-klub/2026-03-26/
LOCATION:Pannon Egyetem\, E épület\, Egyeten utca 10.\, Veszprém\, Veszprém\, 8200\, Hungary
CATEGORIES:Nyilvános sportkínálat
ATTACH;FMTTYPE=image/jpeg:https://sport.uni-pannon.hu/wp-content/uploads/2026/02/2Nepek-tancai.jpg
END:VEVENT
BEGIN:VEVENT
DTSTART;TZID=Europe/Budapest:20260325T161500
DTEND;TZID=Europe/Budapest:20260325T171500
DTSTAMP:20260424T001450
CREATED:20260213T091535Z
LAST-MODIFIED:20260213T091535Z
UID:10003606-1774455300-1774458900@sport.uni-pannon.hu
SUMMARY:Hatha jóga
DESCRIPTION:Időpont: szerda 16:15-17:15\nHelyszín: Veszprém\, Pannon Egyetem\, E épület\, Pannon KözTér\nJelentkezés és további információ: https://alairas.sport.uni-pannon.hu/
URL:https://sport.uni-pannon.hu/event/hatha-joga/2026-03-25/
LOCATION:Pannon Egyetem\, E épület\, Egyeten utca 10.\, Veszprém\, Veszprém\, 8200\, Hungary
CATEGORIES:Hallgatói sportkínálat
ATTACH;FMTTYPE=image/jpeg:https://sport.uni-pannon.hu/wp-content/uploads/2026/02/group-young-people-balasana-pose-scaled.jpg
END:VEVENT
BEGIN:VEVENT
DTSTART;TZID=Europe/Budapest:20260324T183000
DTEND;TZID=Europe/Budapest:20260324T200000
DTSTAMP:20260424T001450
CREATED:20260213T085852Z
LAST-MODIFIED:20260213T085852Z
UID:10003501-1774377000-1774382400@sport.uni-pannon.hu
SUMMARY:Sakk
DESCRIPTION:Időpont: hétfő\, kedd: 18:30-20:00\nHelyszín: Veszprém\, Pannon Egyetem\, E épület\, E13 terem\nTérítésmentes egyetemi hallgatók részére.\nJelentkezés és további információ: https://alairas.sport.uni-pannon.hu/
URL:https://sport.uni-pannon.hu/event/sakk/2026-03-24/
LOCATION:Pannon Egyetem\, E épület\, Egyeten utca 10.\, Veszprém\, Veszprém\, 8200\, Hungary
CATEGORIES:Hallgatói sportkínálat
ATTACH;FMTTYPE=image/jpeg:https://sport.uni-pannon.hu/wp-content/uploads/2026/02/DSC_6568-scaled.jpg
END:VEVENT
BEGIN:VEVENT
DTSTART;TZID=Europe/Budapest:20260323T200000
DTEND;TZID=Europe/Budapest:20260323T220000
DTSTAMP:20260424T001450
CREATED:20260212T101022Z
LAST-MODIFIED:20260312T141539Z
UID:10003200-1774296000-1774303200@sport.uni-pannon.hu
SUMMARY:Pannon Egyetem Néptánc kör
DESCRIPTION:Időpont: hétfő 20:00-22:00\nHelyszín: Pannon Egyetem\, E épület\, kamaraterem\nTérítésmentes egyetemi hallgatók részére.\nJelentkezés és további információ: https://alairas.sport.uni-pannon.hu/
URL:https://sport.uni-pannon.hu/event/pannon-egyetem-neptanc-kor/2026-03-23/
LOCATION:Pannon Egyetem\, E épület\, Egyeten utca 10.\, Veszprém\, Veszprém\, 8200\, Hungary
CATEGORIES:Hallgatói sportkínálat
ATTACH;FMTTYPE=image/jpeg:https://sport.uni-pannon.hu/wp-content/uploads/2026/02/neptanc-magyar.jpg
END:VEVENT
BEGIN:VEVENT
DTSTART;TZID=Europe/Budapest:20260323T183000
DTEND;TZID=Europe/Budapest:20260323T200000
DTSTAMP:20260424T001450
CREATED:20260213T085852Z
LAST-MODIFIED:20260213T085852Z
UID:10003500-1774290600-1774296000@sport.uni-pannon.hu
SUMMARY:Sakk
DESCRIPTION:Időpont: hétfő\, kedd: 18:30-20:00\nHelyszín: Veszprém\, Pannon Egyetem\, E épület\, E13 terem\nTérítésmentes egyetemi hallgatók részére.\nJelentkezés és további információ: https://alairas.sport.uni-pannon.hu/
URL:https://sport.uni-pannon.hu/event/sakk/2026-03-23/
LOCATION:Pannon Egyetem\, E épület\, Egyeten utca 10.\, Veszprém\, Veszprém\, 8200\, Hungary
CATEGORIES:Hallgatói sportkínálat
ATTACH;FMTTYPE=image/jpeg:https://sport.uni-pannon.hu/wp-content/uploads/2026/02/DSC_6568-scaled.jpg
END:VEVENT
BEGIN:VEVENT
DTSTART;TZID=Europe/Budapest:20260319T193000
DTEND;TZID=Europe/Budapest:20260319T213000
DTSTAMP:20260424T001450
CREATED:20260212T074617Z
LAST-MODIFIED:20260401T080817Z
UID:10001539-1773948600-1773955800@sport.uni-pannon.hu
SUMMARY:Népek Táncai Klub
DESCRIPTION:Részvétel díjtalan. \n\nIdőpont: Csütörtök 19:00-21:30\nHelyszín: Pannon Egyetem\, E épület\, kamaraterem (8200 Veszprém\, Egyetem utca 10.)\nÓratartó: Tímár Lajos\, klubvezető\nElérhetőség: timar.lajos@uni-pannon.hu\nTovábbi információ: https://johangulat.uni-pannon.hu/
URL:https://sport.uni-pannon.hu/event/nepek-tancai-klub/2026-03-19/
LOCATION:Pannon Egyetem\, E épület\, Egyeten utca 10.\, Veszprém\, Veszprém\, 8200\, Hungary
CATEGORIES:Nyilvános sportkínálat
ATTACH;FMTTYPE=image/jpeg:https://sport.uni-pannon.hu/wp-content/uploads/2026/02/2Nepek-tancai.jpg
END:VEVENT
BEGIN:VEVENT
DTSTART;TZID=Europe/Budapest:20260319T140000
DTEND;TZID=Europe/Budapest:20260319T153000
DTSTAMP:20260424T001450
CREATED:20260227T105405Z
LAST-MODIFIED:20260227T105405Z
UID:10003858-1773928800-1773934200@sport.uni-pannon.hu
SUMMARY:Fejlesztő Zsonglőrködés
DESCRIPTION:Pannon Egyetem SAS Bizottsága (https://sasbizottsag.uni-pannon.hu/) által koordinált program. A kurzuson a Pannon Egyetem érvényes SAS regisztrációval rendelkező hallgatói vehetnek részt. A kurzuson való részvétel díjtalan.\nIdőpont: febr. 19. 26.\, márc. 5. 12. 19.\, ápr. 16. 23. 30.\, máj. 7. 14. 14:00 – 15:30.\nHelyszín: Pannon Egyetem\, E épület\nKedvcsináló videó: https://fb.watch/ioMdsOeHu8/
URL:https://sport.uni-pannon.hu/event/fejleszto-zsonglorkodes-2/2026-03-19/
LOCATION:Pannon Egyetem\, E épület\, Egyeten utca 10.\, Veszprém\, Veszprém\, 8200\, Hungary
CATEGORIES:Hallgatói sportkínálat
ATTACH;FMTTYPE=image/jpeg:https://sport.uni-pannon.hu/wp-content/uploads/2026/02/multi-colored-spheres-sport-balls-galore-outdoors-generated-by-ai-scaled.jpg
END:VEVENT
BEGIN:VEVENT
DTSTART;TZID=Europe/Budapest:20260318T161500
DTEND;TZID=Europe/Budapest:20260318T171500
DTSTAMP:20260424T001450
CREATED:20260213T091535Z
LAST-MODIFIED:20260213T091535Z
UID:10003605-1773850500-1773854100@sport.uni-pannon.hu
SUMMARY:Hatha jóga
DESCRIPTION:Időpont: szerda 16:15-17:15\nHelyszín: Veszprém\, Pannon Egyetem\, E épület\, Pannon KözTér\nJelentkezés és további információ: https://alairas.sport.uni-pannon.hu/
URL:https://sport.uni-pannon.hu/event/hatha-joga/2026-03-18/
LOCATION:Pannon Egyetem\, E épület\, Egyeten utca 10.\, Veszprém\, Veszprém\, 8200\, Hungary
CATEGORIES:Hallgatói sportkínálat
ATTACH;FMTTYPE=image/jpeg:https://sport.uni-pannon.hu/wp-content/uploads/2026/02/group-young-people-balasana-pose-scaled.jpg
END:VEVENT
END:VCALENDAR