BEGIN:VCALENDAR
VERSION:2.0
PRODID:-//Sport Éve 2026 - ECPv6.15.20//NONSGML v1.0//EN
CALSCALE:GREGORIAN
METHOD:PUBLISH
X-ORIGINAL-URL:https://sport.uni-pannon.hu
X-WR-CALDESC:Események Sport Éve 2026
REFRESH-INTERVAL;VALUE=DURATION:PT1H
X-Robots-Tag:noindex
X-PUBLISHED-TTL:PT1H
BEGIN:VTIMEZONE
TZID:Europe/Budapest
BEGIN:DAYLIGHT
TZOFFSETFROM:+0100
TZOFFSETTO:+0200
TZNAME:CEST
DTSTART:20250330T010000
END:DAYLIGHT
BEGIN:STANDARD
TZOFFSETFROM:+0200
TZOFFSETTO:+0100
TZNAME:CET
DTSTART:20251026T010000
END:STANDARD
BEGIN:DAYLIGHT
TZOFFSETFROM:+0100
TZOFFSETTO:+0200
TZNAME:CEST
DTSTART:20260329T010000
END:DAYLIGHT
BEGIN:STANDARD
TZOFFSETFROM:+0200
TZOFFSETTO:+0100
TZNAME:CET
DTSTART:20261025T010000
END:STANDARD
BEGIN:DAYLIGHT
TZOFFSETFROM:+0100
TZOFFSETTO:+0200
TZNAME:CEST
DTSTART:20270328T010000
END:DAYLIGHT
BEGIN:STANDARD
TZOFFSETFROM:+0200
TZOFFSETTO:+0100
TZNAME:CET
DTSTART:20271031T010000
END:STANDARD
END:VTIMEZONE
BEGIN:VEVENT
DTSTART;TZID=Europe/Budapest:20260324T183000
DTEND;TZID=Europe/Budapest:20260324T200000
DTSTAMP:20260424T224631
CREATED:20260213T085852Z
LAST-MODIFIED:20260213T085852Z
UID:10003501-1774377000-1774382400@sport.uni-pannon.hu
SUMMARY:Sakk
DESCRIPTION:Időpont: hétfő\, kedd: 18:30-20:00\nHelyszín: Veszprém\, Pannon Egyetem\, E épület\, E13 terem\nTérítésmentes egyetemi hallgatók részére.\nJelentkezés és további információ: https://alairas.sport.uni-pannon.hu/
URL:https://sport.uni-pannon.hu/event/sakk/2026-03-24/
LOCATION:Pannon Egyetem\, E épület\, Egyeten utca 10.\, Veszprém\, Veszprém\, 8200\, Hungary
CATEGORIES:Hallgatói sportkínálat
ATTACH;FMTTYPE=image/jpeg:https://sport.uni-pannon.hu/wp-content/uploads/2026/02/DSC_6568-scaled.jpg
END:VEVENT
BEGIN:VEVENT
DTSTART;TZID=Europe/Budapest:20260323T200000
DTEND;TZID=Europe/Budapest:20260323T220000
DTSTAMP:20260424T224631
CREATED:20260212T101022Z
LAST-MODIFIED:20260312T141539Z
UID:10003200-1774296000-1774303200@sport.uni-pannon.hu
SUMMARY:Pannon Egyetem Néptánc kör
DESCRIPTION:Időpont: hétfő 20:00-22:00\nHelyszín: Pannon Egyetem\, E épület\, kamaraterem\nTérítésmentes egyetemi hallgatók részére.\nJelentkezés és további információ: https://alairas.sport.uni-pannon.hu/
URL:https://sport.uni-pannon.hu/event/pannon-egyetem-neptanc-kor/2026-03-23/
LOCATION:Pannon Egyetem\, E épület\, Egyeten utca 10.\, Veszprém\, Veszprém\, 8200\, Hungary
CATEGORIES:Hallgatói sportkínálat
ATTACH;FMTTYPE=image/jpeg:https://sport.uni-pannon.hu/wp-content/uploads/2026/02/neptanc-magyar.jpg
END:VEVENT
BEGIN:VEVENT
DTSTART;TZID=Europe/Budapest:20260323T183000
DTEND;TZID=Europe/Budapest:20260323T200000
DTSTAMP:20260424T224631
CREATED:20260213T085852Z
LAST-MODIFIED:20260213T085852Z
UID:10003500-1774290600-1774296000@sport.uni-pannon.hu
SUMMARY:Sakk
DESCRIPTION:Időpont: hétfő\, kedd: 18:30-20:00\nHelyszín: Veszprém\, Pannon Egyetem\, E épület\, E13 terem\nTérítésmentes egyetemi hallgatók részére.\nJelentkezés és további információ: https://alairas.sport.uni-pannon.hu/
URL:https://sport.uni-pannon.hu/event/sakk/2026-03-23/
LOCATION:Pannon Egyetem\, E épület\, Egyeten utca 10.\, Veszprém\, Veszprém\, 8200\, Hungary
CATEGORIES:Hallgatói sportkínálat
ATTACH;FMTTYPE=image/jpeg:https://sport.uni-pannon.hu/wp-content/uploads/2026/02/DSC_6568-scaled.jpg
END:VEVENT
BEGIN:VEVENT
DTSTART;TZID=Europe/Budapest:20260319T193000
DTEND;TZID=Europe/Budapest:20260319T213000
DTSTAMP:20260424T224631
CREATED:20260212T074617Z
LAST-MODIFIED:20260401T080817Z
UID:10001539-1773948600-1773955800@sport.uni-pannon.hu
SUMMARY:Népek Táncai Klub
DESCRIPTION:Részvétel díjtalan. \n\nIdőpont: Csütörtök 19:00-21:30\nHelyszín: Pannon Egyetem\, E épület\, kamaraterem (8200 Veszprém\, Egyetem utca 10.)\nÓratartó: Tímár Lajos\, klubvezető\nElérhetőség: timar.lajos@uni-pannon.hu\nTovábbi információ: https://johangulat.uni-pannon.hu/
URL:https://sport.uni-pannon.hu/event/nepek-tancai-klub/2026-03-19/
LOCATION:Pannon Egyetem\, E épület\, Egyeten utca 10.\, Veszprém\, Veszprém\, 8200\, Hungary
CATEGORIES:Nyilvános sportkínálat
ATTACH;FMTTYPE=image/jpeg:https://sport.uni-pannon.hu/wp-content/uploads/2026/02/2Nepek-tancai.jpg
END:VEVENT
BEGIN:VEVENT
DTSTART;TZID=Europe/Budapest:20260319T140000
DTEND;TZID=Europe/Budapest:20260319T153000
DTSTAMP:20260424T224631
CREATED:20260227T105405Z
LAST-MODIFIED:20260227T105405Z
UID:10003858-1773928800-1773934200@sport.uni-pannon.hu
SUMMARY:Fejlesztő Zsonglőrködés
DESCRIPTION:Pannon Egyetem SAS Bizottsága (https://sasbizottsag.uni-pannon.hu/) által koordinált program. A kurzuson a Pannon Egyetem érvényes SAS regisztrációval rendelkező hallgatói vehetnek részt. A kurzuson való részvétel díjtalan.\nIdőpont: febr. 19. 26.\, márc. 5. 12. 19.\, ápr. 16. 23. 30.\, máj. 7. 14. 14:00 – 15:30.\nHelyszín: Pannon Egyetem\, E épület\nKedvcsináló videó: https://fb.watch/ioMdsOeHu8/
URL:https://sport.uni-pannon.hu/event/fejleszto-zsonglorkodes-2/2026-03-19/
LOCATION:Pannon Egyetem\, E épület\, Egyeten utca 10.\, Veszprém\, Veszprém\, 8200\, Hungary
CATEGORIES:Hallgatói sportkínálat
ATTACH;FMTTYPE=image/jpeg:https://sport.uni-pannon.hu/wp-content/uploads/2026/02/multi-colored-spheres-sport-balls-galore-outdoors-generated-by-ai-scaled.jpg
END:VEVENT
BEGIN:VEVENT
DTSTART;TZID=Europe/Budapest:20260318T161500
DTEND;TZID=Europe/Budapest:20260318T171500
DTSTAMP:20260424T224631
CREATED:20260213T091535Z
LAST-MODIFIED:20260213T091535Z
UID:10003605-1773850500-1773854100@sport.uni-pannon.hu
SUMMARY:Hatha jóga
DESCRIPTION:Időpont: szerda 16:15-17:15\nHelyszín: Veszprém\, Pannon Egyetem\, E épület\, Pannon KözTér\nJelentkezés és további információ: https://alairas.sport.uni-pannon.hu/
URL:https://sport.uni-pannon.hu/event/hatha-joga/2026-03-18/
LOCATION:Pannon Egyetem\, E épület\, Egyeten utca 10.\, Veszprém\, Veszprém\, 8200\, Hungary
CATEGORIES:Hallgatói sportkínálat
ATTACH;FMTTYPE=image/jpeg:https://sport.uni-pannon.hu/wp-content/uploads/2026/02/group-young-people-balasana-pose-scaled.jpg
END:VEVENT
BEGIN:VEVENT
DTSTART;TZID=Europe/Budapest:20260317T183000
DTEND;TZID=Europe/Budapest:20260317T200000
DTSTAMP:20260424T224631
CREATED:20260213T085852Z
LAST-MODIFIED:20260213T085852Z
UID:10003499-1773772200-1773777600@sport.uni-pannon.hu
SUMMARY:Sakk
DESCRIPTION:Időpont: hétfő\, kedd: 18:30-20:00\nHelyszín: Veszprém\, Pannon Egyetem\, E épület\, E13 terem\nTérítésmentes egyetemi hallgatók részére.\nJelentkezés és további információ: https://alairas.sport.uni-pannon.hu/
URL:https://sport.uni-pannon.hu/event/sakk/2026-03-17/
LOCATION:Pannon Egyetem\, E épület\, Egyeten utca 10.\, Veszprém\, Veszprém\, 8200\, Hungary
CATEGORIES:Hallgatói sportkínálat
ATTACH;FMTTYPE=image/jpeg:https://sport.uni-pannon.hu/wp-content/uploads/2026/02/DSC_6568-scaled.jpg
END:VEVENT
BEGIN:VEVENT
DTSTART;TZID=Europe/Budapest:20260316T200000
DTEND;TZID=Europe/Budapest:20260316T220000
DTSTAMP:20260424T224631
CREATED:20260212T101022Z
LAST-MODIFIED:20260312T141539Z
UID:10003199-1773691200-1773698400@sport.uni-pannon.hu
SUMMARY:Pannon Egyetem Néptánc kör
DESCRIPTION:Időpont: hétfő 20:00-22:00\nHelyszín: Pannon Egyetem\, E épület\, kamaraterem\nTérítésmentes egyetemi hallgatók részére.\nJelentkezés és további információ: https://alairas.sport.uni-pannon.hu/
URL:https://sport.uni-pannon.hu/event/pannon-egyetem-neptanc-kor/2026-03-16/
LOCATION:Pannon Egyetem\, E épület\, Egyeten utca 10.\, Veszprém\, Veszprém\, 8200\, Hungary
CATEGORIES:Hallgatói sportkínálat
ATTACH;FMTTYPE=image/jpeg:https://sport.uni-pannon.hu/wp-content/uploads/2026/02/neptanc-magyar.jpg
END:VEVENT
BEGIN:VEVENT
DTSTART;TZID=Europe/Budapest:20260316T183000
DTEND;TZID=Europe/Budapest:20260316T200000
DTSTAMP:20260424T224631
CREATED:20260213T085852Z
LAST-MODIFIED:20260213T085852Z
UID:10003498-1773685800-1773691200@sport.uni-pannon.hu
SUMMARY:Sakk
DESCRIPTION:Időpont: hétfő\, kedd: 18:30-20:00\nHelyszín: Veszprém\, Pannon Egyetem\, E épület\, E13 terem\nTérítésmentes egyetemi hallgatók részére.\nJelentkezés és további információ: https://alairas.sport.uni-pannon.hu/
URL:https://sport.uni-pannon.hu/event/sakk/2026-03-16/
LOCATION:Pannon Egyetem\, E épület\, Egyeten utca 10.\, Veszprém\, Veszprém\, 8200\, Hungary
CATEGORIES:Hallgatói sportkínálat
ATTACH;FMTTYPE=image/jpeg:https://sport.uni-pannon.hu/wp-content/uploads/2026/02/DSC_6568-scaled.jpg
END:VEVENT
BEGIN:VEVENT
DTSTART;TZID=Europe/Budapest:20260312T193000
DTEND;TZID=Europe/Budapest:20260312T213000
DTSTAMP:20260424T224631
CREATED:20260212T074617Z
LAST-MODIFIED:20260401T080817Z
UID:10001538-1773343800-1773351000@sport.uni-pannon.hu
SUMMARY:Népek Táncai Klub
DESCRIPTION:Részvétel díjtalan. \n\nIdőpont: Csütörtök 19:00-21:30\nHelyszín: Pannon Egyetem\, E épület\, kamaraterem (8200 Veszprém\, Egyetem utca 10.)\nÓratartó: Tímár Lajos\, klubvezető\nElérhetőség: timar.lajos@uni-pannon.hu\nTovábbi információ: https://johangulat.uni-pannon.hu/
URL:https://sport.uni-pannon.hu/event/nepek-tancai-klub/2026-03-12/
LOCATION:Pannon Egyetem\, E épület\, Egyeten utca 10.\, Veszprém\, Veszprém\, 8200\, Hungary
CATEGORIES:Nyilvános sportkínálat
ATTACH;FMTTYPE=image/jpeg:https://sport.uni-pannon.hu/wp-content/uploads/2026/02/2Nepek-tancai.jpg
END:VEVENT
BEGIN:VEVENT
DTSTART;TZID=Europe/Budapest:20260312T140000
DTEND;TZID=Europe/Budapest:20260312T153000
DTSTAMP:20260424T224631
CREATED:20260227T105405Z
LAST-MODIFIED:20260227T105405Z
UID:10003857-1773324000-1773329400@sport.uni-pannon.hu
SUMMARY:Fejlesztő Zsonglőrködés
DESCRIPTION:Pannon Egyetem SAS Bizottsága (https://sasbizottsag.uni-pannon.hu/) által koordinált program. A kurzuson a Pannon Egyetem érvényes SAS regisztrációval rendelkező hallgatói vehetnek részt. A kurzuson való részvétel díjtalan.\nIdőpont: febr. 19. 26.\, márc. 5. 12. 19.\, ápr. 16. 23. 30.\, máj. 7. 14. 14:00 – 15:30.\nHelyszín: Pannon Egyetem\, E épület\nKedvcsináló videó: https://fb.watch/ioMdsOeHu8/
URL:https://sport.uni-pannon.hu/event/fejleszto-zsonglorkodes-2/2026-03-12/
LOCATION:Pannon Egyetem\, E épület\, Egyeten utca 10.\, Veszprém\, Veszprém\, 8200\, Hungary
CATEGORIES:Hallgatói sportkínálat
ATTACH;FMTTYPE=image/jpeg:https://sport.uni-pannon.hu/wp-content/uploads/2026/02/multi-colored-spheres-sport-balls-galore-outdoors-generated-by-ai-scaled.jpg
END:VEVENT
BEGIN:VEVENT
DTSTART;TZID=Europe/Budapest:20260311T161500
DTEND;TZID=Europe/Budapest:20260311T171500
DTSTAMP:20260424T224631
CREATED:20260213T091535Z
LAST-MODIFIED:20260213T091535Z
UID:10003604-1773245700-1773249300@sport.uni-pannon.hu
SUMMARY:Hatha jóga
DESCRIPTION:Időpont: szerda 16:15-17:15\nHelyszín: Veszprém\, Pannon Egyetem\, E épület\, Pannon KözTér\nJelentkezés és további információ: https://alairas.sport.uni-pannon.hu/
URL:https://sport.uni-pannon.hu/event/hatha-joga/2026-03-11/
LOCATION:Pannon Egyetem\, E épület\, Egyeten utca 10.\, Veszprém\, Veszprém\, 8200\, Hungary
CATEGORIES:Hallgatói sportkínálat
ATTACH;FMTTYPE=image/jpeg:https://sport.uni-pannon.hu/wp-content/uploads/2026/02/group-young-people-balasana-pose-scaled.jpg
END:VEVENT
BEGIN:VEVENT
DTSTART;TZID=Europe/Budapest:20260310T183000
DTEND;TZID=Europe/Budapest:20260310T200000
DTSTAMP:20260424T224631
CREATED:20260213T085852Z
LAST-MODIFIED:20260213T085852Z
UID:10003497-1773167400-1773172800@sport.uni-pannon.hu
SUMMARY:Sakk
DESCRIPTION:Időpont: hétfő\, kedd: 18:30-20:00\nHelyszín: Veszprém\, Pannon Egyetem\, E épület\, E13 terem\nTérítésmentes egyetemi hallgatók részére.\nJelentkezés és további információ: https://alairas.sport.uni-pannon.hu/
URL:https://sport.uni-pannon.hu/event/sakk/2026-03-10/
LOCATION:Pannon Egyetem\, E épület\, Egyeten utca 10.\, Veszprém\, Veszprém\, 8200\, Hungary
CATEGORIES:Hallgatói sportkínálat
ATTACH;FMTTYPE=image/jpeg:https://sport.uni-pannon.hu/wp-content/uploads/2026/02/DSC_6568-scaled.jpg
END:VEVENT
BEGIN:VEVENT
DTSTART;TZID=Europe/Budapest:20260309T200000
DTEND;TZID=Europe/Budapest:20260309T220000
DTSTAMP:20260424T224631
CREATED:20260212T101022Z
LAST-MODIFIED:20260312T141539Z
UID:10003198-1773086400-1773093600@sport.uni-pannon.hu
SUMMARY:Pannon Egyetem Néptánc kör
DESCRIPTION:Időpont: hétfő 20:00-22:00\nHelyszín: Pannon Egyetem\, E épület\, kamaraterem\nTérítésmentes egyetemi hallgatók részére.\nJelentkezés és további információ: https://alairas.sport.uni-pannon.hu/
URL:https://sport.uni-pannon.hu/event/pannon-egyetem-neptanc-kor/2026-03-09/
LOCATION:Pannon Egyetem\, E épület\, Egyeten utca 10.\, Veszprém\, Veszprém\, 8200\, Hungary
CATEGORIES:Hallgatói sportkínálat
ATTACH;FMTTYPE=image/jpeg:https://sport.uni-pannon.hu/wp-content/uploads/2026/02/neptanc-magyar.jpg
END:VEVENT
BEGIN:VEVENT
DTSTART;TZID=Europe/Budapest:20260309T183000
DTEND;TZID=Europe/Budapest:20260309T200000
DTSTAMP:20260424T224631
CREATED:20260213T085852Z
LAST-MODIFIED:20260213T085852Z
UID:10003496-1773081000-1773086400@sport.uni-pannon.hu
SUMMARY:Sakk
DESCRIPTION:Időpont: hétfő\, kedd: 18:30-20:00\nHelyszín: Veszprém\, Pannon Egyetem\, E épület\, E13 terem\nTérítésmentes egyetemi hallgatók részére.\nJelentkezés és további információ: https://alairas.sport.uni-pannon.hu/
URL:https://sport.uni-pannon.hu/event/sakk/2026-03-09/
LOCATION:Pannon Egyetem\, E épület\, Egyeten utca 10.\, Veszprém\, Veszprém\, 8200\, Hungary
CATEGORIES:Hallgatói sportkínálat
ATTACH;FMTTYPE=image/jpeg:https://sport.uni-pannon.hu/wp-content/uploads/2026/02/DSC_6568-scaled.jpg
END:VEVENT
BEGIN:VEVENT
DTSTART;TZID=Europe/Budapest:20260305T193000
DTEND;TZID=Europe/Budapest:20260305T213000
DTSTAMP:20260424T224631
CREATED:20260212T074617Z
LAST-MODIFIED:20260401T080817Z
UID:10001537-1772739000-1772746200@sport.uni-pannon.hu
SUMMARY:Népek Táncai Klub
DESCRIPTION:Részvétel díjtalan. \n\nIdőpont: Csütörtök 19:00-21:30\nHelyszín: Pannon Egyetem\, E épület\, kamaraterem (8200 Veszprém\, Egyetem utca 10.)\nÓratartó: Tímár Lajos\, klubvezető\nElérhetőség: timar.lajos@uni-pannon.hu\nTovábbi információ: https://johangulat.uni-pannon.hu/
URL:https://sport.uni-pannon.hu/event/nepek-tancai-klub/2026-03-05/
LOCATION:Pannon Egyetem\, E épület\, Egyeten utca 10.\, Veszprém\, Veszprém\, 8200\, Hungary
CATEGORIES:Nyilvános sportkínálat
ATTACH;FMTTYPE=image/jpeg:https://sport.uni-pannon.hu/wp-content/uploads/2026/02/2Nepek-tancai.jpg
END:VEVENT
BEGIN:VEVENT
DTSTART;TZID=Europe/Budapest:20260305T140000
DTEND;TZID=Europe/Budapest:20260305T153000
DTSTAMP:20260424T224631
CREATED:20260227T105405Z
LAST-MODIFIED:20260227T105405Z
UID:10003856-1772719200-1772724600@sport.uni-pannon.hu
SUMMARY:Fejlesztő Zsonglőrködés
DESCRIPTION:Pannon Egyetem SAS Bizottsága (https://sasbizottsag.uni-pannon.hu/) által koordinált program. A kurzuson a Pannon Egyetem érvényes SAS regisztrációval rendelkező hallgatói vehetnek részt. A kurzuson való részvétel díjtalan.\nIdőpont: febr. 19. 26.\, márc. 5. 12. 19.\, ápr. 16. 23. 30.\, máj. 7. 14. 14:00 – 15:30.\nHelyszín: Pannon Egyetem\, E épület\nKedvcsináló videó: https://fb.watch/ioMdsOeHu8/
URL:https://sport.uni-pannon.hu/event/fejleszto-zsonglorkodes-2/2026-03-05/
LOCATION:Pannon Egyetem\, E épület\, Egyeten utca 10.\, Veszprém\, Veszprém\, 8200\, Hungary
CATEGORIES:Hallgatói sportkínálat
ATTACH;FMTTYPE=image/jpeg:https://sport.uni-pannon.hu/wp-content/uploads/2026/02/multi-colored-spheres-sport-balls-galore-outdoors-generated-by-ai-scaled.jpg
END:VEVENT
BEGIN:VEVENT
DTSTART;TZID=Europe/Budapest:20260304T161500
DTEND;TZID=Europe/Budapest:20260304T171500
DTSTAMP:20260424T224631
CREATED:20260213T091535Z
LAST-MODIFIED:20260213T091535Z
UID:10003603-1772640900-1772644500@sport.uni-pannon.hu
SUMMARY:Hatha jóga
DESCRIPTION:Időpont: szerda 16:15-17:15\nHelyszín: Veszprém\, Pannon Egyetem\, E épület\, Pannon KözTér\nJelentkezés és további információ: https://alairas.sport.uni-pannon.hu/
URL:https://sport.uni-pannon.hu/event/hatha-joga/2026-03-04/
LOCATION:Pannon Egyetem\, E épület\, Egyeten utca 10.\, Veszprém\, Veszprém\, 8200\, Hungary
CATEGORIES:Hallgatói sportkínálat
ATTACH;FMTTYPE=image/jpeg:https://sport.uni-pannon.hu/wp-content/uploads/2026/02/group-young-people-balasana-pose-scaled.jpg
END:VEVENT
BEGIN:VEVENT
DTSTART;TZID=Europe/Budapest:20260303T183000
DTEND;TZID=Europe/Budapest:20260303T200000
DTSTAMP:20260424T224631
CREATED:20260213T085852Z
LAST-MODIFIED:20260213T085852Z
UID:10003495-1772562600-1772568000@sport.uni-pannon.hu
SUMMARY:Sakk
DESCRIPTION:Időpont: hétfő\, kedd: 18:30-20:00\nHelyszín: Veszprém\, Pannon Egyetem\, E épület\, E13 terem\nTérítésmentes egyetemi hallgatók részére.\nJelentkezés és további információ: https://alairas.sport.uni-pannon.hu/
URL:https://sport.uni-pannon.hu/event/sakk/2026-03-03/
LOCATION:Pannon Egyetem\, E épület\, Egyeten utca 10.\, Veszprém\, Veszprém\, 8200\, Hungary
CATEGORIES:Hallgatói sportkínálat
ATTACH;FMTTYPE=image/jpeg:https://sport.uni-pannon.hu/wp-content/uploads/2026/02/DSC_6568-scaled.jpg
END:VEVENT
BEGIN:VEVENT
DTSTART;TZID=Europe/Budapest:20260302T200000
DTEND;TZID=Europe/Budapest:20260302T220000
DTSTAMP:20260424T224631
CREATED:20260212T101022Z
LAST-MODIFIED:20260312T141539Z
UID:10003197-1772481600-1772488800@sport.uni-pannon.hu
SUMMARY:Pannon Egyetem Néptánc kör
DESCRIPTION:Időpont: hétfő 20:00-22:00\nHelyszín: Pannon Egyetem\, E épület\, kamaraterem\nTérítésmentes egyetemi hallgatók részére.\nJelentkezés és további információ: https://alairas.sport.uni-pannon.hu/
URL:https://sport.uni-pannon.hu/event/pannon-egyetem-neptanc-kor/2026-03-02/
LOCATION:Pannon Egyetem\, E épület\, Egyeten utca 10.\, Veszprém\, Veszprém\, 8200\, Hungary
CATEGORIES:Hallgatói sportkínálat
ATTACH;FMTTYPE=image/jpeg:https://sport.uni-pannon.hu/wp-content/uploads/2026/02/neptanc-magyar.jpg
END:VEVENT
BEGIN:VEVENT
DTSTART;TZID=Europe/Budapest:20260302T183000
DTEND;TZID=Europe/Budapest:20260302T200000
DTSTAMP:20260424T224631
CREATED:20260213T085852Z
LAST-MODIFIED:20260213T085852Z
UID:10003494-1772476200-1772481600@sport.uni-pannon.hu
SUMMARY:Sakk
DESCRIPTION:Időpont: hétfő\, kedd: 18:30-20:00\nHelyszín: Veszprém\, Pannon Egyetem\, E épület\, E13 terem\nTérítésmentes egyetemi hallgatók részére.\nJelentkezés és további információ: https://alairas.sport.uni-pannon.hu/
URL:https://sport.uni-pannon.hu/event/sakk/2026-03-02/
LOCATION:Pannon Egyetem\, E épület\, Egyeten utca 10.\, Veszprém\, Veszprém\, 8200\, Hungary
CATEGORIES:Hallgatói sportkínálat
ATTACH;FMTTYPE=image/jpeg:https://sport.uni-pannon.hu/wp-content/uploads/2026/02/DSC_6568-scaled.jpg
END:VEVENT
BEGIN:VEVENT
DTSTART;TZID=Europe/Budapest:20260226T193000
DTEND;TZID=Europe/Budapest:20260226T213000
DTSTAMP:20260424T224631
CREATED:20260212T074617Z
LAST-MODIFIED:20260401T080817Z
UID:10001536-1772134200-1772141400@sport.uni-pannon.hu
SUMMARY:Népek Táncai Klub
DESCRIPTION:Részvétel díjtalan. \n\nIdőpont: Csütörtök 19:00-21:30\nHelyszín: Pannon Egyetem\, E épület\, kamaraterem (8200 Veszprém\, Egyetem utca 10.)\nÓratartó: Tímár Lajos\, klubvezető\nElérhetőség: timar.lajos@uni-pannon.hu\nTovábbi információ: https://johangulat.uni-pannon.hu/
URL:https://sport.uni-pannon.hu/event/nepek-tancai-klub/2026-02-26/
LOCATION:Pannon Egyetem\, E épület\, Egyeten utca 10.\, Veszprém\, Veszprém\, 8200\, Hungary
CATEGORIES:Nyilvános sportkínálat
ATTACH;FMTTYPE=image/jpeg:https://sport.uni-pannon.hu/wp-content/uploads/2026/02/2Nepek-tancai.jpg
END:VEVENT
BEGIN:VEVENT
DTSTART;TZID=Europe/Budapest:20260226T140000
DTEND;TZID=Europe/Budapest:20260226T153000
DTSTAMP:20260424T224631
CREATED:20260227T104256Z
LAST-MODIFIED:20260227T105309Z
UID:10003853-1772114400-1772119800@sport.uni-pannon.hu
SUMMARY:Fejlesztő Zsonglőrködés
DESCRIPTION:Pannon Egyetem SAS Bizottsága (https://sasbizottsag.uni-pannon.hu/) által koordinált program. A kurzuson a Pannon Egyetem érvényes SAS regisztrációval rendelkező hallgatói vehetnek részt. A kurzuson való részvétel díjtalan.\nIdőpont: febr. 19. 26.\, márc. 5. 12. 19.\, ápr. 16. 23. 30.\, máj. 7. 14. 14:00 – 15:30.\nHelyszín: Pannon Egyetem\, E épület\nKedvcsináló videó: https://fb.watch/ioMdsOeHu8/
URL:https://sport.uni-pannon.hu/event/fejleszto-zsonglorkodes/2026-02-26/
LOCATION:Pannon Egyetem\, E épület\, Egyeten utca 10.\, Veszprém\, Veszprém\, 8200\, Hungary
CATEGORIES:Hallgatói sportkínálat
ATTACH;FMTTYPE=image/jpeg:https://sport.uni-pannon.hu/wp-content/uploads/2026/02/multi-colored-spheres-sport-balls-galore-outdoors-generated-by-ai-scaled.jpg
END:VEVENT
BEGIN:VEVENT
DTSTART;TZID=Europe/Budapest:20260225T161500
DTEND;TZID=Europe/Budapest:20260225T171500
DTSTAMP:20260424T224631
CREATED:20260213T091535Z
LAST-MODIFIED:20260213T091535Z
UID:10003602-1772036100-1772039700@sport.uni-pannon.hu
SUMMARY:Hatha jóga
DESCRIPTION:Időpont: szerda 16:15-17:15\nHelyszín: Veszprém\, Pannon Egyetem\, E épület\, Pannon KözTér\nJelentkezés és további információ: https://alairas.sport.uni-pannon.hu/
URL:https://sport.uni-pannon.hu/event/hatha-joga/2026-02-25/
LOCATION:Pannon Egyetem\, E épület\, Egyeten utca 10.\, Veszprém\, Veszprém\, 8200\, Hungary
CATEGORIES:Hallgatói sportkínálat
ATTACH;FMTTYPE=image/jpeg:https://sport.uni-pannon.hu/wp-content/uploads/2026/02/group-young-people-balasana-pose-scaled.jpg
END:VEVENT
BEGIN:VEVENT
DTSTART;TZID=Europe/Budapest:20260224T183000
DTEND;TZID=Europe/Budapest:20260224T200000
DTSTAMP:20260424T224631
CREATED:20260213T085852Z
LAST-MODIFIED:20260213T085852Z
UID:10003493-1771957800-1771963200@sport.uni-pannon.hu
SUMMARY:Sakk
DESCRIPTION:Időpont: hétfő\, kedd: 18:30-20:00\nHelyszín: Veszprém\, Pannon Egyetem\, E épület\, E13 terem\nTérítésmentes egyetemi hallgatók részére.\nJelentkezés és további információ: https://alairas.sport.uni-pannon.hu/
URL:https://sport.uni-pannon.hu/event/sakk/2026-02-24/
LOCATION:Pannon Egyetem\, E épület\, Egyeten utca 10.\, Veszprém\, Veszprém\, 8200\, Hungary
CATEGORIES:Hallgatói sportkínálat
ATTACH;FMTTYPE=image/jpeg:https://sport.uni-pannon.hu/wp-content/uploads/2026/02/DSC_6568-scaled.jpg
END:VEVENT
BEGIN:VEVENT
DTSTART;TZID=Europe/Budapest:20260223T200000
DTEND;TZID=Europe/Budapest:20260223T220000
DTSTAMP:20260424T224631
CREATED:20260212T101022Z
LAST-MODIFIED:20260312T141539Z
UID:10003196-1771876800-1771884000@sport.uni-pannon.hu
SUMMARY:Pannon Egyetem Néptánc kör
DESCRIPTION:Időpont: hétfő 20:00-22:00\nHelyszín: Pannon Egyetem\, E épület\, kamaraterem\nTérítésmentes egyetemi hallgatók részére.\nJelentkezés és további információ: https://alairas.sport.uni-pannon.hu/
URL:https://sport.uni-pannon.hu/event/pannon-egyetem-neptanc-kor/2026-02-23/
LOCATION:Pannon Egyetem\, E épület\, Egyeten utca 10.\, Veszprém\, Veszprém\, 8200\, Hungary
CATEGORIES:Hallgatói sportkínálat
ATTACH;FMTTYPE=image/jpeg:https://sport.uni-pannon.hu/wp-content/uploads/2026/02/neptanc-magyar.jpg
END:VEVENT
BEGIN:VEVENT
DTSTART;TZID=Europe/Budapest:20260223T183000
DTEND;TZID=Europe/Budapest:20260223T200000
DTSTAMP:20260424T224631
CREATED:20260213T085852Z
LAST-MODIFIED:20260213T085852Z
UID:10003492-1771871400-1771876800@sport.uni-pannon.hu
SUMMARY:Sakk
DESCRIPTION:Időpont: hétfő\, kedd: 18:30-20:00\nHelyszín: Veszprém\, Pannon Egyetem\, E épület\, E13 terem\nTérítésmentes egyetemi hallgatók részére.\nJelentkezés és további információ: https://alairas.sport.uni-pannon.hu/
URL:https://sport.uni-pannon.hu/event/sakk/2026-02-23/
LOCATION:Pannon Egyetem\, E épület\, Egyeten utca 10.\, Veszprém\, Veszprém\, 8200\, Hungary
CATEGORIES:Hallgatói sportkínálat
ATTACH;FMTTYPE=image/jpeg:https://sport.uni-pannon.hu/wp-content/uploads/2026/02/DSC_6568-scaled.jpg
END:VEVENT
BEGIN:VEVENT
DTSTART;TZID=Europe/Budapest:20260219T193000
DTEND;TZID=Europe/Budapest:20260219T213000
DTSTAMP:20260424T224631
CREATED:20260212T074617Z
LAST-MODIFIED:20260401T080817Z
UID:10001535-1771529400-1771536600@sport.uni-pannon.hu
SUMMARY:Népek Táncai Klub
DESCRIPTION:Részvétel díjtalan. \n\nIdőpont: Csütörtök 19:00-21:30\nHelyszín: Pannon Egyetem\, E épület\, kamaraterem (8200 Veszprém\, Egyetem utca 10.)\nÓratartó: Tímár Lajos\, klubvezető\nElérhetőség: timar.lajos@uni-pannon.hu\nTovábbi információ: https://johangulat.uni-pannon.hu/
URL:https://sport.uni-pannon.hu/event/nepek-tancai-klub/2026-02-19/
LOCATION:Pannon Egyetem\, E épület\, Egyeten utca 10.\, Veszprém\, Veszprém\, 8200\, Hungary
CATEGORIES:Nyilvános sportkínálat
ATTACH;FMTTYPE=image/jpeg:https://sport.uni-pannon.hu/wp-content/uploads/2026/02/2Nepek-tancai.jpg
END:VEVENT
BEGIN:VEVENT
DTSTART;TZID=Europe/Budapest:20260219T140000
DTEND;TZID=Europe/Budapest:20260219T153000
DTSTAMP:20260424T224631
CREATED:20260227T104256Z
LAST-MODIFIED:20260227T105309Z
UID:10003852-1771509600-1771515000@sport.uni-pannon.hu
SUMMARY:Fejlesztő Zsonglőrködés
DESCRIPTION:Pannon Egyetem SAS Bizottsága (https://sasbizottsag.uni-pannon.hu/) által koordinált program. A kurzuson a Pannon Egyetem érvényes SAS regisztrációval rendelkező hallgatói vehetnek részt. A kurzuson való részvétel díjtalan.\nIdőpont: febr. 19. 26.\, márc. 5. 12. 19.\, ápr. 16. 23. 30.\, máj. 7. 14. 14:00 – 15:30.\nHelyszín: Pannon Egyetem\, E épület\nKedvcsináló videó: https://fb.watch/ioMdsOeHu8/
URL:https://sport.uni-pannon.hu/event/fejleszto-zsonglorkodes/2026-02-19/
LOCATION:Pannon Egyetem\, E épület\, Egyeten utca 10.\, Veszprém\, Veszprém\, 8200\, Hungary
CATEGORIES:Hallgatói sportkínálat
ATTACH;FMTTYPE=image/jpeg:https://sport.uni-pannon.hu/wp-content/uploads/2026/02/multi-colored-spheres-sport-balls-galore-outdoors-generated-by-ai-scaled.jpg
END:VEVENT
BEGIN:VEVENT
DTSTART;TZID=Europe/Budapest:20260218T161500
DTEND;TZID=Europe/Budapest:20260218T171500
DTSTAMP:20260424T224631
CREATED:20260213T091535Z
LAST-MODIFIED:20260213T091535Z
UID:10003601-1771431300-1771434900@sport.uni-pannon.hu
SUMMARY:Hatha jóga
DESCRIPTION:Időpont: szerda 16:15-17:15\nHelyszín: Veszprém\, Pannon Egyetem\, E épület\, Pannon KözTér\nJelentkezés és további információ: https://alairas.sport.uni-pannon.hu/
URL:https://sport.uni-pannon.hu/event/hatha-joga/2026-02-18/
LOCATION:Pannon Egyetem\, E épület\, Egyeten utca 10.\, Veszprém\, Veszprém\, 8200\, Hungary
CATEGORIES:Hallgatói sportkínálat
ATTACH;FMTTYPE=image/jpeg:https://sport.uni-pannon.hu/wp-content/uploads/2026/02/group-young-people-balasana-pose-scaled.jpg
END:VEVENT
END:VCALENDAR