BEGIN:VCALENDAR
VERSION:2.0
PRODID:-//Sport Éve 2026 - ECPv6.15.20//NONSGML v1.0//EN
CALSCALE:GREGORIAN
METHOD:PUBLISH
X-ORIGINAL-URL:https://sport.uni-pannon.hu
X-WR-CALDESC:Események Sport Éve 2026
REFRESH-INTERVAL;VALUE=DURATION:PT1H
X-Robots-Tag:noindex
X-PUBLISHED-TTL:PT1H
BEGIN:VTIMEZONE
TZID:Europe/Budapest
BEGIN:DAYLIGHT
TZOFFSETFROM:+0100
TZOFFSETTO:+0200
TZNAME:CEST
DTSTART:20250330T010000
END:DAYLIGHT
BEGIN:STANDARD
TZOFFSETFROM:+0200
TZOFFSETTO:+0100
TZNAME:CET
DTSTART:20251026T010000
END:STANDARD
BEGIN:DAYLIGHT
TZOFFSETFROM:+0100
TZOFFSETTO:+0200
TZNAME:CEST
DTSTART:20260329T010000
END:DAYLIGHT
BEGIN:STANDARD
TZOFFSETFROM:+0200
TZOFFSETTO:+0100
TZNAME:CET
DTSTART:20261025T010000
END:STANDARD
BEGIN:DAYLIGHT
TZOFFSETFROM:+0100
TZOFFSETTO:+0200
TZNAME:CEST
DTSTART:20270328T010000
END:DAYLIGHT
BEGIN:STANDARD
TZOFFSETFROM:+0200
TZOFFSETTO:+0100
TZNAME:CET
DTSTART:20271031T010000
END:STANDARD
END:VTIMEZONE
BEGIN:VEVENT
DTSTART;TZID=Europe/Budapest:20260422T184500
DTEND;TZID=Europe/Budapest:20260422T194500
DTSTAMP:20260425T183622
CREATED:20260302T093933Z
LAST-MODIFIED:20260302T093933Z
UID:10003975-1776883500-1776887100@sport.uni-pannon.hu
SUMMARY:Aquafitness
DESCRIPTION:Időpont: hétfő\, szerda 18:45-19:45-ig\nHelyszín: Veszprém Sportuszoda Veszprém\, Külső-Kádártai u. 1/1.\nRészvételi díjhoz kötött.\nJelentkezés és további információ: https://alairas.sport.uni-pannon.hu/
URL:https://sport.uni-pannon.hu/event/aquafitness/2026-04-22/
LOCATION:Sportuszoda\, Külső-Kádártai u. 1/1.\, Veszprém\, Veszprém\, 8200
CATEGORIES:Nyilvános sportkínálat
ATTACH;FMTTYPE=image/jpeg:https://sport.uni-pannon.hu/wp-content/uploads/2026/03/blonde-swimmer-stretching-back-shot-scaled.jpg
END:VEVENT
BEGIN:VEVENT
DTSTART;TZID=Europe/Budapest:20260420T184500
DTEND;TZID=Europe/Budapest:20260420T194500
DTSTAMP:20260425T183622
CREATED:20260302T093933Z
LAST-MODIFIED:20260302T093933Z
UID:10003974-1776710700-1776714300@sport.uni-pannon.hu
SUMMARY:Aquafitness
DESCRIPTION:Időpont: hétfő\, szerda 18:45-19:45-ig\nHelyszín: Veszprém Sportuszoda Veszprém\, Külső-Kádártai u. 1/1.\nRészvételi díjhoz kötött.\nJelentkezés és további információ: https://alairas.sport.uni-pannon.hu/
URL:https://sport.uni-pannon.hu/event/aquafitness/2026-04-20/
LOCATION:Sportuszoda\, Külső-Kádártai u. 1/1.\, Veszprém\, Veszprém\, 8200
CATEGORIES:Nyilvános sportkínálat
ATTACH;FMTTYPE=image/jpeg:https://sport.uni-pannon.hu/wp-content/uploads/2026/03/blonde-swimmer-stretching-back-shot-scaled.jpg
END:VEVENT
BEGIN:VEVENT
DTSTART;TZID=Europe/Budapest:20260415T184500
DTEND;TZID=Europe/Budapest:20260415T194500
DTSTAMP:20260425T183622
CREATED:20260302T093933Z
LAST-MODIFIED:20260302T093933Z
UID:10003973-1776278700-1776282300@sport.uni-pannon.hu
SUMMARY:Aquafitness
DESCRIPTION:Időpont: hétfő\, szerda 18:45-19:45-ig\nHelyszín: Veszprém Sportuszoda Veszprém\, Külső-Kádártai u. 1/1.\nRészvételi díjhoz kötött.\nJelentkezés és további információ: https://alairas.sport.uni-pannon.hu/
URL:https://sport.uni-pannon.hu/event/aquafitness/2026-04-15/
LOCATION:Sportuszoda\, Külső-Kádártai u. 1/1.\, Veszprém\, Veszprém\, 8200
CATEGORIES:Nyilvános sportkínálat
ATTACH;FMTTYPE=image/jpeg:https://sport.uni-pannon.hu/wp-content/uploads/2026/03/blonde-swimmer-stretching-back-shot-scaled.jpg
END:VEVENT
BEGIN:VEVENT
DTSTART;TZID=Europe/Budapest:20260413T184500
DTEND;TZID=Europe/Budapest:20260413T194500
DTSTAMP:20260425T183622
CREATED:20260302T093933Z
LAST-MODIFIED:20260302T093933Z
UID:10003972-1776105900-1776109500@sport.uni-pannon.hu
SUMMARY:Aquafitness
DESCRIPTION:Időpont: hétfő\, szerda 18:45-19:45-ig\nHelyszín: Veszprém Sportuszoda Veszprém\, Külső-Kádártai u. 1/1.\nRészvételi díjhoz kötött.\nJelentkezés és további információ: https://alairas.sport.uni-pannon.hu/
URL:https://sport.uni-pannon.hu/event/aquafitness/2026-04-13/
LOCATION:Sportuszoda\, Külső-Kádártai u. 1/1.\, Veszprém\, Veszprém\, 8200
CATEGORIES:Nyilvános sportkínálat
ATTACH;FMTTYPE=image/jpeg:https://sport.uni-pannon.hu/wp-content/uploads/2026/03/blonde-swimmer-stretching-back-shot-scaled.jpg
END:VEVENT
BEGIN:VEVENT
DTSTART;TZID=Europe/Budapest:20260408T184500
DTEND;TZID=Europe/Budapest:20260408T194500
DTSTAMP:20260425T183622
CREATED:20260302T093933Z
LAST-MODIFIED:20260302T093933Z
UID:10003971-1775673900-1775677500@sport.uni-pannon.hu
SUMMARY:Aquafitness
DESCRIPTION:Időpont: hétfő\, szerda 18:45-19:45-ig\nHelyszín: Veszprém Sportuszoda Veszprém\, Külső-Kádártai u. 1/1.\nRészvételi díjhoz kötött.\nJelentkezés és további információ: https://alairas.sport.uni-pannon.hu/
URL:https://sport.uni-pannon.hu/event/aquafitness/2026-04-08/
LOCATION:Sportuszoda\, Külső-Kádártai u. 1/1.\, Veszprém\, Veszprém\, 8200
CATEGORIES:Nyilvános sportkínálat
ATTACH;FMTTYPE=image/jpeg:https://sport.uni-pannon.hu/wp-content/uploads/2026/03/blonde-swimmer-stretching-back-shot-scaled.jpg
END:VEVENT
BEGIN:VEVENT
DTSTART;TZID=Europe/Budapest:20260406T184500
DTEND;TZID=Europe/Budapest:20260406T194500
DTSTAMP:20260425T183622
CREATED:20260302T093933Z
LAST-MODIFIED:20260302T093933Z
UID:10003970-1775501100-1775504700@sport.uni-pannon.hu
SUMMARY:Aquafitness
DESCRIPTION:Időpont: hétfő\, szerda 18:45-19:45-ig\nHelyszín: Veszprém Sportuszoda Veszprém\, Külső-Kádártai u. 1/1.\nRészvételi díjhoz kötött.\nJelentkezés és további információ: https://alairas.sport.uni-pannon.hu/
URL:https://sport.uni-pannon.hu/event/aquafitness/2026-04-06/
LOCATION:Sportuszoda\, Külső-Kádártai u. 1/1.\, Veszprém\, Veszprém\, 8200
CATEGORIES:Nyilvános sportkínálat
ATTACH;FMTTYPE=image/jpeg:https://sport.uni-pannon.hu/wp-content/uploads/2026/03/blonde-swimmer-stretching-back-shot-scaled.jpg
END:VEVENT
BEGIN:VEVENT
DTSTART;TZID=Europe/Budapest:20260401T184500
DTEND;TZID=Europe/Budapest:20260401T194500
DTSTAMP:20260425T183622
CREATED:20260302T093933Z
LAST-MODIFIED:20260302T093933Z
UID:10003969-1775069100-1775072700@sport.uni-pannon.hu
SUMMARY:Aquafitness
DESCRIPTION:Időpont: hétfő\, szerda 18:45-19:45-ig\nHelyszín: Veszprém Sportuszoda Veszprém\, Külső-Kádártai u. 1/1.\nRészvételi díjhoz kötött.\nJelentkezés és további információ: https://alairas.sport.uni-pannon.hu/
URL:https://sport.uni-pannon.hu/event/aquafitness/2026-04-01/
LOCATION:Sportuszoda\, Külső-Kádártai u. 1/1.\, Veszprém\, Veszprém\, 8200
CATEGORIES:Nyilvános sportkínálat
ATTACH;FMTTYPE=image/jpeg:https://sport.uni-pannon.hu/wp-content/uploads/2026/03/blonde-swimmer-stretching-back-shot-scaled.jpg
END:VEVENT
BEGIN:VEVENT
DTSTART;TZID=Europe/Budapest:20260330T184500
DTEND;TZID=Europe/Budapest:20260330T194500
DTSTAMP:20260425T183622
CREATED:20260302T093933Z
LAST-MODIFIED:20260302T093933Z
UID:10003968-1774896300-1774899900@sport.uni-pannon.hu
SUMMARY:Aquafitness
DESCRIPTION:Időpont: hétfő\, szerda 18:45-19:45-ig\nHelyszín: Veszprém Sportuszoda Veszprém\, Külső-Kádártai u. 1/1.\nRészvételi díjhoz kötött.\nJelentkezés és további információ: https://alairas.sport.uni-pannon.hu/
URL:https://sport.uni-pannon.hu/event/aquafitness/2026-03-30/
LOCATION:Sportuszoda\, Külső-Kádártai u. 1/1.\, Veszprém\, Veszprém\, 8200
CATEGORIES:Nyilvános sportkínálat
ATTACH;FMTTYPE=image/jpeg:https://sport.uni-pannon.hu/wp-content/uploads/2026/03/blonde-swimmer-stretching-back-shot-scaled.jpg
END:VEVENT
BEGIN:VEVENT
DTSTART;TZID=Europe/Budapest:20260325T184500
DTEND;TZID=Europe/Budapest:20260325T194500
DTSTAMP:20260425T183622
CREATED:20260302T093933Z
LAST-MODIFIED:20260302T093933Z
UID:10003967-1774464300-1774467900@sport.uni-pannon.hu
SUMMARY:Aquafitness
DESCRIPTION:Időpont: hétfő\, szerda 18:45-19:45-ig\nHelyszín: Veszprém Sportuszoda Veszprém\, Külső-Kádártai u. 1/1.\nRészvételi díjhoz kötött.\nJelentkezés és további információ: https://alairas.sport.uni-pannon.hu/
URL:https://sport.uni-pannon.hu/event/aquafitness/2026-03-25/
LOCATION:Sportuszoda\, Külső-Kádártai u. 1/1.\, Veszprém\, Veszprém\, 8200
CATEGORIES:Nyilvános sportkínálat
ATTACH;FMTTYPE=image/jpeg:https://sport.uni-pannon.hu/wp-content/uploads/2026/03/blonde-swimmer-stretching-back-shot-scaled.jpg
END:VEVENT
BEGIN:VEVENT
DTSTART;TZID=Europe/Budapest:20260323T184500
DTEND;TZID=Europe/Budapest:20260323T194500
DTSTAMP:20260425T183622
CREATED:20260302T093933Z
LAST-MODIFIED:20260302T093933Z
UID:10003966-1774291500-1774295100@sport.uni-pannon.hu
SUMMARY:Aquafitness
DESCRIPTION:Időpont: hétfő\, szerda 18:45-19:45-ig\nHelyszín: Veszprém Sportuszoda Veszprém\, Külső-Kádártai u. 1/1.\nRészvételi díjhoz kötött.\nJelentkezés és további információ: https://alairas.sport.uni-pannon.hu/
URL:https://sport.uni-pannon.hu/event/aquafitness/2026-03-23/
LOCATION:Sportuszoda\, Külső-Kádártai u. 1/1.\, Veszprém\, Veszprém\, 8200
CATEGORIES:Nyilvános sportkínálat
ATTACH;FMTTYPE=image/jpeg:https://sport.uni-pannon.hu/wp-content/uploads/2026/03/blonde-swimmer-stretching-back-shot-scaled.jpg
END:VEVENT
BEGIN:VEVENT
DTSTART;TZID=Europe/Budapest:20260318T184500
DTEND;TZID=Europe/Budapest:20260318T194500
DTSTAMP:20260425T183622
CREATED:20260302T093933Z
LAST-MODIFIED:20260302T093933Z
UID:10003965-1773859500-1773863100@sport.uni-pannon.hu
SUMMARY:Aquafitness
DESCRIPTION:Időpont: hétfő\, szerda 18:45-19:45-ig\nHelyszín: Veszprém Sportuszoda Veszprém\, Külső-Kádártai u. 1/1.\nRészvételi díjhoz kötött.\nJelentkezés és további információ: https://alairas.sport.uni-pannon.hu/
URL:https://sport.uni-pannon.hu/event/aquafitness/2026-03-18/
LOCATION:Sportuszoda\, Külső-Kádártai u. 1/1.\, Veszprém\, Veszprém\, 8200
CATEGORIES:Nyilvános sportkínálat
ATTACH;FMTTYPE=image/jpeg:https://sport.uni-pannon.hu/wp-content/uploads/2026/03/blonde-swimmer-stretching-back-shot-scaled.jpg
END:VEVENT
BEGIN:VEVENT
DTSTART;TZID=Europe/Budapest:20260316T184500
DTEND;TZID=Europe/Budapest:20260316T194500
DTSTAMP:20260425T183622
CREATED:20260302T093933Z
LAST-MODIFIED:20260302T093933Z
UID:10003964-1773686700-1773690300@sport.uni-pannon.hu
SUMMARY:Aquafitness
DESCRIPTION:Időpont: hétfő\, szerda 18:45-19:45-ig\nHelyszín: Veszprém Sportuszoda Veszprém\, Külső-Kádártai u. 1/1.\nRészvételi díjhoz kötött.\nJelentkezés és további információ: https://alairas.sport.uni-pannon.hu/
URL:https://sport.uni-pannon.hu/event/aquafitness/2026-03-16/
LOCATION:Sportuszoda\, Külső-Kádártai u. 1/1.\, Veszprém\, Veszprém\, 8200
CATEGORIES:Nyilvános sportkínálat
ATTACH;FMTTYPE=image/jpeg:https://sport.uni-pannon.hu/wp-content/uploads/2026/03/blonde-swimmer-stretching-back-shot-scaled.jpg
END:VEVENT
BEGIN:VEVENT
DTSTART;TZID=Europe/Budapest:20260311T184500
DTEND;TZID=Europe/Budapest:20260311T194500
DTSTAMP:20260425T183622
CREATED:20260302T093933Z
LAST-MODIFIED:20260302T093933Z
UID:10003963-1773254700-1773258300@sport.uni-pannon.hu
SUMMARY:Aquafitness
DESCRIPTION:Időpont: hétfő\, szerda 18:45-19:45-ig\nHelyszín: Veszprém Sportuszoda Veszprém\, Külső-Kádártai u. 1/1.\nRészvételi díjhoz kötött.\nJelentkezés és további információ: https://alairas.sport.uni-pannon.hu/
URL:https://sport.uni-pannon.hu/event/aquafitness/2026-03-11/
LOCATION:Sportuszoda\, Külső-Kádártai u. 1/1.\, Veszprém\, Veszprém\, 8200
CATEGORIES:Nyilvános sportkínálat
ATTACH;FMTTYPE=image/jpeg:https://sport.uni-pannon.hu/wp-content/uploads/2026/03/blonde-swimmer-stretching-back-shot-scaled.jpg
END:VEVENT
BEGIN:VEVENT
DTSTART;TZID=Europe/Budapest:20260309T184500
DTEND;TZID=Europe/Budapest:20260309T194500
DTSTAMP:20260425T183622
CREATED:20260302T093933Z
LAST-MODIFIED:20260302T093933Z
UID:10003962-1773081900-1773085500@sport.uni-pannon.hu
SUMMARY:Aquafitness
DESCRIPTION:Időpont: hétfő\, szerda 18:45-19:45-ig\nHelyszín: Veszprém Sportuszoda Veszprém\, Külső-Kádártai u. 1/1.\nRészvételi díjhoz kötött.\nJelentkezés és további információ: https://alairas.sport.uni-pannon.hu/
URL:https://sport.uni-pannon.hu/event/aquafitness/2026-03-09/
LOCATION:Sportuszoda\, Külső-Kádártai u. 1/1.\, Veszprém\, Veszprém\, 8200
CATEGORIES:Nyilvános sportkínálat
ATTACH;FMTTYPE=image/jpeg:https://sport.uni-pannon.hu/wp-content/uploads/2026/03/blonde-swimmer-stretching-back-shot-scaled.jpg
END:VEVENT
BEGIN:VEVENT
DTSTART;TZID=Europe/Budapest:20260304T184500
DTEND;TZID=Europe/Budapest:20260304T194500
DTSTAMP:20260425T183622
CREATED:20260302T093933Z
LAST-MODIFIED:20260302T093933Z
UID:10003961-1772649900-1772653500@sport.uni-pannon.hu
SUMMARY:Aquafitness
DESCRIPTION:Időpont: hétfő\, szerda 18:45-19:45-ig\nHelyszín: Veszprém Sportuszoda Veszprém\, Külső-Kádártai u. 1/1.\nRészvételi díjhoz kötött.\nJelentkezés és további információ: https://alairas.sport.uni-pannon.hu/
URL:https://sport.uni-pannon.hu/event/aquafitness/2026-03-04/
LOCATION:Sportuszoda\, Külső-Kádártai u. 1/1.\, Veszprém\, Veszprém\, 8200
CATEGORIES:Nyilvános sportkínálat
ATTACH;FMTTYPE=image/jpeg:https://sport.uni-pannon.hu/wp-content/uploads/2026/03/blonde-swimmer-stretching-back-shot-scaled.jpg
END:VEVENT
BEGIN:VEVENT
DTSTART;TZID=Europe/Budapest:20260302T184500
DTEND;TZID=Europe/Budapest:20260302T194500
DTSTAMP:20260425T183622
CREATED:20260302T093933Z
LAST-MODIFIED:20260302T093933Z
UID:10003960-1772477100-1772480700@sport.uni-pannon.hu
SUMMARY:Aquafitness
DESCRIPTION:Időpont: hétfő\, szerda 18:45-19:45-ig\nHelyszín: Veszprém Sportuszoda Veszprém\, Külső-Kádártai u. 1/1.\nRészvételi díjhoz kötött.\nJelentkezés és további információ: https://alairas.sport.uni-pannon.hu/
URL:https://sport.uni-pannon.hu/event/aquafitness/2026-03-02/
LOCATION:Sportuszoda\, Külső-Kádártai u. 1/1.\, Veszprém\, Veszprém\, 8200
CATEGORIES:Nyilvános sportkínálat
ATTACH;FMTTYPE=image/jpeg:https://sport.uni-pannon.hu/wp-content/uploads/2026/03/blonde-swimmer-stretching-back-shot-scaled.jpg
END:VEVENT
BEGIN:VEVENT
DTSTART;TZID=Europe/Budapest:20260225T184500
DTEND;TZID=Europe/Budapest:20260225T194500
DTSTAMP:20260425T183622
CREATED:20260302T093933Z
LAST-MODIFIED:20260302T093933Z
UID:10003959-1772045100-1772048700@sport.uni-pannon.hu
SUMMARY:Aquafitness
DESCRIPTION:Időpont: hétfő\, szerda 18:45-19:45-ig\nHelyszín: Veszprém Sportuszoda Veszprém\, Külső-Kádártai u. 1/1.\nRészvételi díjhoz kötött.\nJelentkezés és további információ: https://alairas.sport.uni-pannon.hu/
URL:https://sport.uni-pannon.hu/event/aquafitness/2026-02-25/
LOCATION:Sportuszoda\, Külső-Kádártai u. 1/1.\, Veszprém\, Veszprém\, 8200
CATEGORIES:Nyilvános sportkínálat
ATTACH;FMTTYPE=image/jpeg:https://sport.uni-pannon.hu/wp-content/uploads/2026/03/blonde-swimmer-stretching-back-shot-scaled.jpg
END:VEVENT
BEGIN:VEVENT
DTSTART;TZID=Europe/Budapest:20260223T184500
DTEND;TZID=Europe/Budapest:20260223T194500
DTSTAMP:20260425T183622
CREATED:20260302T093933Z
LAST-MODIFIED:20260302T093933Z
UID:10003958-1771872300-1771875900@sport.uni-pannon.hu
SUMMARY:Aquafitness
DESCRIPTION:Időpont: hétfő\, szerda 18:45-19:45-ig\nHelyszín: Veszprém Sportuszoda Veszprém\, Külső-Kádártai u. 1/1.\nRészvételi díjhoz kötött.\nJelentkezés és további információ: https://alairas.sport.uni-pannon.hu/
URL:https://sport.uni-pannon.hu/event/aquafitness/2026-02-23/
LOCATION:Sportuszoda\, Külső-Kádártai u. 1/1.\, Veszprém\, Veszprém\, 8200
CATEGORIES:Nyilvános sportkínálat
ATTACH;FMTTYPE=image/jpeg:https://sport.uni-pannon.hu/wp-content/uploads/2026/03/blonde-swimmer-stretching-back-shot-scaled.jpg
END:VEVENT
BEGIN:VEVENT
DTSTART;TZID=Europe/Budapest:20260218T184500
DTEND;TZID=Europe/Budapest:20260218T194500
DTSTAMP:20260425T183622
CREATED:20260302T093933Z
LAST-MODIFIED:20260302T093933Z
UID:10003957-1771440300-1771443900@sport.uni-pannon.hu
SUMMARY:Aquafitness
DESCRIPTION:Időpont: hétfő\, szerda 18:45-19:45-ig\nHelyszín: Veszprém Sportuszoda Veszprém\, Külső-Kádártai u. 1/1.\nRészvételi díjhoz kötött.\nJelentkezés és további információ: https://alairas.sport.uni-pannon.hu/
URL:https://sport.uni-pannon.hu/event/aquafitness/2026-02-18/
LOCATION:Sportuszoda\, Külső-Kádártai u. 1/1.\, Veszprém\, Veszprém\, 8200
CATEGORIES:Nyilvános sportkínálat
ATTACH;FMTTYPE=image/jpeg:https://sport.uni-pannon.hu/wp-content/uploads/2026/03/blonde-swimmer-stretching-back-shot-scaled.jpg
END:VEVENT
BEGIN:VEVENT
DTSTART;TZID=Europe/Budapest:20260216T184500
DTEND;TZID=Europe/Budapest:20260216T194500
DTSTAMP:20260425T183622
CREATED:20260302T093933Z
LAST-MODIFIED:20260302T093933Z
UID:10003956-1771267500-1771271100@sport.uni-pannon.hu
SUMMARY:Aquafitness
DESCRIPTION:Időpont: hétfő\, szerda 18:45-19:45-ig\nHelyszín: Veszprém Sportuszoda Veszprém\, Külső-Kádártai u. 1/1.\nRészvételi díjhoz kötött.\nJelentkezés és további információ: https://alairas.sport.uni-pannon.hu/
URL:https://sport.uni-pannon.hu/event/aquafitness/2026-02-16/
LOCATION:Sportuszoda\, Külső-Kádártai u. 1/1.\, Veszprém\, Veszprém\, 8200
CATEGORIES:Nyilvános sportkínálat
ATTACH;FMTTYPE=image/jpeg:https://sport.uni-pannon.hu/wp-content/uploads/2026/03/blonde-swimmer-stretching-back-shot-scaled.jpg
END:VEVENT
BEGIN:VEVENT
DTSTART;TZID=Europe/Budapest:20260211T184500
DTEND;TZID=Europe/Budapest:20260211T194500
DTSTAMP:20260425T183622
CREATED:20260302T093933Z
LAST-MODIFIED:20260302T093933Z
UID:10003955-1770835500-1770839100@sport.uni-pannon.hu
SUMMARY:Aquafitness
DESCRIPTION:Időpont: hétfő\, szerda 18:45-19:45-ig\nHelyszín: Veszprém Sportuszoda Veszprém\, Külső-Kádártai u. 1/1.\nRészvételi díjhoz kötött.\nJelentkezés és további információ: https://alairas.sport.uni-pannon.hu/
URL:https://sport.uni-pannon.hu/event/aquafitness/2026-02-11/
LOCATION:Sportuszoda\, Külső-Kádártai u. 1/1.\, Veszprém\, Veszprém\, 8200
CATEGORIES:Nyilvános sportkínálat
ATTACH;FMTTYPE=image/jpeg:https://sport.uni-pannon.hu/wp-content/uploads/2026/03/blonde-swimmer-stretching-back-shot-scaled.jpg
END:VEVENT
BEGIN:VEVENT
DTSTART;TZID=Europe/Budapest:20260209T184500
DTEND;TZID=Europe/Budapest:20260209T194500
DTSTAMP:20260425T183622
CREATED:20260302T093933Z
LAST-MODIFIED:20260302T093933Z
UID:10003954-1770662700-1770666300@sport.uni-pannon.hu
SUMMARY:Aquafitness
DESCRIPTION:Időpont: hétfő\, szerda 18:45-19:45-ig\nHelyszín: Veszprém Sportuszoda Veszprém\, Külső-Kádártai u. 1/1.\nRészvételi díjhoz kötött.\nJelentkezés és további információ: https://alairas.sport.uni-pannon.hu/
URL:https://sport.uni-pannon.hu/event/aquafitness/2026-02-09/
LOCATION:Sportuszoda\, Külső-Kádártai u. 1/1.\, Veszprém\, Veszprém\, 8200
CATEGORIES:Nyilvános sportkínálat
ATTACH;FMTTYPE=image/jpeg:https://sport.uni-pannon.hu/wp-content/uploads/2026/03/blonde-swimmer-stretching-back-shot-scaled.jpg
END:VEVENT
END:VCALENDAR