BEGIN:VCALENDAR
VERSION:2.0
PRODID:-//Sport Éve 2026 - ECPv6.15.20//NONSGML v1.0//EN
CALSCALE:GREGORIAN
METHOD:PUBLISH
X-WR-CALNAME:Sport Éve 2026
X-ORIGINAL-URL:https://sport.uni-pannon.hu
X-WR-CALDESC:Események Sport Éve 2026
REFRESH-INTERVAL;VALUE=DURATION:PT1H
X-Robots-Tag:noindex
X-PUBLISHED-TTL:PT1H
BEGIN:VTIMEZONE
TZID:Europe/Budapest
BEGIN:DAYLIGHT
TZOFFSETFROM:+0100
TZOFFSETTO:+0200
TZNAME:CEST
DTSTART:20250330T010000
END:DAYLIGHT
BEGIN:STANDARD
TZOFFSETFROM:+0200
TZOFFSETTO:+0100
TZNAME:CET
DTSTART:20251026T010000
END:STANDARD
BEGIN:DAYLIGHT
TZOFFSETFROM:+0100
TZOFFSETTO:+0200
TZNAME:CEST
DTSTART:20260329T010000
END:DAYLIGHT
BEGIN:STANDARD
TZOFFSETFROM:+0200
TZOFFSETTO:+0100
TZNAME:CET
DTSTART:20261025T010000
END:STANDARD
BEGIN:DAYLIGHT
TZOFFSETFROM:+0100
TZOFFSETTO:+0200
TZNAME:CEST
DTSTART:20270328T010000
END:DAYLIGHT
BEGIN:STANDARD
TZOFFSETFROM:+0200
TZOFFSETTO:+0100
TZNAME:CET
DTSTART:20271031T010000
END:STANDARD
END:VTIMEZONE
BEGIN:VEVENT
DTSTART;TZID=Europe/Budapest:20260414T183000
DTEND;TZID=Europe/Budapest:20260414T183000
DTSTAMP:20260420T172836
CREATED:20260213T084114Z
LAST-MODIFIED:20260312T142215Z
UID:10003754-1776191400-1776191400@sport.uni-pannon.hu
SUMMARY:Haladó futás - VeszpRun
DESCRIPTION:Időpont: kedd 18:30\nHelyszín: Veszprém\, Színházkert/Gulyadomb\nJelentkezés és további információ: www.facebook.com/groups/VeszpRUN www.facebook.com/veszprun Kérdés esetén messengeren is megtalálsz minket. \nIngyenes közösségi futás\, melyre szeretettel várunk minden futót\, aki képes legalább 8-10 km-t 6:00-6:30 perc/km tempóban teljesíteni.
URL:https://sport.uni-pannon.hu/event/halado-futas-veszprun/2026-04-14/
LOCATION:Színházkert\, Óvári Ferenc út\, Veszprém\, Veszprém\, 8200\, Hungary
CATEGORIES:Nyilvános sportkínálat
ATTACH;FMTTYPE=image/jpeg:https://sport.uni-pannon.hu/wp-content/uploads/2026/02/veszprun.jpg
END:VEVENT
BEGIN:VEVENT
DTSTART;TZID=Europe/Budapest:20260407T183000
DTEND;TZID=Europe/Budapest:20260407T183000
DTSTAMP:20260420T172836
CREATED:20260213T084114Z
LAST-MODIFIED:20260312T142215Z
UID:10003753-1775586600-1775586600@sport.uni-pannon.hu
SUMMARY:Haladó futás - VeszpRun
DESCRIPTION:Időpont: kedd 18:30\nHelyszín: Veszprém\, Színházkert/Gulyadomb\nJelentkezés és további információ: www.facebook.com/groups/VeszpRUN www.facebook.com/veszprun Kérdés esetén messengeren is megtalálsz minket. \nIngyenes közösségi futás\, melyre szeretettel várunk minden futót\, aki képes legalább 8-10 km-t 6:00-6:30 perc/km tempóban teljesíteni.
URL:https://sport.uni-pannon.hu/event/halado-futas-veszprun/2026-04-07/
LOCATION:Színházkert\, Óvári Ferenc út\, Veszprém\, Veszprém\, 8200\, Hungary
CATEGORIES:Nyilvános sportkínálat
ATTACH;FMTTYPE=image/jpeg:https://sport.uni-pannon.hu/wp-content/uploads/2026/02/veszprun.jpg
END:VEVENT
BEGIN:VEVENT
DTSTART;TZID=Europe/Budapest:20260331T183000
DTEND;TZID=Europe/Budapest:20260331T183000
DTSTAMP:20260420T172836
CREATED:20260213T084114Z
LAST-MODIFIED:20260312T142215Z
UID:10003752-1774981800-1774981800@sport.uni-pannon.hu
SUMMARY:Haladó futás - VeszpRun
DESCRIPTION:Időpont: kedd 18:30\nHelyszín: Veszprém\, Színházkert/Gulyadomb\nJelentkezés és további információ: www.facebook.com/groups/VeszpRUN www.facebook.com/veszprun Kérdés esetén messengeren is megtalálsz minket. \nIngyenes közösségi futás\, melyre szeretettel várunk minden futót\, aki képes legalább 8-10 km-t 6:00-6:30 perc/km tempóban teljesíteni.
URL:https://sport.uni-pannon.hu/event/halado-futas-veszprun/2026-03-31/
LOCATION:Színházkert\, Óvári Ferenc út\, Veszprém\, Veszprém\, 8200\, Hungary
CATEGORIES:Nyilvános sportkínálat
ATTACH;FMTTYPE=image/jpeg:https://sport.uni-pannon.hu/wp-content/uploads/2026/02/veszprun.jpg
END:VEVENT
BEGIN:VEVENT
DTSTART;TZID=Europe/Budapest:20260324T183000
DTEND;TZID=Europe/Budapest:20260324T183000
DTSTAMP:20260420T172836
CREATED:20260213T084114Z
LAST-MODIFIED:20260312T142215Z
UID:10003751-1774377000-1774377000@sport.uni-pannon.hu
SUMMARY:Haladó futás - VeszpRun
DESCRIPTION:Időpont: kedd 18:30\nHelyszín: Veszprém\, Színházkert/Gulyadomb\nJelentkezés és további információ: www.facebook.com/groups/VeszpRUN www.facebook.com/veszprun Kérdés esetén messengeren is megtalálsz minket. \nIngyenes közösségi futás\, melyre szeretettel várunk minden futót\, aki képes legalább 8-10 km-t 6:00-6:30 perc/km tempóban teljesíteni.
URL:https://sport.uni-pannon.hu/event/halado-futas-veszprun/2026-03-24/
LOCATION:Színházkert\, Óvári Ferenc út\, Veszprém\, Veszprém\, 8200\, Hungary
CATEGORIES:Nyilvános sportkínálat
ATTACH;FMTTYPE=image/jpeg:https://sport.uni-pannon.hu/wp-content/uploads/2026/02/veszprun.jpg
END:VEVENT
BEGIN:VEVENT
DTSTART;TZID=Europe/Budapest:20260317T183000
DTEND;TZID=Europe/Budapest:20260317T183000
DTSTAMP:20260420T172836
CREATED:20260213T084114Z
LAST-MODIFIED:20260312T142215Z
UID:10003750-1773772200-1773772200@sport.uni-pannon.hu
SUMMARY:Haladó futás - VeszpRun
DESCRIPTION:Időpont: kedd 18:30\nHelyszín: Veszprém\, Színházkert/Gulyadomb\nJelentkezés és további információ: www.facebook.com/groups/VeszpRUN www.facebook.com/veszprun Kérdés esetén messengeren is megtalálsz minket. \nIngyenes közösségi futás\, melyre szeretettel várunk minden futót\, aki képes legalább 8-10 km-t 6:00-6:30 perc/km tempóban teljesíteni.
URL:https://sport.uni-pannon.hu/event/halado-futas-veszprun/2026-03-17/
LOCATION:Színházkert\, Óvári Ferenc út\, Veszprém\, Veszprém\, 8200\, Hungary
CATEGORIES:Nyilvános sportkínálat
ATTACH;FMTTYPE=image/jpeg:https://sport.uni-pannon.hu/wp-content/uploads/2026/02/veszprun.jpg
END:VEVENT
BEGIN:VEVENT
DTSTART;TZID=Europe/Budapest:20260310T183000
DTEND;TZID=Europe/Budapest:20260310T183000
DTSTAMP:20260420T172836
CREATED:20260213T084114Z
LAST-MODIFIED:20260312T142215Z
UID:10003749-1773167400-1773167400@sport.uni-pannon.hu
SUMMARY:Haladó futás - VeszpRun
DESCRIPTION:Időpont: kedd 18:30\nHelyszín: Veszprém\, Színházkert/Gulyadomb\nJelentkezés és további információ: www.facebook.com/groups/VeszpRUN www.facebook.com/veszprun Kérdés esetén messengeren is megtalálsz minket. \nIngyenes közösségi futás\, melyre szeretettel várunk minden futót\, aki képes legalább 8-10 km-t 6:00-6:30 perc/km tempóban teljesíteni.
URL:https://sport.uni-pannon.hu/event/halado-futas-veszprun/2026-03-10/
LOCATION:Színházkert\, Óvári Ferenc út\, Veszprém\, Veszprém\, 8200\, Hungary
CATEGORIES:Nyilvános sportkínálat
ATTACH;FMTTYPE=image/jpeg:https://sport.uni-pannon.hu/wp-content/uploads/2026/02/veszprun.jpg
END:VEVENT
BEGIN:VEVENT
DTSTART;TZID=Europe/Budapest:20260303T183000
DTEND;TZID=Europe/Budapest:20260303T183000
DTSTAMP:20260420T172836
CREATED:20260213T084114Z
LAST-MODIFIED:20260312T142215Z
UID:10003748-1772562600-1772562600@sport.uni-pannon.hu
SUMMARY:Haladó futás - VeszpRun
DESCRIPTION:Időpont: kedd 18:30\nHelyszín: Veszprém\, Színházkert/Gulyadomb\nJelentkezés és további információ: www.facebook.com/groups/VeszpRUN www.facebook.com/veszprun Kérdés esetén messengeren is megtalálsz minket. \nIngyenes közösségi futás\, melyre szeretettel várunk minden futót\, aki képes legalább 8-10 km-t 6:00-6:30 perc/km tempóban teljesíteni.
URL:https://sport.uni-pannon.hu/event/halado-futas-veszprun/2026-03-03/
LOCATION:Színházkert\, Óvári Ferenc út\, Veszprém\, Veszprém\, 8200\, Hungary
CATEGORIES:Nyilvános sportkínálat
ATTACH;FMTTYPE=image/jpeg:https://sport.uni-pannon.hu/wp-content/uploads/2026/02/veszprun.jpg
END:VEVENT
BEGIN:VEVENT
DTSTART;TZID=Europe/Budapest:20260224T183000
DTEND;TZID=Europe/Budapest:20260224T183000
DTSTAMP:20260420T172836
CREATED:20260213T084114Z
LAST-MODIFIED:20260312T142215Z
UID:10003747-1771957800-1771957800@sport.uni-pannon.hu
SUMMARY:Haladó futás - VeszpRun
DESCRIPTION:Időpont: kedd 18:30\nHelyszín: Veszprém\, Színházkert/Gulyadomb\nJelentkezés és további információ: www.facebook.com/groups/VeszpRUN www.facebook.com/veszprun Kérdés esetén messengeren is megtalálsz minket. \nIngyenes közösségi futás\, melyre szeretettel várunk minden futót\, aki képes legalább 8-10 km-t 6:00-6:30 perc/km tempóban teljesíteni.
URL:https://sport.uni-pannon.hu/event/halado-futas-veszprun/2026-02-24/
LOCATION:Színházkert\, Óvári Ferenc út\, Veszprém\, Veszprém\, 8200\, Hungary
CATEGORIES:Nyilvános sportkínálat
ATTACH;FMTTYPE=image/jpeg:https://sport.uni-pannon.hu/wp-content/uploads/2026/02/veszprun.jpg
END:VEVENT
BEGIN:VEVENT
DTSTART;TZID=Europe/Budapest:20260217T183000
DTEND;TZID=Europe/Budapest:20260217T183000
DTSTAMP:20260420T172836
CREATED:20260213T084114Z
LAST-MODIFIED:20260312T142215Z
UID:10003746-1771353000-1771353000@sport.uni-pannon.hu
SUMMARY:Haladó futás - VeszpRun
DESCRIPTION:Időpont: kedd 18:30\nHelyszín: Veszprém\, Színházkert/Gulyadomb\nJelentkezés és további információ: www.facebook.com/groups/VeszpRUN www.facebook.com/veszprun Kérdés esetén messengeren is megtalálsz minket. \nIngyenes közösségi futás\, melyre szeretettel várunk minden futót\, aki képes legalább 8-10 km-t 6:00-6:30 perc/km tempóban teljesíteni.
URL:https://sport.uni-pannon.hu/event/halado-futas-veszprun/2026-02-17/
LOCATION:Színházkert\, Óvári Ferenc út\, Veszprém\, Veszprém\, 8200\, Hungary
CATEGORIES:Nyilvános sportkínálat
ATTACH;FMTTYPE=image/jpeg:https://sport.uni-pannon.hu/wp-content/uploads/2026/02/veszprun.jpg
END:VEVENT
BEGIN:VEVENT
DTSTART;TZID=Europe/Budapest:20260210T183000
DTEND;TZID=Europe/Budapest:20260210T183000
DTSTAMP:20260420T172836
CREATED:20260213T084114Z
LAST-MODIFIED:20260312T142215Z
UID:10003745-1770748200-1770748200@sport.uni-pannon.hu
SUMMARY:Haladó futás - VeszpRun
DESCRIPTION:Időpont: kedd 18:30\nHelyszín: Veszprém\, Színházkert/Gulyadomb\nJelentkezés és további információ: www.facebook.com/groups/VeszpRUN www.facebook.com/veszprun Kérdés esetén messengeren is megtalálsz minket. \nIngyenes közösségi futás\, melyre szeretettel várunk minden futót\, aki képes legalább 8-10 km-t 6:00-6:30 perc/km tempóban teljesíteni.
URL:https://sport.uni-pannon.hu/event/halado-futas-veszprun/2026-02-10/
LOCATION:Színházkert\, Óvári Ferenc út\, Veszprém\, Veszprém\, 8200\, Hungary
CATEGORIES:Nyilvános sportkínálat
ATTACH;FMTTYPE=image/jpeg:https://sport.uni-pannon.hu/wp-content/uploads/2026/02/veszprun.jpg
END:VEVENT
END:VCALENDAR