BEGIN:VCALENDAR
VERSION:2.0
PRODID:-//Sport Éve 2026 - ECPv6.15.20//NONSGML v1.0//EN
CALSCALE:GREGORIAN
METHOD:PUBLISH
X-ORIGINAL-URL:https://sport.uni-pannon.hu
X-WR-CALDESC:Események Sport Éve 2026
REFRESH-INTERVAL;VALUE=DURATION:PT1H
X-Robots-Tag:noindex
X-PUBLISHED-TTL:PT1H
BEGIN:VTIMEZONE
TZID:Europe/Budapest
BEGIN:DAYLIGHT
TZOFFSETFROM:+0100
TZOFFSETTO:+0200
TZNAME:CEST
DTSTART:20250330T010000
END:DAYLIGHT
BEGIN:STANDARD
TZOFFSETFROM:+0200
TZOFFSETTO:+0100
TZNAME:CET
DTSTART:20251026T010000
END:STANDARD
BEGIN:DAYLIGHT
TZOFFSETFROM:+0100
TZOFFSETTO:+0200
TZNAME:CEST
DTSTART:20260329T010000
END:DAYLIGHT
BEGIN:STANDARD
TZOFFSETFROM:+0200
TZOFFSETTO:+0100
TZNAME:CET
DTSTART:20261025T010000
END:STANDARD
BEGIN:DAYLIGHT
TZOFFSETFROM:+0100
TZOFFSETTO:+0200
TZNAME:CEST
DTSTART:20270328T010000
END:DAYLIGHT
BEGIN:STANDARD
TZOFFSETFROM:+0200
TZOFFSETTO:+0100
TZNAME:CET
DTSTART:20271031T010000
END:STANDARD
END:VTIMEZONE
BEGIN:VEVENT
DTSTART;TZID=Europe/Budapest:20260423T100000
DTEND;TZID=Europe/Budapest:20260423T113000
DTSTAMP:20260423T034355
CREATED:20260212T094239Z
LAST-MODIFIED:20260212T104649Z
UID:10003120-1776938400-1776943800@sport.uni-pannon.hu
SUMMARY:HCF (has-comb-farizom)
DESCRIPTION:Időpont: csütörtök 10:00-11:30\nHelyszín: Testnevelési és Sport Intézet\, tornaszoba\nTérítésmentes egyetemi hallgatók részére.\nJelentkezés és további információ: https://alairas.sport.uni-pannon.hu/
URL:https://sport.uni-pannon.hu/event/hcf-has-comb-farizom/2026-04-23/
LOCATION:Tornacsarnok\, Egyetem utca 10.\, Veszprém\, Veszprém\, 8200\, Hungary
CATEGORIES:Hallgatói sportkínálat
ATTACH;FMTTYPE=image/jpeg:https://sport.uni-pannon.hu/wp-content/uploads/2026/02/young-female-athlete-doing-abdominal-exercises-with-weight-plate-health-club-scaled.jpg
END:VEVENT
BEGIN:VEVENT
DTSTART;TZID=Europe/Budapest:20260423T120000
DTEND;TZID=Europe/Budapest:20260423T124500
DTSTAMP:20260423T034355
CREATED:20260212T082800Z
LAST-MODIFIED:20260213T080857Z
UID:10003331-1776945600-1776948300@sport.uni-pannon.hu
SUMMARY:Alakformáló torna
DESCRIPTION:Időpont: csütörtök 12:00-12:45\nHelyszín: Testnevelési és Sport Intézet\, tornaszoba\nTérítésmentes egyetemi hallgatók részére.\nJelentkezés és további információ: https://alairas.sport.uni-pannon.hu/
URL:https://sport.uni-pannon.hu/event/alakformalo-torna/2026-04-23/
LOCATION:Tornacsarnok\, Egyetem utca 10.\, Veszprém\, Veszprém\, 8200\, Hungary
CATEGORIES:Hallgatói sportkínálat
ATTACH;FMTTYPE=image/jpeg:https://sport.uni-pannon.hu/wp-content/uploads/2026/02/KBAL0048.jpg
END:VEVENT
BEGIN:VEVENT
DTSTART;TZID=Europe/Budapest:20260423T160000
DTEND;TZID=Europe/Budapest:20260423T164500
DTSTAMP:20260423T034355
CREATED:20260212T080633Z
LAST-MODIFIED:20260312T142051Z
UID:10001900-1776960000-1776962700@sport.uni-pannon.hu
SUMMARY:Spinning
DESCRIPTION:Előzetes bejelentkezés alapján! A részvétel díjhoz kötött! \nIdőpont: \n\nhétfő 17:00-18:00\, 18:15-19:15\nkedd: 16:00-16:45\, 17:00-18:00\, 18:15-19:15\ncsütörtök: 16:00-16:45\, 17:00-18:00\, 18:15-19:15\n\nElérhetőség: 06-30/556-5305 \nHelyszín: Pannon Egyetem\, Testnevelési és Sport Intézet\, tornaszoba (8200 Veszprém\, Egyetem utca 10.)
URL:https://sport.uni-pannon.hu/event/spinning-3-2/2026-04-23/
LOCATION:Tornacsarnok\, Egyetem utca 10.\, Veszprém\, Veszprém\, 8200\, Hungary
CATEGORIES:Nyilvános sportkínálat
ATTACH;FMTTYPE=image/jpeg:https://sport.uni-pannon.hu/wp-content/uploads/2026/02/spinning.jpg
END:VEVENT
BEGIN:VEVENT
DTSTART;TZID=Europe/Budapest:20260423T160000
DTEND;TZID=Europe/Budapest:20260423T170000
DTSTAMP:20260423T034355
CREATED:20260211T140731Z
LAST-MODIFIED:20260211T141008Z
UID:10000373-1776960000-1776963600@sport.uni-pannon.hu
SUMMARY:Evező erősítő köredzés
DESCRIPTION:Haladó szintű óra. Köredzés formájában minden izomcsoportra kiterjedő edzés.\nTagdjí: 16.000 Ft/félév (köredzések mellett evezős szoba használata és vízi edzéseken való részvétel is benne foglalva) \n\nTermi edzések időpontja: kedd 16:00-17:00\, csütörtök 16.00-17:00\nÓratartó: Szentessy Balázs\nHelyszín: Pannon Egyetem\, Testnevelési és Sport Intézet\, Tornacsarnok (8200 Veszprém\, Egyetem utca 10.)\nElérhetőség: szentessy.balazs@uni-pannon.hu
URL:https://sport.uni-pannon.hu/event/evezo-erosito-koredzes/2026-04-23/
LOCATION:Tornacsarnok\, Egyetem utca 10.\, Veszprém\, Veszprém\, 8200\, Hungary
CATEGORIES:Nyilvános sportkínálat
ATTACH;FMTTYPE=image/jpeg:https://sport.uni-pannon.hu/wp-content/uploads/2026/02/KBAL0174.jpg
END:VEVENT
BEGIN:VEVENT
DTSTART;TZID=Europe/Budapest:20260423T170000
DTEND;TZID=Europe/Budapest:20260423T180000
DTSTAMP:20260423T034355
CREATED:20260212T080652Z
LAST-MODIFIED:20260312T141937Z
UID:10001746-1776963600-1776967200@sport.uni-pannon.hu
SUMMARY:Spinning
DESCRIPTION:Előzetes bejelentkezés alapján! A részvétel díjhoz kötött! \nIdőpont: \n\nhétfő 17:00-18:00\, 18:15-19:15\nkedd: 16:00-16:45\, 17:00-18:00\, 18:15-19:15\ncsütörtök: 16:00-16:45\, 17:00-18:00\, 18:15-19:15\n\nElérhetőség: 06-30/556-5305 \nHelyszín: Pannon Egyetem\, Testnevelési és Sport Intézet\, tornaszoba (8200 Veszprém\, Egyetem utca 10.)
URL:https://sport.uni-pannon.hu/event/spinning-4/2026-04-23/
LOCATION:Tornacsarnok\, Egyetem utca 10.\, Veszprém\, Veszprém\, 8200\, Hungary
CATEGORIES:Nyilvános sportkínálat
ATTACH;FMTTYPE=image/jpeg:https://sport.uni-pannon.hu/wp-content/uploads/2026/02/spinning.jpg
END:VEVENT
BEGIN:VEVENT
DTSTART;TZID=Europe/Budapest:20260423T181500
DTEND;TZID=Europe/Budapest:20260423T191500
DTSTAMP:20260423T034355
CREATED:20260212T080644Z
LAST-MODIFIED:20260312T142027Z
UID:10001828-1776968100-1776971700@sport.uni-pannon.hu
SUMMARY:Spinning
DESCRIPTION:Előzetes bejelentkezés alapján! A részvétel díjhoz kötött! \nIdőpont: \n\nhétfő 17:00-18:00\, 18:15-19:15\nkedd: 16:00-16:45\, 17:00-18:00\, 18:15-19:15\ncsütörtök: 16:00-16:45\, 17:00-18:00\, 18:15-19:15\n\nElérhetőség: 06-30/556-5305 \nHelyszín: Pannon Egyetem\, Testnevelési és Sport Intézet\, tornaszoba (8200 Veszprém\, Egyetem utca 10.)
URL:https://sport.uni-pannon.hu/event/spinning-2-2/2026-04-23/
LOCATION:Tornacsarnok\, Egyetem utca 10.\, Veszprém\, Veszprém\, 8200\, Hungary
CATEGORIES:Nyilvános sportkínálat
ATTACH;FMTTYPE=image/jpeg:https://sport.uni-pannon.hu/wp-content/uploads/2026/02/spinning.jpg
END:VEVENT
BEGIN:VEVENT
DTSTART;TZID=Europe/Budapest:20260423T210000
DTEND;TZID=Europe/Budapest:20260423T223000
DTSTAMP:20260423T034355
CREATED:20260213T091350Z
LAST-MODIFIED:20260213T091350Z
UID:10003596-1776978000-1776983400@sport.uni-pannon.hu
SUMMARY:Kosárlabda – Jedlik Ányos Szakkollégium diákja részére
DESCRIPTION:Időpont: csütörtök 21:00-22:30\nHelyszín: Veszprém\, Pannon Egyetem\, tornacsarnok\nJelentkezés és további információ: https://alairas.sport.uni-pannon.hu/
URL:https://sport.uni-pannon.hu/event/kosarlabda-jedlik-anyos-szakkollegium-diakja-reszere/2026-04-23/
LOCATION:Tornacsarnok\, Egyetem utca 10.\, Veszprém\, Veszprém\, 8200\, Hungary
CATEGORIES:Hallgatói sportkínálat
ATTACH;FMTTYPE=image/jpeg:https://sport.uni-pannon.hu/wp-content/uploads/2026/02/Pesthy-Marton-PES_7867-20251114-scaled.jpg
END:VEVENT
BEGIN:VEVENT
DTSTART;TZID=Europe/Budapest:20260424T060000
DTEND;TZID=Europe/Budapest:20260424T073000
DTSTAMP:20260423T034355
CREATED:20260211T144805Z
LAST-MODIFIED:20260312T140727Z
UID:10000446-1777010400-1777015800@sport.uni-pannon.hu
SUMMARY:Atlétika\, erősítés
DESCRIPTION:Haladó szintű óra. Atletikus alap mozgásra épülő általános képességfejlesztés\, állóképességtől a maximális erőig.\nTagdíj: 8.000 Ft/félév \no    Időpont: hétfő 18:00-19:30\, szerda 18:00-19:30\, péntek 06:00-07:30 \no    Óratartó: Dr. Edvy László \no    Helyszín: Pannon Egyetem\, Testnevelési és Sport Intézet\, (8200 Veszprém\, Egyetem utca 10.) \no    Elérhetőség: edvy.laszlo@uni-pannon.hu
URL:https://sport.uni-pannon.hu/event/atletika-erosites-2/2026-04-24/
LOCATION:Tornacsarnok\, Egyetem utca 10.\, Veszprém\, Veszprém\, 8200\, Hungary
CATEGORIES:Nyilvános sportkínálat
ATTACH;FMTTYPE=image/jpeg:https://sport.uni-pannon.hu/wp-content/uploads/2026/02/atletika-scaled-e1773324367949.jpg
END:VEVENT
BEGIN:VEVENT
DTSTART;TZID=Europe/Budapest:20260424T090000
DTEND;TZID=Europe/Budapest:20260424T100000
DTSTAMP:20260423T034355
CREATED:20260211T135305Z
LAST-MODIFIED:20260313T115042Z
UID:10000334-1777021200-1777024800@sport.uni-pannon.hu
SUMMARY:Roll-sí
DESCRIPTION:Térítésmentes egyetemi hallgatók részére. \n\nIdőpont: péntek: 09:00-10:00\nhelyszín: Testnevelési és Sport Intézet tornacsarnok\nJelentkezés és további információ: https://alairas.sport.uni-pannon.hu/
URL:https://sport.uni-pannon.hu/event/roll-si/2026-04-24/
LOCATION:Tornacsarnok\, Egyetem utca 10.\, Veszprém\, Veszprém\, 8200\, Hungary
CATEGORIES:Hallgatói sportkínálat
ATTACH;FMTTYPE=image/jpeg:https://sport.uni-pannon.hu/wp-content/uploads/2026/02/skiroller.jpg
END:VEVENT
BEGIN:VEVENT
DTSTART;TZID=Europe/Budapest:20260424T133000
DTEND;TZID=Europe/Budapest:20260424T143000
DTSTAMP:20260423T034355
CREATED:20260204T114814Z
LAST-MODIFIED:20260219T094442Z
UID:10000211-1777037400-1777041000@sport.uni-pannon.hu
SUMMARY:Dolgozói foci
DESCRIPTION:Térítésmentes egyetemi dolgozók részére. \n\nPéntek: 13:30-14:30\nHelyszín: Tornacsarnok\nBejelentkezés: szoka.orsolya@uni-pannon.hu
URL:https://sport.uni-pannon.hu/event/dolgozoi-foci/2026-04-24/
LOCATION:Tornacsarnok\, Egyetem utca 10.\, Veszprém\, Veszprém\, 8200\, Hungary
CATEGORIES:Dolgozói sportkínálat
ATTACH;FMTTYPE=image/jpeg:https://sport.uni-pannon.hu/wp-content/uploads/2026/02/foci.jpg
ORGANIZER;CN="Sz%C3%B3ka Oroslya":MAILTO:szoka.orsolya@uni-pannon.hu
END:VEVENT
BEGIN:VEVENT
DTSTART;TZID=Europe/Budapest:20260424T143000
DTEND;TZID=Europe/Budapest:20260424T153000
DTSTAMP:20260423T034355
CREATED:20260211T125238Z
LAST-MODIFIED:20260211T130146Z
UID:10000277-1777041000-1777044600@sport.uni-pannon.hu
SUMMARY:Dolgozói kosárlabda
DESCRIPTION:Térítésmentes egyetemi dolgozók részére. \n\nPéntek: 14:30-15:30\nÓratartó: Kristóf Tamás\nHelyszín: Tornacsarnok\nElérhetőség: kristof.tamas@mk.uni-pannon.hu
URL:https://sport.uni-pannon.hu/event/dolgozoi-kosarlabda/2026-04-24/
LOCATION:Tornacsarnok\, Egyetem utca 10.\, Veszprém\, Veszprém\, 8200\, Hungary
CATEGORIES:Dolgozói sportkínálat
ATTACH;FMTTYPE=image/jpeg:https://sport.uni-pannon.hu/wp-content/uploads/2026/02/Pesthy-Marton-PES_7882-20251114-scaled.jpg
END:VEVENT
BEGIN:VEVENT
DTSTART;TZID=Europe/Budapest:20260427T120000
DTEND;TZID=Europe/Budapest:20260427T124500
DTSTAMP:20260423T034355
CREATED:20260212T101344Z
LAST-MODIFIED:20260212T101344Z
UID:10003219-1777291200-1777293900@sport.uni-pannon.hu
SUMMARY:Nyújtás\, hengerezés
DESCRIPTION:Időpont: hétfő: 12:00-12:45\, kedd: 08:00-08:45\nHelyszín: Testnevelési és Sport Intézet\, tornaszoba\nTérítésmentes egyetemi hallgatók részére.\nJelentkezés és további információ: https://alairas.sport.uni-pannon.hu/
URL:https://sport.uni-pannon.hu/event/nyujtas-hengerezes/2026-04-27/
LOCATION:Tornacsarnok\, Egyetem utca 10.\, Veszprém\, Veszprém\, 8200\, Hungary
CATEGORIES:Hallgatói sportkínálat
ATTACH;FMTTYPE=image/jpeg:https://sport.uni-pannon.hu/wp-content/uploads/2026/02/yoga-stretching-photo-gorgeous-blonde-woman-gym-her-weekend-time-scaled.jpg
END:VEVENT
BEGIN:VEVENT
DTSTART;TZID=Europe/Budapest:20260427T120000
DTEND;TZID=Europe/Budapest:20260427T133000
DTSTAMP:20260423T034355
CREATED:20260212T102738Z
LAST-MODIFIED:20260216T132414Z
UID:10003305-1777291200-1777296600@sport.uni-pannon.hu
SUMMARY:Tollaslabda (Veszprém)
DESCRIPTION:Időpont: hétfő 12:00-13:30\nHelyszín: Testnevelési és Sport Intézet\, tornacsarnok\nTérítésmentes egyetemi hallgatók részére.\nJelentkezés és további információ: https://alairas.sport.uni-pannon.hu/
URL:https://sport.uni-pannon.hu/event/tollaslabda/2026-04-27/
LOCATION:Tornacsarnok\, Egyetem utca 10.\, Veszprém\, Veszprém\, 8200\, Hungary
CATEGORIES:Hallgatói sportkínálat
ATTACH;FMTTYPE=image/jpeg:https://sport.uni-pannon.hu/wp-content/uploads/2026/02/woman-holding-racket-front-view-1-scaled.jpg
END:VEVENT
BEGIN:VEVENT
DTSTART;TZID=Europe/Budapest:20260427T140000
DTEND;TZID=Europe/Budapest:20260427T153000
DTSTAMP:20260423T034355
CREATED:20260211T130900Z
LAST-MODIFIED:20260312T134807Z
UID:10000292-1777298400-1777303800@sport.uni-pannon.hu
SUMMARY:Basic aerobic
DESCRIPTION:Térítésmentes egyetemi hallgatók részére. \n\nIdőpont: hétfő: 14:00-15:30\nhelyszín: Testnevelési és Sport Intézet tornacsarnok\nJelentkezés és további információ: https://alairas.sport.uni-pannon.hu/
URL:https://sport.uni-pannon.hu/event/basic-aerobic-2/2026-04-27/
LOCATION:Tornacsarnok\, Egyetem utca 10.\, Veszprém\, Veszprém\, 8200\, Hungary
CATEGORIES:Hallgatói sportkínálat
ATTACH;FMTTYPE=image/jpeg:https://sport.uni-pannon.hu/wp-content/uploads/2026/02/aerobic_basic-dance.jpg
END:VEVENT
BEGIN:VEVENT
DTSTART;TZID=Europe/Budapest:20260427T170000
DTEND;TZID=Europe/Budapest:20260427T180000
DTSTAMP:20260423T034355
CREATED:20260212T080652Z
LAST-MODIFIED:20260312T141937Z
UID:10001747-1777309200-1777312800@sport.uni-pannon.hu
SUMMARY:Spinning
DESCRIPTION:Előzetes bejelentkezés alapján! A részvétel díjhoz kötött! \nIdőpont: \n\nhétfő 17:00-18:00\, 18:15-19:15\nkedd: 16:00-16:45\, 17:00-18:00\, 18:15-19:15\ncsütörtök: 16:00-16:45\, 17:00-18:00\, 18:15-19:15\n\nElérhetőség: 06-30/556-5305 \nHelyszín: Pannon Egyetem\, Testnevelési és Sport Intézet\, tornaszoba (8200 Veszprém\, Egyetem utca 10.)
URL:https://sport.uni-pannon.hu/event/spinning-4/2026-04-27/
LOCATION:Tornacsarnok\, Egyetem utca 10.\, Veszprém\, Veszprém\, 8200\, Hungary
CATEGORIES:Nyilvános sportkínálat
ATTACH;FMTTYPE=image/jpeg:https://sport.uni-pannon.hu/wp-content/uploads/2026/02/spinning.jpg
END:VEVENT
BEGIN:VEVENT
DTSTART;TZID=Europe/Budapest:20260427T180000
DTEND;TZID=Europe/Budapest:20260427T193000
DTSTAMP:20260423T034355
CREATED:20260211T144711Z
LAST-MODIFIED:20260312T140707Z
UID:10000402-1777312800-1777318200@sport.uni-pannon.hu
SUMMARY:Atlétika\, erősítés
DESCRIPTION:Haladó szintű óra. Atletikus alap mozgásra épülő általános képességfejlesztés\, állóképességtől a maximális erőig.\nTagdíj: 8.000 Ft/félév \no    Időpont: hétfő 18:00-19:30\, szerda 18:00-19:30\, péntek 06:00-07:30 \no    Óratartó: Dr. Edvy László \no    Helyszín: Pannon Egyetem\, Testnevelési és Sport Intézet\, (8200 Veszprém\, Egyetem utca 10.) \no    Elérhetőség: edvy.laszlo@uni-pannon.hu
URL:https://sport.uni-pannon.hu/event/atletika-erosites/2026-04-27/
LOCATION:Tornacsarnok\, Egyetem utca 10.\, Veszprém\, Veszprém\, 8200\, Hungary
CATEGORIES:Nyilvános sportkínálat
ATTACH;FMTTYPE=image/jpeg:https://sport.uni-pannon.hu/wp-content/uploads/2026/02/atletika-scaled-e1773324367949.jpg
END:VEVENT
BEGIN:VEVENT
DTSTART;TZID=Europe/Budapest:20260427T181500
DTEND;TZID=Europe/Budapest:20260427T191500
DTSTAMP:20260423T034355
CREATED:20260212T080644Z
LAST-MODIFIED:20260312T142027Z
UID:10001829-1777313700-1777317300@sport.uni-pannon.hu
SUMMARY:Spinning
DESCRIPTION:Előzetes bejelentkezés alapján! A részvétel díjhoz kötött! \nIdőpont: \n\nhétfő 17:00-18:00\, 18:15-19:15\nkedd: 16:00-16:45\, 17:00-18:00\, 18:15-19:15\ncsütörtök: 16:00-16:45\, 17:00-18:00\, 18:15-19:15\n\nElérhetőség: 06-30/556-5305 \nHelyszín: Pannon Egyetem\, Testnevelési és Sport Intézet\, tornaszoba (8200 Veszprém\, Egyetem utca 10.)
URL:https://sport.uni-pannon.hu/event/spinning-2-2/2026-04-27/
LOCATION:Tornacsarnok\, Egyetem utca 10.\, Veszprém\, Veszprém\, 8200\, Hungary
CATEGORIES:Nyilvános sportkínálat
ATTACH;FMTTYPE=image/jpeg:https://sport.uni-pannon.hu/wp-content/uploads/2026/02/spinning.jpg
END:VEVENT
BEGIN:VEVENT
DTSTART;TZID=Europe/Budapest:20260427T200000
DTEND;TZID=Europe/Budapest:20260427T220000
DTSTAMP:20260423T034355
CREATED:20260421T090114Z
LAST-MODIFIED:20260421T090136Z
UID:10003995-1777320000-1777327200@sport.uni-pannon.hu
SUMMARY:Dodgeball Bajnokság a Pannon Egyetemen
DESCRIPTION:Időpont: 2026. április 27. 20:00-22:00 \nHelyszín: Pannon Egyetem\, Testnevelési és Sport Intézet\, Tornacsarnok \nJelentkezés: sportiroda@uni-pannon.hu \nCsapattagok száma: minimum 6 fő (kikötés: minimum 2 lány és 2 fiú csapattag) \nNevezési díj: nincs \nNevezési határidő: április 24. 12:00 \nTovábbi információ a dodgeball-ról: https://dodgeball.hu/mi-az-a-dodgeball/ \nAz esemény a Veszprém-Balaton Európa Sportrégiója 2026 program és a Pannon Egyetem Sport Éve programsorozat keretében valósul meg.
URL:https://sport.uni-pannon.hu/event/dodgeball-bajnoksag-a-pannon-egyetemen/
LOCATION:Tornacsarnok\, Egyetem utca 10.\, Veszprém\, Veszprém\, 8200\, Hungary
CATEGORIES:Nyilvános sportkínálat
ATTACH;FMTTYPE=image/jpeg:https://sport.uni-pannon.hu/wp-content/uploads/2026/04/hungary-dodgeball-world-championship-21-1536x1024-1.jpg
END:VEVENT
BEGIN:VEVENT
DTSTART;TZID=Europe/Budapest:20260428T080000
DTEND;TZID=Europe/Budapest:20260428T084500
DTSTAMP:20260423T034355
CREATED:20260212T101423Z
LAST-MODIFIED:20260212T101423Z
UID:10003247-1777363200-1777365900@sport.uni-pannon.hu
SUMMARY:Nyújtás\, hengerezés
DESCRIPTION:Időpont: hétfő: 12:00-12:45\, kedd: 08:00-08:45\nHelyszín: Testnevelési és Sport Intézet\, tornaszoba\nTérítésmentes egyetemi hallgatók részére.\nJelentkezés és további információ: https://alairas.sport.uni-pannon.hu/
URL:https://sport.uni-pannon.hu/event/nyujtas-hengerezes-2/2026-04-28/
LOCATION:Tornacsarnok\, Egyetem utca 10.\, Veszprém\, Veszprém\, 8200\, Hungary
CATEGORIES:Hallgatói sportkínálat
ATTACH;FMTTYPE=image/jpeg:https://sport.uni-pannon.hu/wp-content/uploads/2026/02/yoga-stretching-photo-gorgeous-blonde-woman-gym-her-weekend-time-scaled.jpg
END:VEVENT
BEGIN:VEVENT
DTSTART;TZID=Europe/Budapest:20260428T120000
DTEND;TZID=Europe/Budapest:20260428T133000
DTSTAMP:20260423T034355
CREATED:20260212T101632Z
LAST-MODIFIED:20260213T080933Z
UID:10003345-1777377600-1777383000@sport.uni-pannon.hu
SUMMARY:Női röplabda
DESCRIPTION:Időpont: kedd 12:00-13:30\nHelyszín: Testnevelési és Sport Intézet\, tornacsarnok\nTérítésmentes egyetemi hallgatók részére.\nJelentkezés és további információ: https://alairas.sport.uni-pannon.hu/
URL:https://sport.uni-pannon.hu/event/noi-roplabda/2026-04-28/
LOCATION:Tornacsarnok\, Egyetem utca 10.\, Veszprém\, Veszprém\, 8200\, Hungary
CATEGORIES:Hallgatói sportkínálat
ATTACH;FMTTYPE=image/jpeg:https://sport.uni-pannon.hu/wp-content/uploads/2026/02/Z2A9037-scaled.jpg
END:VEVENT
BEGIN:VEVENT
DTSTART;TZID=Europe/Budapest:20260428T160000
DTEND;TZID=Europe/Budapest:20260428T164500
DTSTAMP:20260423T034355
CREATED:20260212T080633Z
LAST-MODIFIED:20260312T142051Z
UID:10001901-1777392000-1777394700@sport.uni-pannon.hu
SUMMARY:Spinning
DESCRIPTION:Előzetes bejelentkezés alapján! A részvétel díjhoz kötött! \nIdőpont: \n\nhétfő 17:00-18:00\, 18:15-19:15\nkedd: 16:00-16:45\, 17:00-18:00\, 18:15-19:15\ncsütörtök: 16:00-16:45\, 17:00-18:00\, 18:15-19:15\n\nElérhetőség: 06-30/556-5305 \nHelyszín: Pannon Egyetem\, Testnevelési és Sport Intézet\, tornaszoba (8200 Veszprém\, Egyetem utca 10.)
URL:https://sport.uni-pannon.hu/event/spinning-3-2/2026-04-28/
LOCATION:Tornacsarnok\, Egyetem utca 10.\, Veszprém\, Veszprém\, 8200\, Hungary
CATEGORIES:Nyilvános sportkínálat
ATTACH;FMTTYPE=image/jpeg:https://sport.uni-pannon.hu/wp-content/uploads/2026/02/spinning.jpg
END:VEVENT
BEGIN:VEVENT
DTSTART;TZID=Europe/Budapest:20260428T160000
DTEND;TZID=Europe/Budapest:20260428T170000
DTSTAMP:20260423T034355
CREATED:20260211T140731Z
LAST-MODIFIED:20260211T141008Z
UID:10000374-1777392000-1777395600@sport.uni-pannon.hu
SUMMARY:Evező erősítő köredzés
DESCRIPTION:Haladó szintű óra. Köredzés formájában minden izomcsoportra kiterjedő edzés.\nTagdjí: 16.000 Ft/félév (köredzések mellett evezős szoba használata és vízi edzéseken való részvétel is benne foglalva) \n\nTermi edzések időpontja: kedd 16:00-17:00\, csütörtök 16.00-17:00\nÓratartó: Szentessy Balázs\nHelyszín: Pannon Egyetem\, Testnevelési és Sport Intézet\, Tornacsarnok (8200 Veszprém\, Egyetem utca 10.)\nElérhetőség: szentessy.balazs@uni-pannon.hu
URL:https://sport.uni-pannon.hu/event/evezo-erosito-koredzes/2026-04-28/
LOCATION:Tornacsarnok\, Egyetem utca 10.\, Veszprém\, Veszprém\, 8200\, Hungary
CATEGORIES:Nyilvános sportkínálat
ATTACH;FMTTYPE=image/jpeg:https://sport.uni-pannon.hu/wp-content/uploads/2026/02/KBAL0174.jpg
END:VEVENT
BEGIN:VEVENT
DTSTART;TZID=Europe/Budapest:20260428T170000
DTEND;TZID=Europe/Budapest:20260428T180000
DTSTAMP:20260423T034355
CREATED:20260212T080652Z
LAST-MODIFIED:20260312T141937Z
UID:10001748-1777395600-1777399200@sport.uni-pannon.hu
SUMMARY:Spinning
DESCRIPTION:Előzetes bejelentkezés alapján! A részvétel díjhoz kötött! \nIdőpont: \n\nhétfő 17:00-18:00\, 18:15-19:15\nkedd: 16:00-16:45\, 17:00-18:00\, 18:15-19:15\ncsütörtök: 16:00-16:45\, 17:00-18:00\, 18:15-19:15\n\nElérhetőség: 06-30/556-5305 \nHelyszín: Pannon Egyetem\, Testnevelési és Sport Intézet\, tornaszoba (8200 Veszprém\, Egyetem utca 10.)
URL:https://sport.uni-pannon.hu/event/spinning-4/2026-04-28/
LOCATION:Tornacsarnok\, Egyetem utca 10.\, Veszprém\, Veszprém\, 8200\, Hungary
CATEGORIES:Nyilvános sportkínálat
ATTACH;FMTTYPE=image/jpeg:https://sport.uni-pannon.hu/wp-content/uploads/2026/02/spinning.jpg
END:VEVENT
BEGIN:VEVENT
DTSTART;TZID=Europe/Budapest:20260428T181500
DTEND;TZID=Europe/Budapest:20260428T191500
DTSTAMP:20260423T034355
CREATED:20260212T080644Z
LAST-MODIFIED:20260312T142027Z
UID:10001830-1777400100-1777403700@sport.uni-pannon.hu
SUMMARY:Spinning
DESCRIPTION:Előzetes bejelentkezés alapján! A részvétel díjhoz kötött! \nIdőpont: \n\nhétfő 17:00-18:00\, 18:15-19:15\nkedd: 16:00-16:45\, 17:00-18:00\, 18:15-19:15\ncsütörtök: 16:00-16:45\, 17:00-18:00\, 18:15-19:15\n\nElérhetőség: 06-30/556-5305 \nHelyszín: Pannon Egyetem\, Testnevelési és Sport Intézet\, tornaszoba (8200 Veszprém\, Egyetem utca 10.)
URL:https://sport.uni-pannon.hu/event/spinning-2-2/2026-04-28/
LOCATION:Tornacsarnok\, Egyetem utca 10.\, Veszprém\, Veszprém\, 8200\, Hungary
CATEGORIES:Nyilvános sportkínálat
ATTACH;FMTTYPE=image/jpeg:https://sport.uni-pannon.hu/wp-content/uploads/2026/02/spinning.jpg
END:VEVENT
BEGIN:VEVENT
DTSTART;TZID=Europe/Budapest:20260428T213000
DTEND;TZID=Europe/Budapest:20260428T230000
DTSTAMP:20260423T034355
CREATED:20260213T091105Z
LAST-MODIFIED:20260213T091105Z
UID:10003569-1777411800-1777417200@sport.uni-pannon.hu
SUMMARY:Hallgatói röplabda - kezdő
DESCRIPTION:Időpont: kedd 21:30-23:00\nHelyszín: Veszprém\, Pannon Egyetem\, tornacsarnok\nJelentkezés és további információ: https://alairas.sport.uni-pannon.hu/
URL:https://sport.uni-pannon.hu/event/hallgatoi-roplabda-kezdo/2026-04-28/
LOCATION:Tornacsarnok\, Egyetem utca 10.\, Veszprém\, Veszprém\, 8200\, Hungary
CATEGORIES:Hallgatói sportkínálat
ATTACH;FMTTYPE=image/jpeg:https://sport.uni-pannon.hu/wp-content/uploads/2026/02/Z2A9013-scaled.jpg
END:VEVENT
BEGIN:VEVENT
DTSTART;TZID=Europe/Budapest:20260429T120000
DTEND;TZID=Europe/Budapest:20260429T133000
DTSTAMP:20260423T034355
CREATED:20260213T091220Z
LAST-MODIFIED:20260213T091220Z
UID:10003583-1777464000-1777469400@sport.uni-pannon.hu
SUMMARY:Hallgatói röplabda - haladó
DESCRIPTION:Időpont: szerda: 12:00-13:30\nHelyszín: Veszprém\, Pannon Egyetem\, tornacsarnok\nJelentkezés és további információ: https://alairas.sport.uni-pannon.hu/
URL:https://sport.uni-pannon.hu/event/hallgatoi-roplabda-halado/2026-04-29/
LOCATION:Tornacsarnok\, Egyetem utca 10.\, Veszprém\, Veszprém\, 8200\, Hungary
CATEGORIES:Hallgatói sportkínálat
ATTACH;FMTTYPE=image/jpeg:https://sport.uni-pannon.hu/wp-content/uploads/2026/02/Z2A9013-scaled.jpg
END:VEVENT
BEGIN:VEVENT
DTSTART;TZID=Europe/Budapest:20260429T180000
DTEND;TZID=Europe/Budapest:20260429T193000
DTSTAMP:20260423T034355
CREATED:20260211T144711Z
LAST-MODIFIED:20260312T140707Z
UID:10000403-1777485600-1777491000@sport.uni-pannon.hu
SUMMARY:Atlétika\, erősítés
DESCRIPTION:Haladó szintű óra. Atletikus alap mozgásra épülő általános képességfejlesztés\, állóképességtől a maximális erőig.\nTagdíj: 8.000 Ft/félév \no    Időpont: hétfő 18:00-19:30\, szerda 18:00-19:30\, péntek 06:00-07:30 \no    Óratartó: Dr. Edvy László \no    Helyszín: Pannon Egyetem\, Testnevelési és Sport Intézet\, (8200 Veszprém\, Egyetem utca 10.) \no    Elérhetőség: edvy.laszlo@uni-pannon.hu
URL:https://sport.uni-pannon.hu/event/atletika-erosites/2026-04-29/
LOCATION:Tornacsarnok\, Egyetem utca 10.\, Veszprém\, Veszprém\, 8200\, Hungary
CATEGORIES:Nyilvános sportkínálat
ATTACH;FMTTYPE=image/jpeg:https://sport.uni-pannon.hu/wp-content/uploads/2026/02/atletika-scaled-e1773324367949.jpg
END:VEVENT
BEGIN:VEVENT
DTSTART;TZID=Europe/Budapest:20260430T100000
DTEND;TZID=Europe/Budapest:20260430T113000
DTSTAMP:20260423T034355
CREATED:20260212T094239Z
LAST-MODIFIED:20260212T104649Z
UID:10003121-1777543200-1777548600@sport.uni-pannon.hu
SUMMARY:HCF (has-comb-farizom)
DESCRIPTION:Időpont: csütörtök 10:00-11:30\nHelyszín: Testnevelési és Sport Intézet\, tornaszoba\nTérítésmentes egyetemi hallgatók részére.\nJelentkezés és további információ: https://alairas.sport.uni-pannon.hu/
URL:https://sport.uni-pannon.hu/event/hcf-has-comb-farizom/2026-04-30/
LOCATION:Tornacsarnok\, Egyetem utca 10.\, Veszprém\, Veszprém\, 8200\, Hungary
CATEGORIES:Hallgatói sportkínálat
ATTACH;FMTTYPE=image/jpeg:https://sport.uni-pannon.hu/wp-content/uploads/2026/02/young-female-athlete-doing-abdominal-exercises-with-weight-plate-health-club-scaled.jpg
END:VEVENT
BEGIN:VEVENT
DTSTART;TZID=Europe/Budapest:20260430T120000
DTEND;TZID=Europe/Budapest:20260430T124500
DTSTAMP:20260423T034355
CREATED:20260212T082800Z
LAST-MODIFIED:20260213T080857Z
UID:10003332-1777550400-1777553100@sport.uni-pannon.hu
SUMMARY:Alakformáló torna
DESCRIPTION:Időpont: csütörtök 12:00-12:45\nHelyszín: Testnevelési és Sport Intézet\, tornaszoba\nTérítésmentes egyetemi hallgatók részére.\nJelentkezés és további információ: https://alairas.sport.uni-pannon.hu/
URL:https://sport.uni-pannon.hu/event/alakformalo-torna/2026-04-30/
LOCATION:Tornacsarnok\, Egyetem utca 10.\, Veszprém\, Veszprém\, 8200\, Hungary
CATEGORIES:Hallgatói sportkínálat
ATTACH;FMTTYPE=image/jpeg:https://sport.uni-pannon.hu/wp-content/uploads/2026/02/KBAL0048.jpg
END:VEVENT
BEGIN:VEVENT
DTSTART;TZID=Europe/Budapest:20260430T160000
DTEND;TZID=Europe/Budapest:20260430T164500
DTSTAMP:20260423T034355
CREATED:20260212T080633Z
LAST-MODIFIED:20260312T142051Z
UID:10001902-1777564800-1777567500@sport.uni-pannon.hu
SUMMARY:Spinning
DESCRIPTION:Előzetes bejelentkezés alapján! A részvétel díjhoz kötött! \nIdőpont: \n\nhétfő 17:00-18:00\, 18:15-19:15\nkedd: 16:00-16:45\, 17:00-18:00\, 18:15-19:15\ncsütörtök: 16:00-16:45\, 17:00-18:00\, 18:15-19:15\n\nElérhetőség: 06-30/556-5305 \nHelyszín: Pannon Egyetem\, Testnevelési és Sport Intézet\, tornaszoba (8200 Veszprém\, Egyetem utca 10.)
URL:https://sport.uni-pannon.hu/event/spinning-3-2/2026-04-30/
LOCATION:Tornacsarnok\, Egyetem utca 10.\, Veszprém\, Veszprém\, 8200\, Hungary
CATEGORIES:Nyilvános sportkínálat
ATTACH;FMTTYPE=image/jpeg:https://sport.uni-pannon.hu/wp-content/uploads/2026/02/spinning.jpg
END:VEVENT
END:VCALENDAR