BEGIN:VCALENDAR
VERSION:2.0
PRODID:-//Sport Éve 2026 - ECPv6.15.20//NONSGML v1.0//EN
CALSCALE:GREGORIAN
METHOD:PUBLISH
X-ORIGINAL-URL:https://sport.uni-pannon.hu
X-WR-CALDESC:Események Sport Éve 2026
REFRESH-INTERVAL;VALUE=DURATION:PT1H
X-Robots-Tag:noindex
X-PUBLISHED-TTL:PT1H
BEGIN:VTIMEZONE
TZID:Europe/Budapest
BEGIN:DAYLIGHT
TZOFFSETFROM:+0100
TZOFFSETTO:+0200
TZNAME:CEST
DTSTART:20250330T010000
END:DAYLIGHT
BEGIN:STANDARD
TZOFFSETFROM:+0200
TZOFFSETTO:+0100
TZNAME:CET
DTSTART:20251026T010000
END:STANDARD
BEGIN:DAYLIGHT
TZOFFSETFROM:+0100
TZOFFSETTO:+0200
TZNAME:CEST
DTSTART:20260329T010000
END:DAYLIGHT
BEGIN:STANDARD
TZOFFSETFROM:+0200
TZOFFSETTO:+0100
TZNAME:CET
DTSTART:20261025T010000
END:STANDARD
BEGIN:DAYLIGHT
TZOFFSETFROM:+0100
TZOFFSETTO:+0200
TZNAME:CEST
DTSTART:20270328T010000
END:DAYLIGHT
BEGIN:STANDARD
TZOFFSETFROM:+0200
TZOFFSETTO:+0100
TZNAME:CET
DTSTART:20271031T010000
END:STANDARD
END:VTIMEZONE
BEGIN:VEVENT
DTSTART;TZID=Europe/Budapest:20260421T190000
DTEND;TZID=Europe/Budapest:20260421T203000
DTSTAMP:20260422T160522
CREATED:20260217T074253Z
LAST-MODIFIED:20260312T134844Z
UID:10003825-1776798000-1776803400@sport.uni-pannon.hu
SUMMARY:Aikido
DESCRIPTION:Díjhoz kötött \n\nIdőpont: kedd\, csütörtök: 19:00-20:30\nhelyszín: VESC Küzdősport terem (VESC Küzdősport központ\, 8200 Veszprém\, Wartha Vince utca 3. (régi tornászgyakorló))\njelentkezés és további információ: Pál Szilárd +36 30 2270 715
URL:https://sport.uni-pannon.hu/event/aikido-2/2026-04-21/
LOCATION:VESC Küzdősport terem\, Wartha Vince utca 3.\, Veszprém\, Veszprém\, 8200\, Hungary
CATEGORIES:Nyilvános sportkínálat
ATTACH;FMTTYPE=image/jpeg:https://sport.uni-pannon.hu/wp-content/uploads/2026/02/aikido.jpg
END:VEVENT
BEGIN:VEVENT
DTSTART;TZID=Europe/Budapest:20260420T183000
DTEND;TZID=Europe/Budapest:20260420T200000
DTSTAMP:20260422T160522
CREATED:20260212T072851Z
LAST-MODIFIED:20260212T072851Z
UID:10001522-1776709800-1776715200@sport.uni-pannon.hu
SUMMARY:Ökölvívás
DESCRIPTION:Ár: 2.000Ft/fő/alkalom (diák- és alumni kedvezmény 30%)\, bérlet lehetőségekről további információ telefonon vagy e-mailen elérhető. \n\nHelyszín: Wartha Vince u. 3. VESC Küzdősport központ (régi tornászgyakorló)\nIdőpont: hétfő\, szerda\, péntek: 18:30-20:00\nTovábbi információ: Fontos Tamás\, tamasfontos@gmail.com
URL:https://sport.uni-pannon.hu/event/okolvivas/2026-04-20/
LOCATION:VESC Küzdősport terem\, Wartha Vince utca 3.\, Veszprém\, Veszprém\, 8200\, Hungary
CATEGORIES:Nyilvános sportkínálat
ATTACH;FMTTYPE=image/jpeg:https://sport.uni-pannon.hu/wp-content/uploads/2026/02/KBAL0164.jpg
END:VEVENT
BEGIN:VEVENT
DTSTART;TZID=Europe/Budapest:20260420T183000
DTEND;TZID=Europe/Budapest:20260420T200000
DTSTAMP:20260422T160522
CREATED:20260212T072207Z
LAST-MODIFIED:20260312T141258Z
UID:10000580-1776709800-1776715200@sport.uni-pannon.hu
SUMMARY:Grappling/ földharc
DESCRIPTION:Ár: 2.000Ft/fő/alkalom (diák- és alumni kedvezmény 30%)\, bérlet lehetőségekről további információ telefonon vagy e-mailen elérhető. \n\nHelyszín: Wartha Vince u. 3. VESC Küzdősport központ (régi tornászgyakorló)\nIdőpontok: hétfő\, szerda\, péntek: 18:30-20:00\nTovábbi információ: Fontos Tamás\, tamasfontos@gmail.com
URL:https://sport.uni-pannon.hu/event/grappling-foldharc/2026-04-20/
LOCATION:VESC Küzdősport terem\, Wartha Vince utca 3.\, Veszprém\, Veszprém\, 8200\, Hungary
CATEGORIES:Nyilvános sportkínálat
ATTACH;FMTTYPE=image/jpeg:https://sport.uni-pannon.hu/wp-content/uploads/2026/02/grappling-kickbox-okolvivas.jpeg
END:VEVENT
BEGIN:VEVENT
DTSTART;TZID=Europe/Budapest:20260420T171500
DTEND;TZID=Europe/Budapest:20260420T181500
DTSTAMP:20260422T160522
CREATED:20260212T072616Z
LAST-MODIFIED:20260227T112116Z
UID:10000737-1776705300-1776708900@sport.uni-pannon.hu
SUMMARY:Thai box/Kick-box
DESCRIPTION:Ár: 2.000Ft/fő/alkalom (diák- és alumni kedvezmény 30%)\, bérlet lehetőségekről további információ telefonon vagy e-mailen elérhető. \n\nHelyszín: Wartha Vince u. 3. VESC Küzdősport központ (régi tornászgyakorló)\nIdőpont: hétfő\, szerda\, péntek: 17:15-18:15\nTovábbi információ: Fontos Tamás\, tamasfontos@gmail.com
URL:https://sport.uni-pannon.hu/event/thai-box/2026-04-20/
LOCATION:VESC Küzdősport terem\, Wartha Vince utca 3.\, Veszprém\, Veszprém\, 8200\, Hungary
CATEGORIES:Nyilvános sportkínálat
ATTACH;FMTTYPE=image/jpeg:https://sport.uni-pannon.hu/wp-content/uploads/2026/02/Pesthy-Marton-PES_7142-20250716-scaled.jpg
END:VEVENT
BEGIN:VEVENT
DTSTART;TZID=Europe/Budapest:20260417T183000
DTEND;TZID=Europe/Budapest:20260417T200000
DTSTAMP:20260422T160522
CREATED:20260212T072851Z
LAST-MODIFIED:20260212T072851Z
UID:10001521-1776450600-1776456000@sport.uni-pannon.hu
SUMMARY:Ökölvívás
DESCRIPTION:Ár: 2.000Ft/fő/alkalom (diák- és alumni kedvezmény 30%)\, bérlet lehetőségekről további információ telefonon vagy e-mailen elérhető. \n\nHelyszín: Wartha Vince u. 3. VESC Küzdősport központ (régi tornászgyakorló)\nIdőpont: hétfő\, szerda\, péntek: 18:30-20:00\nTovábbi információ: Fontos Tamás\, tamasfontos@gmail.com
URL:https://sport.uni-pannon.hu/event/okolvivas/2026-04-17/
LOCATION:VESC Küzdősport terem\, Wartha Vince utca 3.\, Veszprém\, Veszprém\, 8200\, Hungary
CATEGORIES:Nyilvános sportkínálat
ATTACH;FMTTYPE=image/jpeg:https://sport.uni-pannon.hu/wp-content/uploads/2026/02/KBAL0164.jpg
END:VEVENT
BEGIN:VEVENT
DTSTART;TZID=Europe/Budapest:20260417T183000
DTEND;TZID=Europe/Budapest:20260417T200000
DTSTAMP:20260422T160522
CREATED:20260212T072207Z
LAST-MODIFIED:20260312T141258Z
UID:10000579-1776450600-1776456000@sport.uni-pannon.hu
SUMMARY:Grappling/ földharc
DESCRIPTION:Ár: 2.000Ft/fő/alkalom (diák- és alumni kedvezmény 30%)\, bérlet lehetőségekről további információ telefonon vagy e-mailen elérhető. \n\nHelyszín: Wartha Vince u. 3. VESC Küzdősport központ (régi tornászgyakorló)\nIdőpontok: hétfő\, szerda\, péntek: 18:30-20:00\nTovábbi információ: Fontos Tamás\, tamasfontos@gmail.com
URL:https://sport.uni-pannon.hu/event/grappling-foldharc/2026-04-17/
LOCATION:VESC Küzdősport terem\, Wartha Vince utca 3.\, Veszprém\, Veszprém\, 8200\, Hungary
CATEGORIES:Nyilvános sportkínálat
ATTACH;FMTTYPE=image/jpeg:https://sport.uni-pannon.hu/wp-content/uploads/2026/02/grappling-kickbox-okolvivas.jpeg
END:VEVENT
BEGIN:VEVENT
DTSTART;TZID=Europe/Budapest:20260417T171500
DTEND;TZID=Europe/Budapest:20260417T181500
DTSTAMP:20260422T160522
CREATED:20260212T072616Z
LAST-MODIFIED:20260227T112116Z
UID:10000736-1776446100-1776449700@sport.uni-pannon.hu
SUMMARY:Thai box/Kick-box
DESCRIPTION:Ár: 2.000Ft/fő/alkalom (diák- és alumni kedvezmény 30%)\, bérlet lehetőségekről további információ telefonon vagy e-mailen elérhető. \n\nHelyszín: Wartha Vince u. 3. VESC Küzdősport központ (régi tornászgyakorló)\nIdőpont: hétfő\, szerda\, péntek: 17:15-18:15\nTovábbi információ: Fontos Tamás\, tamasfontos@gmail.com
URL:https://sport.uni-pannon.hu/event/thai-box/2026-04-17/
LOCATION:VESC Küzdősport terem\, Wartha Vince utca 3.\, Veszprém\, Veszprém\, 8200\, Hungary
CATEGORIES:Nyilvános sportkínálat
ATTACH;FMTTYPE=image/jpeg:https://sport.uni-pannon.hu/wp-content/uploads/2026/02/Pesthy-Marton-PES_7142-20250716-scaled.jpg
END:VEVENT
BEGIN:VEVENT
DTSTART;TZID=Europe/Budapest:20260416T190000
DTEND;TZID=Europe/Budapest:20260416T203000
DTSTAMP:20260422T160522
CREATED:20260217T074253Z
LAST-MODIFIED:20260312T134844Z
UID:10000347-1776366000-1776371400@sport.uni-pannon.hu
SUMMARY:Aikido
DESCRIPTION:Díjhoz kötött \n\nIdőpont: kedd\, csütörtök: 19:00-20:30\nhelyszín: VESC Küzdősport terem (VESC Küzdősport központ\, 8200 Veszprém\, Wartha Vince utca 3. (régi tornászgyakorló))\njelentkezés és további információ: Pál Szilárd +36 30 2270 715
URL:https://sport.uni-pannon.hu/event/aikido-2/2026-04-16/
LOCATION:VESC Küzdősport terem\, Wartha Vince utca 3.\, Veszprém\, Veszprém\, 8200\, Hungary
CATEGORIES:Nyilvános sportkínálat
ATTACH;FMTTYPE=image/jpeg:https://sport.uni-pannon.hu/wp-content/uploads/2026/02/aikido.jpg
END:VEVENT
BEGIN:VEVENT
DTSTART;TZID=Europe/Budapest:20260416T190000
DTEND;TZID=Europe/Budapest:20260416T203000
DTSTAMP:20260422T160522
CREATED:20260211T135955Z
LAST-MODIFIED:20260312T135018Z
UID:10003990-1776366000-1776371400@sport.uni-pannon.hu
SUMMARY:Aikido
DESCRIPTION:Díjhoz kötött \n\nIdőpont: kedd\, csütörtök: 19:00-20:30\nhelyszín: VESC Küzdősport terem (VESC Küzdősport központ\, 8200 Veszprém\, Wartha Vince utca 3. (régi tornászgyakorló))\njelentkezés és további információ: Pál Szilárd +36 30 2270 715
URL:https://sport.uni-pannon.hu/event/aikido/2026-04-16/
LOCATION:VESC Küzdősport terem\, Wartha Vince utca 3.\, Veszprém\, Veszprém\, 8200\, Hungary
CATEGORIES:Nyilvános sportkínálat
ATTACH;FMTTYPE=image/jpeg:https://sport.uni-pannon.hu/wp-content/uploads/2026/02/aikido-1.jpg
END:VEVENT
BEGIN:VEVENT
DTSTART;TZID=Europe/Budapest:20260415T183000
DTEND;TZID=Europe/Budapest:20260415T200000
DTSTAMP:20260422T160522
CREATED:20260212T072851Z
LAST-MODIFIED:20260212T072851Z
UID:10001520-1776277800-1776283200@sport.uni-pannon.hu
SUMMARY:Ökölvívás
DESCRIPTION:Ár: 2.000Ft/fő/alkalom (diák- és alumni kedvezmény 30%)\, bérlet lehetőségekről további információ telefonon vagy e-mailen elérhető. \n\nHelyszín: Wartha Vince u. 3. VESC Küzdősport központ (régi tornászgyakorló)\nIdőpont: hétfő\, szerda\, péntek: 18:30-20:00\nTovábbi információ: Fontos Tamás\, tamasfontos@gmail.com
URL:https://sport.uni-pannon.hu/event/okolvivas/2026-04-15/
LOCATION:VESC Küzdősport terem\, Wartha Vince utca 3.\, Veszprém\, Veszprém\, 8200\, Hungary
CATEGORIES:Nyilvános sportkínálat
ATTACH;FMTTYPE=image/jpeg:https://sport.uni-pannon.hu/wp-content/uploads/2026/02/KBAL0164.jpg
END:VEVENT
BEGIN:VEVENT
DTSTART;TZID=Europe/Budapest:20260415T183000
DTEND;TZID=Europe/Budapest:20260415T200000
DTSTAMP:20260422T160522
CREATED:20260212T072207Z
LAST-MODIFIED:20260312T141258Z
UID:10000578-1776277800-1776283200@sport.uni-pannon.hu
SUMMARY:Grappling/ földharc
DESCRIPTION:Ár: 2.000Ft/fő/alkalom (diák- és alumni kedvezmény 30%)\, bérlet lehetőségekről további információ telefonon vagy e-mailen elérhető. \n\nHelyszín: Wartha Vince u. 3. VESC Küzdősport központ (régi tornászgyakorló)\nIdőpontok: hétfő\, szerda\, péntek: 18:30-20:00\nTovábbi információ: Fontos Tamás\, tamasfontos@gmail.com
URL:https://sport.uni-pannon.hu/event/grappling-foldharc/2026-04-15/
LOCATION:VESC Küzdősport terem\, Wartha Vince utca 3.\, Veszprém\, Veszprém\, 8200\, Hungary
CATEGORIES:Nyilvános sportkínálat
ATTACH;FMTTYPE=image/jpeg:https://sport.uni-pannon.hu/wp-content/uploads/2026/02/grappling-kickbox-okolvivas.jpeg
END:VEVENT
BEGIN:VEVENT
DTSTART;TZID=Europe/Budapest:20260415T171500
DTEND;TZID=Europe/Budapest:20260415T181500
DTSTAMP:20260422T160522
CREATED:20260212T072616Z
LAST-MODIFIED:20260227T112116Z
UID:10000735-1776273300-1776276900@sport.uni-pannon.hu
SUMMARY:Thai box/Kick-box
DESCRIPTION:Ár: 2.000Ft/fő/alkalom (diák- és alumni kedvezmény 30%)\, bérlet lehetőségekről további információ telefonon vagy e-mailen elérhető. \n\nHelyszín: Wartha Vince u. 3. VESC Küzdősport központ (régi tornászgyakorló)\nIdőpont: hétfő\, szerda\, péntek: 17:15-18:15\nTovábbi információ: Fontos Tamás\, tamasfontos@gmail.com
URL:https://sport.uni-pannon.hu/event/thai-box/2026-04-15/
LOCATION:VESC Küzdősport terem\, Wartha Vince utca 3.\, Veszprém\, Veszprém\, 8200\, Hungary
CATEGORIES:Nyilvános sportkínálat
ATTACH;FMTTYPE=image/jpeg:https://sport.uni-pannon.hu/wp-content/uploads/2026/02/Pesthy-Marton-PES_7142-20250716-scaled.jpg
END:VEVENT
BEGIN:VEVENT
DTSTART;TZID=Europe/Budapest:20260414T190000
DTEND;TZID=Europe/Budapest:20260414T203000
DTSTAMP:20260422T160522
CREATED:20260217T074253Z
LAST-MODIFIED:20260312T134844Z
UID:10003824-1776193200-1776198600@sport.uni-pannon.hu
SUMMARY:Aikido
DESCRIPTION:Díjhoz kötött \n\nIdőpont: kedd\, csütörtök: 19:00-20:30\nhelyszín: VESC Küzdősport terem (VESC Küzdősport központ\, 8200 Veszprém\, Wartha Vince utca 3. (régi tornászgyakorló))\njelentkezés és további információ: Pál Szilárd +36 30 2270 715
URL:https://sport.uni-pannon.hu/event/aikido-2/2026-04-14/
LOCATION:VESC Küzdősport terem\, Wartha Vince utca 3.\, Veszprém\, Veszprém\, 8200\, Hungary
CATEGORIES:Nyilvános sportkínálat
ATTACH;FMTTYPE=image/jpeg:https://sport.uni-pannon.hu/wp-content/uploads/2026/02/aikido.jpg
END:VEVENT
BEGIN:VEVENT
DTSTART;TZID=Europe/Budapest:20260413T183000
DTEND;TZID=Europe/Budapest:20260413T200000
DTSTAMP:20260422T160522
CREATED:20260212T072851Z
LAST-MODIFIED:20260212T072851Z
UID:10001519-1776105000-1776110400@sport.uni-pannon.hu
SUMMARY:Ökölvívás
DESCRIPTION:Ár: 2.000Ft/fő/alkalom (diák- és alumni kedvezmény 30%)\, bérlet lehetőségekről további információ telefonon vagy e-mailen elérhető. \n\nHelyszín: Wartha Vince u. 3. VESC Küzdősport központ (régi tornászgyakorló)\nIdőpont: hétfő\, szerda\, péntek: 18:30-20:00\nTovábbi információ: Fontos Tamás\, tamasfontos@gmail.com
URL:https://sport.uni-pannon.hu/event/okolvivas/2026-04-13/
LOCATION:VESC Küzdősport terem\, Wartha Vince utca 3.\, Veszprém\, Veszprém\, 8200\, Hungary
CATEGORIES:Nyilvános sportkínálat
ATTACH;FMTTYPE=image/jpeg:https://sport.uni-pannon.hu/wp-content/uploads/2026/02/KBAL0164.jpg
END:VEVENT
BEGIN:VEVENT
DTSTART;TZID=Europe/Budapest:20260413T183000
DTEND;TZID=Europe/Budapest:20260413T200000
DTSTAMP:20260422T160522
CREATED:20260212T072207Z
LAST-MODIFIED:20260312T141258Z
UID:10000577-1776105000-1776110400@sport.uni-pannon.hu
SUMMARY:Grappling/ földharc
DESCRIPTION:Ár: 2.000Ft/fő/alkalom (diák- és alumni kedvezmény 30%)\, bérlet lehetőségekről további információ telefonon vagy e-mailen elérhető. \n\nHelyszín: Wartha Vince u. 3. VESC Küzdősport központ (régi tornászgyakorló)\nIdőpontok: hétfő\, szerda\, péntek: 18:30-20:00\nTovábbi információ: Fontos Tamás\, tamasfontos@gmail.com
URL:https://sport.uni-pannon.hu/event/grappling-foldharc/2026-04-13/
LOCATION:VESC Küzdősport terem\, Wartha Vince utca 3.\, Veszprém\, Veszprém\, 8200\, Hungary
CATEGORIES:Nyilvános sportkínálat
ATTACH;FMTTYPE=image/jpeg:https://sport.uni-pannon.hu/wp-content/uploads/2026/02/grappling-kickbox-okolvivas.jpeg
END:VEVENT
BEGIN:VEVENT
DTSTART;TZID=Europe/Budapest:20260413T171500
DTEND;TZID=Europe/Budapest:20260413T181500
DTSTAMP:20260422T160522
CREATED:20260212T072616Z
LAST-MODIFIED:20260227T112116Z
UID:10000734-1776100500-1776104100@sport.uni-pannon.hu
SUMMARY:Thai box/Kick-box
DESCRIPTION:Ár: 2.000Ft/fő/alkalom (diák- és alumni kedvezmény 30%)\, bérlet lehetőségekről további információ telefonon vagy e-mailen elérhető. \n\nHelyszín: Wartha Vince u. 3. VESC Küzdősport központ (régi tornászgyakorló)\nIdőpont: hétfő\, szerda\, péntek: 17:15-18:15\nTovábbi információ: Fontos Tamás\, tamasfontos@gmail.com
URL:https://sport.uni-pannon.hu/event/thai-box/2026-04-13/
LOCATION:VESC Küzdősport terem\, Wartha Vince utca 3.\, Veszprém\, Veszprém\, 8200\, Hungary
CATEGORIES:Nyilvános sportkínálat
ATTACH;FMTTYPE=image/jpeg:https://sport.uni-pannon.hu/wp-content/uploads/2026/02/Pesthy-Marton-PES_7142-20250716-scaled.jpg
END:VEVENT
BEGIN:VEVENT
DTSTART;TZID=Europe/Budapest:20260410T183000
DTEND;TZID=Europe/Budapest:20260410T200000
DTSTAMP:20260422T160522
CREATED:20260212T072851Z
LAST-MODIFIED:20260212T072851Z
UID:10001518-1775845800-1775851200@sport.uni-pannon.hu
SUMMARY:Ökölvívás
DESCRIPTION:Ár: 2.000Ft/fő/alkalom (diák- és alumni kedvezmény 30%)\, bérlet lehetőségekről további információ telefonon vagy e-mailen elérhető. \n\nHelyszín: Wartha Vince u. 3. VESC Küzdősport központ (régi tornászgyakorló)\nIdőpont: hétfő\, szerda\, péntek: 18:30-20:00\nTovábbi információ: Fontos Tamás\, tamasfontos@gmail.com
URL:https://sport.uni-pannon.hu/event/okolvivas/2026-04-10/
LOCATION:VESC Küzdősport terem\, Wartha Vince utca 3.\, Veszprém\, Veszprém\, 8200\, Hungary
CATEGORIES:Nyilvános sportkínálat
ATTACH;FMTTYPE=image/jpeg:https://sport.uni-pannon.hu/wp-content/uploads/2026/02/KBAL0164.jpg
END:VEVENT
BEGIN:VEVENT
DTSTART;TZID=Europe/Budapest:20260410T183000
DTEND;TZID=Europe/Budapest:20260410T200000
DTSTAMP:20260422T160522
CREATED:20260212T072207Z
LAST-MODIFIED:20260312T141258Z
UID:10000576-1775845800-1775851200@sport.uni-pannon.hu
SUMMARY:Grappling/ földharc
DESCRIPTION:Ár: 2.000Ft/fő/alkalom (diák- és alumni kedvezmény 30%)\, bérlet lehetőségekről további információ telefonon vagy e-mailen elérhető. \n\nHelyszín: Wartha Vince u. 3. VESC Küzdősport központ (régi tornászgyakorló)\nIdőpontok: hétfő\, szerda\, péntek: 18:30-20:00\nTovábbi információ: Fontos Tamás\, tamasfontos@gmail.com
URL:https://sport.uni-pannon.hu/event/grappling-foldharc/2026-04-10/
LOCATION:VESC Küzdősport terem\, Wartha Vince utca 3.\, Veszprém\, Veszprém\, 8200\, Hungary
CATEGORIES:Nyilvános sportkínálat
ATTACH;FMTTYPE=image/jpeg:https://sport.uni-pannon.hu/wp-content/uploads/2026/02/grappling-kickbox-okolvivas.jpeg
END:VEVENT
BEGIN:VEVENT
DTSTART;TZID=Europe/Budapest:20260410T171500
DTEND;TZID=Europe/Budapest:20260410T181500
DTSTAMP:20260422T160522
CREATED:20260212T072616Z
LAST-MODIFIED:20260227T112116Z
UID:10000733-1775841300-1775844900@sport.uni-pannon.hu
SUMMARY:Thai box/Kick-box
DESCRIPTION:Ár: 2.000Ft/fő/alkalom (diák- és alumni kedvezmény 30%)\, bérlet lehetőségekről további információ telefonon vagy e-mailen elérhető. \n\nHelyszín: Wartha Vince u. 3. VESC Küzdősport központ (régi tornászgyakorló)\nIdőpont: hétfő\, szerda\, péntek: 17:15-18:15\nTovábbi információ: Fontos Tamás\, tamasfontos@gmail.com
URL:https://sport.uni-pannon.hu/event/thai-box/2026-04-10/
LOCATION:VESC Küzdősport terem\, Wartha Vince utca 3.\, Veszprém\, Veszprém\, 8200\, Hungary
CATEGORIES:Nyilvános sportkínálat
ATTACH;FMTTYPE=image/jpeg:https://sport.uni-pannon.hu/wp-content/uploads/2026/02/Pesthy-Marton-PES_7142-20250716-scaled.jpg
END:VEVENT
BEGIN:VEVENT
DTSTART;TZID=Europe/Budapest:20260409T190000
DTEND;TZID=Europe/Budapest:20260409T203000
DTSTAMP:20260422T160522
CREATED:20260217T074253Z
LAST-MODIFIED:20260312T134844Z
UID:10000346-1775761200-1775766600@sport.uni-pannon.hu
SUMMARY:Aikido
DESCRIPTION:Díjhoz kötött \n\nIdőpont: kedd\, csütörtök: 19:00-20:30\nhelyszín: VESC Küzdősport terem (VESC Küzdősport központ\, 8200 Veszprém\, Wartha Vince utca 3. (régi tornászgyakorló))\njelentkezés és további információ: Pál Szilárd +36 30 2270 715
URL:https://sport.uni-pannon.hu/event/aikido-2/2026-04-09/
LOCATION:VESC Küzdősport terem\, Wartha Vince utca 3.\, Veszprém\, Veszprém\, 8200\, Hungary
CATEGORIES:Nyilvános sportkínálat
ATTACH;FMTTYPE=image/jpeg:https://sport.uni-pannon.hu/wp-content/uploads/2026/02/aikido.jpg
END:VEVENT
BEGIN:VEVENT
DTSTART;TZID=Europe/Budapest:20260409T190000
DTEND;TZID=Europe/Budapest:20260409T203000
DTSTAMP:20260422T160522
CREATED:20260211T135955Z
LAST-MODIFIED:20260312T135018Z
UID:10003989-1775761200-1775766600@sport.uni-pannon.hu
SUMMARY:Aikido
DESCRIPTION:Díjhoz kötött \n\nIdőpont: kedd\, csütörtök: 19:00-20:30\nhelyszín: VESC Küzdősport terem (VESC Küzdősport központ\, 8200 Veszprém\, Wartha Vince utca 3. (régi tornászgyakorló))\njelentkezés és további információ: Pál Szilárd +36 30 2270 715
URL:https://sport.uni-pannon.hu/event/aikido/2026-04-09/
LOCATION:VESC Küzdősport terem\, Wartha Vince utca 3.\, Veszprém\, Veszprém\, 8200\, Hungary
CATEGORIES:Nyilvános sportkínálat
ATTACH;FMTTYPE=image/jpeg:https://sport.uni-pannon.hu/wp-content/uploads/2026/02/aikido-1.jpg
END:VEVENT
BEGIN:VEVENT
DTSTART;TZID=Europe/Budapest:20260408T183000
DTEND;TZID=Europe/Budapest:20260408T200000
DTSTAMP:20260422T160522
CREATED:20260212T072851Z
LAST-MODIFIED:20260212T072851Z
UID:10001517-1775673000-1775678400@sport.uni-pannon.hu
SUMMARY:Ökölvívás
DESCRIPTION:Ár: 2.000Ft/fő/alkalom (diák- és alumni kedvezmény 30%)\, bérlet lehetőségekről további információ telefonon vagy e-mailen elérhető. \n\nHelyszín: Wartha Vince u. 3. VESC Küzdősport központ (régi tornászgyakorló)\nIdőpont: hétfő\, szerda\, péntek: 18:30-20:00\nTovábbi információ: Fontos Tamás\, tamasfontos@gmail.com
URL:https://sport.uni-pannon.hu/event/okolvivas/2026-04-08/
LOCATION:VESC Küzdősport terem\, Wartha Vince utca 3.\, Veszprém\, Veszprém\, 8200\, Hungary
CATEGORIES:Nyilvános sportkínálat
ATTACH;FMTTYPE=image/jpeg:https://sport.uni-pannon.hu/wp-content/uploads/2026/02/KBAL0164.jpg
END:VEVENT
BEGIN:VEVENT
DTSTART;TZID=Europe/Budapest:20260408T183000
DTEND;TZID=Europe/Budapest:20260408T200000
DTSTAMP:20260422T160522
CREATED:20260212T072207Z
LAST-MODIFIED:20260312T141258Z
UID:10000575-1775673000-1775678400@sport.uni-pannon.hu
SUMMARY:Grappling/ földharc
DESCRIPTION:Ár: 2.000Ft/fő/alkalom (diák- és alumni kedvezmény 30%)\, bérlet lehetőségekről további információ telefonon vagy e-mailen elérhető. \n\nHelyszín: Wartha Vince u. 3. VESC Küzdősport központ (régi tornászgyakorló)\nIdőpontok: hétfő\, szerda\, péntek: 18:30-20:00\nTovábbi információ: Fontos Tamás\, tamasfontos@gmail.com
URL:https://sport.uni-pannon.hu/event/grappling-foldharc/2026-04-08/
LOCATION:VESC Küzdősport terem\, Wartha Vince utca 3.\, Veszprém\, Veszprém\, 8200\, Hungary
CATEGORIES:Nyilvános sportkínálat
ATTACH;FMTTYPE=image/jpeg:https://sport.uni-pannon.hu/wp-content/uploads/2026/02/grappling-kickbox-okolvivas.jpeg
END:VEVENT
BEGIN:VEVENT
DTSTART;TZID=Europe/Budapest:20260408T171500
DTEND;TZID=Europe/Budapest:20260408T181500
DTSTAMP:20260422T160522
CREATED:20260212T072616Z
LAST-MODIFIED:20260227T112116Z
UID:10000732-1775668500-1775672100@sport.uni-pannon.hu
SUMMARY:Thai box/Kick-box
DESCRIPTION:Ár: 2.000Ft/fő/alkalom (diák- és alumni kedvezmény 30%)\, bérlet lehetőségekről további információ telefonon vagy e-mailen elérhető. \n\nHelyszín: Wartha Vince u. 3. VESC Küzdősport központ (régi tornászgyakorló)\nIdőpont: hétfő\, szerda\, péntek: 17:15-18:15\nTovábbi információ: Fontos Tamás\, tamasfontos@gmail.com
URL:https://sport.uni-pannon.hu/event/thai-box/2026-04-08/
LOCATION:VESC Küzdősport terem\, Wartha Vince utca 3.\, Veszprém\, Veszprém\, 8200\, Hungary
CATEGORIES:Nyilvános sportkínálat
ATTACH;FMTTYPE=image/jpeg:https://sport.uni-pannon.hu/wp-content/uploads/2026/02/Pesthy-Marton-PES_7142-20250716-scaled.jpg
END:VEVENT
BEGIN:VEVENT
DTSTART;TZID=Europe/Budapest:20260407T190000
DTEND;TZID=Europe/Budapest:20260407T203000
DTSTAMP:20260422T160522
CREATED:20260217T074253Z
LAST-MODIFIED:20260312T134844Z
UID:10003823-1775588400-1775593800@sport.uni-pannon.hu
SUMMARY:Aikido
DESCRIPTION:Díjhoz kötött \n\nIdőpont: kedd\, csütörtök: 19:00-20:30\nhelyszín: VESC Küzdősport terem (VESC Küzdősport központ\, 8200 Veszprém\, Wartha Vince utca 3. (régi tornászgyakorló))\njelentkezés és további információ: Pál Szilárd +36 30 2270 715
URL:https://sport.uni-pannon.hu/event/aikido-2/2026-04-07/
LOCATION:VESC Küzdősport terem\, Wartha Vince utca 3.\, Veszprém\, Veszprém\, 8200\, Hungary
CATEGORIES:Nyilvános sportkínálat
ATTACH;FMTTYPE=image/jpeg:https://sport.uni-pannon.hu/wp-content/uploads/2026/02/aikido.jpg
END:VEVENT
BEGIN:VEVENT
DTSTART;TZID=Europe/Budapest:20260406T183000
DTEND;TZID=Europe/Budapest:20260406T200000
DTSTAMP:20260422T160522
CREATED:20260212T072851Z
LAST-MODIFIED:20260212T072851Z
UID:10001516-1775500200-1775505600@sport.uni-pannon.hu
SUMMARY:Ökölvívás
DESCRIPTION:Ár: 2.000Ft/fő/alkalom (diák- és alumni kedvezmény 30%)\, bérlet lehetőségekről további információ telefonon vagy e-mailen elérhető. \n\nHelyszín: Wartha Vince u. 3. VESC Küzdősport központ (régi tornászgyakorló)\nIdőpont: hétfő\, szerda\, péntek: 18:30-20:00\nTovábbi információ: Fontos Tamás\, tamasfontos@gmail.com
URL:https://sport.uni-pannon.hu/event/okolvivas/2026-04-06/
LOCATION:VESC Küzdősport terem\, Wartha Vince utca 3.\, Veszprém\, Veszprém\, 8200\, Hungary
CATEGORIES:Nyilvános sportkínálat
ATTACH;FMTTYPE=image/jpeg:https://sport.uni-pannon.hu/wp-content/uploads/2026/02/KBAL0164.jpg
END:VEVENT
BEGIN:VEVENT
DTSTART;TZID=Europe/Budapest:20260406T183000
DTEND;TZID=Europe/Budapest:20260406T200000
DTSTAMP:20260422T160522
CREATED:20260212T072207Z
LAST-MODIFIED:20260312T141258Z
UID:10000574-1775500200-1775505600@sport.uni-pannon.hu
SUMMARY:Grappling/ földharc
DESCRIPTION:Ár: 2.000Ft/fő/alkalom (diák- és alumni kedvezmény 30%)\, bérlet lehetőségekről további információ telefonon vagy e-mailen elérhető. \n\nHelyszín: Wartha Vince u. 3. VESC Küzdősport központ (régi tornászgyakorló)\nIdőpontok: hétfő\, szerda\, péntek: 18:30-20:00\nTovábbi információ: Fontos Tamás\, tamasfontos@gmail.com
URL:https://sport.uni-pannon.hu/event/grappling-foldharc/2026-04-06/
LOCATION:VESC Küzdősport terem\, Wartha Vince utca 3.\, Veszprém\, Veszprém\, 8200\, Hungary
CATEGORIES:Nyilvános sportkínálat
ATTACH;FMTTYPE=image/jpeg:https://sport.uni-pannon.hu/wp-content/uploads/2026/02/grappling-kickbox-okolvivas.jpeg
END:VEVENT
BEGIN:VEVENT
DTSTART;TZID=Europe/Budapest:20260406T171500
DTEND;TZID=Europe/Budapest:20260406T181500
DTSTAMP:20260422T160522
CREATED:20260212T072616Z
LAST-MODIFIED:20260227T112116Z
UID:10000731-1775495700-1775499300@sport.uni-pannon.hu
SUMMARY:Thai box/Kick-box
DESCRIPTION:Ár: 2.000Ft/fő/alkalom (diák- és alumni kedvezmény 30%)\, bérlet lehetőségekről további információ telefonon vagy e-mailen elérhető. \n\nHelyszín: Wartha Vince u. 3. VESC Küzdősport központ (régi tornászgyakorló)\nIdőpont: hétfő\, szerda\, péntek: 17:15-18:15\nTovábbi információ: Fontos Tamás\, tamasfontos@gmail.com
URL:https://sport.uni-pannon.hu/event/thai-box/2026-04-06/
LOCATION:VESC Küzdősport terem\, Wartha Vince utca 3.\, Veszprém\, Veszprém\, 8200\, Hungary
CATEGORIES:Nyilvános sportkínálat
ATTACH;FMTTYPE=image/jpeg:https://sport.uni-pannon.hu/wp-content/uploads/2026/02/Pesthy-Marton-PES_7142-20250716-scaled.jpg
END:VEVENT
BEGIN:VEVENT
DTSTART;TZID=Europe/Budapest:20260403T183000
DTEND;TZID=Europe/Budapest:20260403T200000
DTSTAMP:20260422T160522
CREATED:20260212T072851Z
LAST-MODIFIED:20260212T072851Z
UID:10001515-1775241000-1775246400@sport.uni-pannon.hu
SUMMARY:Ökölvívás
DESCRIPTION:Ár: 2.000Ft/fő/alkalom (diák- és alumni kedvezmény 30%)\, bérlet lehetőségekről további információ telefonon vagy e-mailen elérhető. \n\nHelyszín: Wartha Vince u. 3. VESC Küzdősport központ (régi tornászgyakorló)\nIdőpont: hétfő\, szerda\, péntek: 18:30-20:00\nTovábbi információ: Fontos Tamás\, tamasfontos@gmail.com
URL:https://sport.uni-pannon.hu/event/okolvivas/2026-04-03/
LOCATION:VESC Küzdősport terem\, Wartha Vince utca 3.\, Veszprém\, Veszprém\, 8200\, Hungary
CATEGORIES:Nyilvános sportkínálat
ATTACH;FMTTYPE=image/jpeg:https://sport.uni-pannon.hu/wp-content/uploads/2026/02/KBAL0164.jpg
END:VEVENT
BEGIN:VEVENT
DTSTART;TZID=Europe/Budapest:20260403T183000
DTEND;TZID=Europe/Budapest:20260403T200000
DTSTAMP:20260422T160522
CREATED:20260212T072207Z
LAST-MODIFIED:20260312T141258Z
UID:10000573-1775241000-1775246400@sport.uni-pannon.hu
SUMMARY:Grappling/ földharc
DESCRIPTION:Ár: 2.000Ft/fő/alkalom (diák- és alumni kedvezmény 30%)\, bérlet lehetőségekről további információ telefonon vagy e-mailen elérhető. \n\nHelyszín: Wartha Vince u. 3. VESC Küzdősport központ (régi tornászgyakorló)\nIdőpontok: hétfő\, szerda\, péntek: 18:30-20:00\nTovábbi információ: Fontos Tamás\, tamasfontos@gmail.com
URL:https://sport.uni-pannon.hu/event/grappling-foldharc/2026-04-03/
LOCATION:VESC Küzdősport terem\, Wartha Vince utca 3.\, Veszprém\, Veszprém\, 8200\, Hungary
CATEGORIES:Nyilvános sportkínálat
ATTACH;FMTTYPE=image/jpeg:https://sport.uni-pannon.hu/wp-content/uploads/2026/02/grappling-kickbox-okolvivas.jpeg
END:VEVENT
END:VCALENDAR