BEGIN:VCALENDAR
VERSION:2.0
PRODID:-//Sport Éve 2026 - ECPv6.15.20//NONSGML v1.0//EN
CALSCALE:GREGORIAN
METHOD:PUBLISH
X-ORIGINAL-URL:https://sport.uni-pannon.hu
X-WR-CALDESC:Események Sport Éve 2026
REFRESH-INTERVAL;VALUE=DURATION:PT1H
X-Robots-Tag:noindex
X-PUBLISHED-TTL:PT1H
BEGIN:VTIMEZONE
TZID:Europe/Budapest
BEGIN:DAYLIGHT
TZOFFSETFROM:+0100
TZOFFSETTO:+0200
TZNAME:CEST
DTSTART:20250330T010000
END:DAYLIGHT
BEGIN:STANDARD
TZOFFSETFROM:+0200
TZOFFSETTO:+0100
TZNAME:CET
DTSTART:20251026T010000
END:STANDARD
BEGIN:DAYLIGHT
TZOFFSETFROM:+0100
TZOFFSETTO:+0200
TZNAME:CEST
DTSTART:20260329T010000
END:DAYLIGHT
BEGIN:STANDARD
TZOFFSETFROM:+0200
TZOFFSETTO:+0100
TZNAME:CET
DTSTART:20261025T010000
END:STANDARD
BEGIN:DAYLIGHT
TZOFFSETFROM:+0100
TZOFFSETTO:+0200
TZNAME:CEST
DTSTART:20270328T010000
END:DAYLIGHT
BEGIN:STANDARD
TZOFFSETFROM:+0200
TZOFFSETTO:+0100
TZNAME:CET
DTSTART:20271031T010000
END:STANDARD
END:VTIMEZONE
BEGIN:VEVENT
DTSTART;TZID=Europe/Budapest:20260220T183000
DTEND;TZID=Europe/Budapest:20260220T200000
DTSTAMP:20260425T154102
CREATED:20260212T072851Z
LAST-MODIFIED:20260212T072851Z
UID:10001497-1771612200-1771617600@sport.uni-pannon.hu
SUMMARY:Ökölvívás
DESCRIPTION:Ár: 2.000Ft/fő/alkalom (diák- és alumni kedvezmény 30%)\, bérlet lehetőségekről további információ telefonon vagy e-mailen elérhető. \n\nHelyszín: Wartha Vince u. 3. VESC Küzdősport központ (régi tornászgyakorló)\nIdőpont: hétfő\, szerda\, péntek: 18:30-20:00\nTovábbi információ: Fontos Tamás\, tamasfontos@gmail.com
URL:https://sport.uni-pannon.hu/event/okolvivas/2026-02-20/
LOCATION:VESC Küzdősport terem\, Wartha Vince utca 3.\, Veszprém\, Veszprém\, 8200\, Hungary
CATEGORIES:Nyilvános sportkínálat
ATTACH;FMTTYPE=image/jpeg:https://sport.uni-pannon.hu/wp-content/uploads/2026/02/KBAL0164.jpg
END:VEVENT
BEGIN:VEVENT
DTSTART;TZID=Europe/Budapest:20260220T183000
DTEND;TZID=Europe/Budapest:20260220T200000
DTSTAMP:20260425T154102
CREATED:20260212T072207Z
LAST-MODIFIED:20260312T141258Z
UID:10000555-1771612200-1771617600@sport.uni-pannon.hu
SUMMARY:Grappling/ földharc
DESCRIPTION:Ár: 2.000Ft/fő/alkalom (diák- és alumni kedvezmény 30%)\, bérlet lehetőségekről további információ telefonon vagy e-mailen elérhető. \n\nHelyszín: Wartha Vince u. 3. VESC Küzdősport központ (régi tornászgyakorló)\nIdőpontok: hétfő\, szerda\, péntek: 18:30-20:00\nTovábbi információ: Fontos Tamás\, tamasfontos@gmail.com
URL:https://sport.uni-pannon.hu/event/grappling-foldharc/2026-02-20/
LOCATION:VESC Küzdősport terem\, Wartha Vince utca 3.\, Veszprém\, Veszprém\, 8200\, Hungary
CATEGORIES:Nyilvános sportkínálat
ATTACH;FMTTYPE=image/jpeg:https://sport.uni-pannon.hu/wp-content/uploads/2026/02/grappling-kickbox-okolvivas.jpeg
END:VEVENT
BEGIN:VEVENT
DTSTART;TZID=Europe/Budapest:20260220T171500
DTEND;TZID=Europe/Budapest:20260220T181500
DTSTAMP:20260425T154102
CREATED:20260212T072616Z
LAST-MODIFIED:20260227T112116Z
UID:10000712-1771607700-1771611300@sport.uni-pannon.hu
SUMMARY:Thai box/Kick-box
DESCRIPTION:Ár: 2.000Ft/fő/alkalom (diák- és alumni kedvezmény 30%)\, bérlet lehetőségekről további információ telefonon vagy e-mailen elérhető. \n\nHelyszín: Wartha Vince u. 3. VESC Küzdősport központ (régi tornászgyakorló)\nIdőpont: hétfő\, szerda\, péntek: 17:15-18:15\nTovábbi információ: Fontos Tamás\, tamasfontos@gmail.com
URL:https://sport.uni-pannon.hu/event/thai-box/2026-02-20/
LOCATION:VESC Küzdősport terem\, Wartha Vince utca 3.\, Veszprém\, Veszprém\, 8200\, Hungary
CATEGORIES:Nyilvános sportkínálat
ATTACH;FMTTYPE=image/jpeg:https://sport.uni-pannon.hu/wp-content/uploads/2026/02/Pesthy-Marton-PES_7142-20250716-scaled.jpg
END:VEVENT
BEGIN:VEVENT
DTSTART;TZID=Europe/Budapest:20260219T190000
DTEND;TZID=Europe/Budapest:20260219T203000
DTSTAMP:20260425T154102
CREATED:20260217T074253Z
LAST-MODIFIED:20260312T134844Z
UID:10000339-1771527600-1771533000@sport.uni-pannon.hu
SUMMARY:Aikido
DESCRIPTION:Díjhoz kötött \n\nIdőpont: kedd\, csütörtök: 19:00-20:30\nhelyszín: VESC Küzdősport terem (VESC Küzdősport központ\, 8200 Veszprém\, Wartha Vince utca 3. (régi tornászgyakorló))\njelentkezés és további információ: Pál Szilárd +36 30 2270 715
URL:https://sport.uni-pannon.hu/event/aikido-2/2026-02-19/
LOCATION:VESC Küzdősport terem\, Wartha Vince utca 3.\, Veszprém\, Veszprém\, 8200\, Hungary
CATEGORIES:Nyilvános sportkínálat
ATTACH;FMTTYPE=image/jpeg:https://sport.uni-pannon.hu/wp-content/uploads/2026/02/aikido.jpg
END:VEVENT
BEGIN:VEVENT
DTSTART;TZID=Europe/Budapest:20260219T190000
DTEND;TZID=Europe/Budapest:20260219T203000
DTSTAMP:20260425T154102
CREATED:20260211T135955Z
LAST-MODIFIED:20260312T135018Z
UID:10003982-1771527600-1771533000@sport.uni-pannon.hu
SUMMARY:Aikido
DESCRIPTION:Díjhoz kötött \n\nIdőpont: kedd\, csütörtök: 19:00-20:30\nhelyszín: VESC Küzdősport terem (VESC Küzdősport központ\, 8200 Veszprém\, Wartha Vince utca 3. (régi tornászgyakorló))\njelentkezés és további információ: Pál Szilárd +36 30 2270 715
URL:https://sport.uni-pannon.hu/event/aikido/2026-02-19/
LOCATION:VESC Küzdősport terem\, Wartha Vince utca 3.\, Veszprém\, Veszprém\, 8200\, Hungary
CATEGORIES:Nyilvános sportkínálat
ATTACH;FMTTYPE=image/jpeg:https://sport.uni-pannon.hu/wp-content/uploads/2026/02/aikido-1.jpg
END:VEVENT
BEGIN:VEVENT
DTSTART;TZID=Europe/Budapest:20260218T183000
DTEND;TZID=Europe/Budapest:20260218T200000
DTSTAMP:20260425T154102
CREATED:20260212T072851Z
LAST-MODIFIED:20260212T072851Z
UID:10001496-1771439400-1771444800@sport.uni-pannon.hu
SUMMARY:Ökölvívás
DESCRIPTION:Ár: 2.000Ft/fő/alkalom (diák- és alumni kedvezmény 30%)\, bérlet lehetőségekről további információ telefonon vagy e-mailen elérhető. \n\nHelyszín: Wartha Vince u. 3. VESC Küzdősport központ (régi tornászgyakorló)\nIdőpont: hétfő\, szerda\, péntek: 18:30-20:00\nTovábbi információ: Fontos Tamás\, tamasfontos@gmail.com
URL:https://sport.uni-pannon.hu/event/okolvivas/2026-02-18/
LOCATION:VESC Küzdősport terem\, Wartha Vince utca 3.\, Veszprém\, Veszprém\, 8200\, Hungary
CATEGORIES:Nyilvános sportkínálat
ATTACH;FMTTYPE=image/jpeg:https://sport.uni-pannon.hu/wp-content/uploads/2026/02/KBAL0164.jpg
END:VEVENT
BEGIN:VEVENT
DTSTART;TZID=Europe/Budapest:20260218T183000
DTEND;TZID=Europe/Budapest:20260218T200000
DTSTAMP:20260425T154102
CREATED:20260212T072207Z
LAST-MODIFIED:20260312T141258Z
UID:10000554-1771439400-1771444800@sport.uni-pannon.hu
SUMMARY:Grappling/ földharc
DESCRIPTION:Ár: 2.000Ft/fő/alkalom (diák- és alumni kedvezmény 30%)\, bérlet lehetőségekről további információ telefonon vagy e-mailen elérhető. \n\nHelyszín: Wartha Vince u. 3. VESC Küzdősport központ (régi tornászgyakorló)\nIdőpontok: hétfő\, szerda\, péntek: 18:30-20:00\nTovábbi információ: Fontos Tamás\, tamasfontos@gmail.com
URL:https://sport.uni-pannon.hu/event/grappling-foldharc/2026-02-18/
LOCATION:VESC Küzdősport terem\, Wartha Vince utca 3.\, Veszprém\, Veszprém\, 8200\, Hungary
CATEGORIES:Nyilvános sportkínálat
ATTACH;FMTTYPE=image/jpeg:https://sport.uni-pannon.hu/wp-content/uploads/2026/02/grappling-kickbox-okolvivas.jpeg
END:VEVENT
BEGIN:VEVENT
DTSTART;TZID=Europe/Budapest:20260218T171500
DTEND;TZID=Europe/Budapest:20260218T181500
DTSTAMP:20260425T154102
CREATED:20260212T072616Z
LAST-MODIFIED:20260227T112116Z
UID:10000711-1771434900-1771438500@sport.uni-pannon.hu
SUMMARY:Thai box/Kick-box
DESCRIPTION:Ár: 2.000Ft/fő/alkalom (diák- és alumni kedvezmény 30%)\, bérlet lehetőségekről további információ telefonon vagy e-mailen elérhető. \n\nHelyszín: Wartha Vince u. 3. VESC Küzdősport központ (régi tornászgyakorló)\nIdőpont: hétfő\, szerda\, péntek: 17:15-18:15\nTovábbi információ: Fontos Tamás\, tamasfontos@gmail.com
URL:https://sport.uni-pannon.hu/event/thai-box/2026-02-18/
LOCATION:VESC Küzdősport terem\, Wartha Vince utca 3.\, Veszprém\, Veszprém\, 8200\, Hungary
CATEGORIES:Nyilvános sportkínálat
ATTACH;FMTTYPE=image/jpeg:https://sport.uni-pannon.hu/wp-content/uploads/2026/02/Pesthy-Marton-PES_7142-20250716-scaled.jpg
END:VEVENT
BEGIN:VEVENT
DTSTART;TZID=Europe/Budapest:20260217T190000
DTEND;TZID=Europe/Budapest:20260217T203000
DTSTAMP:20260425T154102
CREATED:20260217T074253Z
LAST-MODIFIED:20260312T134844Z
UID:10003830-1771354800-1771360200@sport.uni-pannon.hu
SUMMARY:Aikido
DESCRIPTION:Díjhoz kötött \n\nIdőpont: kedd\, csütörtök: 19:00-20:30\nhelyszín: VESC Küzdősport terem (VESC Küzdősport központ\, 8200 Veszprém\, Wartha Vince utca 3. (régi tornászgyakorló))\njelentkezés és további információ: Pál Szilárd +36 30 2270 715
URL:https://sport.uni-pannon.hu/event/aikido-2/2026-02-17/
LOCATION:VESC Küzdősport terem\, Wartha Vince utca 3.\, Veszprém\, Veszprém\, 8200\, Hungary
CATEGORIES:Nyilvános sportkínálat
ATTACH;FMTTYPE=image/jpeg:https://sport.uni-pannon.hu/wp-content/uploads/2026/02/aikido.jpg
END:VEVENT
BEGIN:VEVENT
DTSTART;TZID=Europe/Budapest:20260216T183000
DTEND;TZID=Europe/Budapest:20260216T200000
DTSTAMP:20260425T154102
CREATED:20260212T072851Z
LAST-MODIFIED:20260212T072851Z
UID:10001495-1771266600-1771272000@sport.uni-pannon.hu
SUMMARY:Ökölvívás
DESCRIPTION:Ár: 2.000Ft/fő/alkalom (diák- és alumni kedvezmény 30%)\, bérlet lehetőségekről további információ telefonon vagy e-mailen elérhető. \n\nHelyszín: Wartha Vince u. 3. VESC Küzdősport központ (régi tornászgyakorló)\nIdőpont: hétfő\, szerda\, péntek: 18:30-20:00\nTovábbi információ: Fontos Tamás\, tamasfontos@gmail.com
URL:https://sport.uni-pannon.hu/event/okolvivas/2026-02-16/
LOCATION:VESC Küzdősport terem\, Wartha Vince utca 3.\, Veszprém\, Veszprém\, 8200\, Hungary
CATEGORIES:Nyilvános sportkínálat
ATTACH;FMTTYPE=image/jpeg:https://sport.uni-pannon.hu/wp-content/uploads/2026/02/KBAL0164.jpg
END:VEVENT
BEGIN:VEVENT
DTSTART;TZID=Europe/Budapest:20260216T183000
DTEND;TZID=Europe/Budapest:20260216T200000
DTSTAMP:20260425T154102
CREATED:20260212T072207Z
LAST-MODIFIED:20260312T141258Z
UID:10000553-1771266600-1771272000@sport.uni-pannon.hu
SUMMARY:Grappling/ földharc
DESCRIPTION:Ár: 2.000Ft/fő/alkalom (diák- és alumni kedvezmény 30%)\, bérlet lehetőségekről további információ telefonon vagy e-mailen elérhető. \n\nHelyszín: Wartha Vince u. 3. VESC Küzdősport központ (régi tornászgyakorló)\nIdőpontok: hétfő\, szerda\, péntek: 18:30-20:00\nTovábbi információ: Fontos Tamás\, tamasfontos@gmail.com
URL:https://sport.uni-pannon.hu/event/grappling-foldharc/2026-02-16/
LOCATION:VESC Küzdősport terem\, Wartha Vince utca 3.\, Veszprém\, Veszprém\, 8200\, Hungary
CATEGORIES:Nyilvános sportkínálat
ATTACH;FMTTYPE=image/jpeg:https://sport.uni-pannon.hu/wp-content/uploads/2026/02/grappling-kickbox-okolvivas.jpeg
END:VEVENT
BEGIN:VEVENT
DTSTART;TZID=Europe/Budapest:20260216T171500
DTEND;TZID=Europe/Budapest:20260216T181500
DTSTAMP:20260425T154102
CREATED:20260212T072616Z
LAST-MODIFIED:20260227T112116Z
UID:10000710-1771262100-1771265700@sport.uni-pannon.hu
SUMMARY:Thai box/Kick-box
DESCRIPTION:Ár: 2.000Ft/fő/alkalom (diák- és alumni kedvezmény 30%)\, bérlet lehetőségekről további információ telefonon vagy e-mailen elérhető. \n\nHelyszín: Wartha Vince u. 3. VESC Küzdősport központ (régi tornászgyakorló)\nIdőpont: hétfő\, szerda\, péntek: 17:15-18:15\nTovábbi információ: Fontos Tamás\, tamasfontos@gmail.com
URL:https://sport.uni-pannon.hu/event/thai-box/2026-02-16/
LOCATION:VESC Küzdősport terem\, Wartha Vince utca 3.\, Veszprém\, Veszprém\, 8200\, Hungary
CATEGORIES:Nyilvános sportkínálat
ATTACH;FMTTYPE=image/jpeg:https://sport.uni-pannon.hu/wp-content/uploads/2026/02/Pesthy-Marton-PES_7142-20250716-scaled.jpg
END:VEVENT
BEGIN:VEVENT
DTSTART;TZID=Europe/Budapest:20260213T183000
DTEND;TZID=Europe/Budapest:20260213T200000
DTSTAMP:20260425T154102
CREATED:20260212T072851Z
LAST-MODIFIED:20260212T072851Z
UID:10001494-1771007400-1771012800@sport.uni-pannon.hu
SUMMARY:Ökölvívás
DESCRIPTION:Ár: 2.000Ft/fő/alkalom (diák- és alumni kedvezmény 30%)\, bérlet lehetőségekről további információ telefonon vagy e-mailen elérhető. \n\nHelyszín: Wartha Vince u. 3. VESC Küzdősport központ (régi tornászgyakorló)\nIdőpont: hétfő\, szerda\, péntek: 18:30-20:00\nTovábbi információ: Fontos Tamás\, tamasfontos@gmail.com
URL:https://sport.uni-pannon.hu/event/okolvivas/2026-02-13/
LOCATION:VESC Küzdősport terem\, Wartha Vince utca 3.\, Veszprém\, Veszprém\, 8200\, Hungary
CATEGORIES:Nyilvános sportkínálat
ATTACH;FMTTYPE=image/jpeg:https://sport.uni-pannon.hu/wp-content/uploads/2026/02/KBAL0164.jpg
END:VEVENT
BEGIN:VEVENT
DTSTART;TZID=Europe/Budapest:20260213T183000
DTEND;TZID=Europe/Budapest:20260213T200000
DTSTAMP:20260425T154102
CREATED:20260212T072207Z
LAST-MODIFIED:20260312T141258Z
UID:10000552-1771007400-1771012800@sport.uni-pannon.hu
SUMMARY:Grappling/ földharc
DESCRIPTION:Ár: 2.000Ft/fő/alkalom (diák- és alumni kedvezmény 30%)\, bérlet lehetőségekről további információ telefonon vagy e-mailen elérhető. \n\nHelyszín: Wartha Vince u. 3. VESC Küzdősport központ (régi tornászgyakorló)\nIdőpontok: hétfő\, szerda\, péntek: 18:30-20:00\nTovábbi információ: Fontos Tamás\, tamasfontos@gmail.com
URL:https://sport.uni-pannon.hu/event/grappling-foldharc/2026-02-13/
LOCATION:VESC Küzdősport terem\, Wartha Vince utca 3.\, Veszprém\, Veszprém\, 8200\, Hungary
CATEGORIES:Nyilvános sportkínálat
ATTACH;FMTTYPE=image/jpeg:https://sport.uni-pannon.hu/wp-content/uploads/2026/02/grappling-kickbox-okolvivas.jpeg
END:VEVENT
BEGIN:VEVENT
DTSTART;TZID=Europe/Budapest:20260213T171500
DTEND;TZID=Europe/Budapest:20260213T181500
DTSTAMP:20260425T154102
CREATED:20260212T072616Z
LAST-MODIFIED:20260227T112116Z
UID:10000709-1771002900-1771006500@sport.uni-pannon.hu
SUMMARY:Thai box/Kick-box
DESCRIPTION:Ár: 2.000Ft/fő/alkalom (diák- és alumni kedvezmény 30%)\, bérlet lehetőségekről további információ telefonon vagy e-mailen elérhető. \n\nHelyszín: Wartha Vince u. 3. VESC Küzdősport központ (régi tornászgyakorló)\nIdőpont: hétfő\, szerda\, péntek: 17:15-18:15\nTovábbi információ: Fontos Tamás\, tamasfontos@gmail.com
URL:https://sport.uni-pannon.hu/event/thai-box/2026-02-13/
LOCATION:VESC Küzdősport terem\, Wartha Vince utca 3.\, Veszprém\, Veszprém\, 8200\, Hungary
CATEGORIES:Nyilvános sportkínálat
ATTACH;FMTTYPE=image/jpeg:https://sport.uni-pannon.hu/wp-content/uploads/2026/02/Pesthy-Marton-PES_7142-20250716-scaled.jpg
END:VEVENT
BEGIN:VEVENT
DTSTART;TZID=Europe/Budapest:20260212T190000
DTEND;TZID=Europe/Budapest:20260212T203000
DTSTAMP:20260425T154102
CREATED:20260217T074253Z
LAST-MODIFIED:20260312T134844Z
UID:10003829-1770922800-1770928200@sport.uni-pannon.hu
SUMMARY:Aikido
DESCRIPTION:Díjhoz kötött \n\nIdőpont: kedd\, csütörtök: 19:00-20:30\nhelyszín: VESC Küzdősport terem (VESC Küzdősport központ\, 8200 Veszprém\, Wartha Vince utca 3. (régi tornászgyakorló))\njelentkezés és további információ: Pál Szilárd +36 30 2270 715
URL:https://sport.uni-pannon.hu/event/aikido-2/2026-02-12/
LOCATION:VESC Küzdősport terem\, Wartha Vince utca 3.\, Veszprém\, Veszprém\, 8200\, Hungary
CATEGORIES:Nyilvános sportkínálat
ATTACH;FMTTYPE=image/jpeg:https://sport.uni-pannon.hu/wp-content/uploads/2026/02/aikido.jpg
END:VEVENT
BEGIN:VEVENT
DTSTART;TZID=Europe/Budapest:20260212T190000
DTEND;TZID=Europe/Budapest:20260212T203000
DTSTAMP:20260425T154102
CREATED:20260211T135955Z
LAST-MODIFIED:20260312T135018Z
UID:10000338-1770922800-1770928200@sport.uni-pannon.hu
SUMMARY:Aikido
DESCRIPTION:Díjhoz kötött \n\nIdőpont: kedd\, csütörtök: 19:00-20:30\nhelyszín: VESC Küzdősport terem (VESC Küzdősport központ\, 8200 Veszprém\, Wartha Vince utca 3. (régi tornászgyakorló))\njelentkezés és további információ: Pál Szilárd +36 30 2270 715
URL:https://sport.uni-pannon.hu/event/aikido/2026-02-12/
LOCATION:VESC Küzdősport terem\, Wartha Vince utca 3.\, Veszprém\, Veszprém\, 8200\, Hungary
CATEGORIES:Nyilvános sportkínálat
ATTACH;FMTTYPE=image/jpeg:https://sport.uni-pannon.hu/wp-content/uploads/2026/02/aikido-1.jpg
END:VEVENT
BEGIN:VEVENT
DTSTART;TZID=Europe/Budapest:20260211T183000
DTEND;TZID=Europe/Budapest:20260211T200000
DTSTAMP:20260425T154102
CREATED:20260212T072851Z
LAST-MODIFIED:20260212T072851Z
UID:10001493-1770834600-1770840000@sport.uni-pannon.hu
SUMMARY:Ökölvívás
DESCRIPTION:Ár: 2.000Ft/fő/alkalom (diák- és alumni kedvezmény 30%)\, bérlet lehetőségekről további információ telefonon vagy e-mailen elérhető. \n\nHelyszín: Wartha Vince u. 3. VESC Küzdősport központ (régi tornászgyakorló)\nIdőpont: hétfő\, szerda\, péntek: 18:30-20:00\nTovábbi információ: Fontos Tamás\, tamasfontos@gmail.com
URL:https://sport.uni-pannon.hu/event/okolvivas/2026-02-11/
LOCATION:VESC Küzdősport terem\, Wartha Vince utca 3.\, Veszprém\, Veszprém\, 8200\, Hungary
CATEGORIES:Nyilvános sportkínálat
ATTACH;FMTTYPE=image/jpeg:https://sport.uni-pannon.hu/wp-content/uploads/2026/02/KBAL0164.jpg
END:VEVENT
BEGIN:VEVENT
DTSTART;TZID=Europe/Budapest:20260211T183000
DTEND;TZID=Europe/Budapest:20260211T200000
DTSTAMP:20260425T154102
CREATED:20260212T072207Z
LAST-MODIFIED:20260312T141258Z
UID:10000551-1770834600-1770840000@sport.uni-pannon.hu
SUMMARY:Grappling/ földharc
DESCRIPTION:Ár: 2.000Ft/fő/alkalom (diák- és alumni kedvezmény 30%)\, bérlet lehetőségekről további információ telefonon vagy e-mailen elérhető. \n\nHelyszín: Wartha Vince u. 3. VESC Küzdősport központ (régi tornászgyakorló)\nIdőpontok: hétfő\, szerda\, péntek: 18:30-20:00\nTovábbi információ: Fontos Tamás\, tamasfontos@gmail.com
URL:https://sport.uni-pannon.hu/event/grappling-foldharc/2026-02-11/
LOCATION:VESC Küzdősport terem\, Wartha Vince utca 3.\, Veszprém\, Veszprém\, 8200\, Hungary
CATEGORIES:Nyilvános sportkínálat
ATTACH;FMTTYPE=image/jpeg:https://sport.uni-pannon.hu/wp-content/uploads/2026/02/grappling-kickbox-okolvivas.jpeg
END:VEVENT
BEGIN:VEVENT
DTSTART;TZID=Europe/Budapest:20260211T171500
DTEND;TZID=Europe/Budapest:20260211T181500
DTSTAMP:20260425T154102
CREATED:20260212T072616Z
LAST-MODIFIED:20260227T112116Z
UID:10000708-1770830100-1770833700@sport.uni-pannon.hu
SUMMARY:Thai box/Kick-box
DESCRIPTION:Ár: 2.000Ft/fő/alkalom (diák- és alumni kedvezmény 30%)\, bérlet lehetőségekről további információ telefonon vagy e-mailen elérhető. \n\nHelyszín: Wartha Vince u. 3. VESC Küzdősport központ (régi tornászgyakorló)\nIdőpont: hétfő\, szerda\, péntek: 17:15-18:15\nTovábbi információ: Fontos Tamás\, tamasfontos@gmail.com
URL:https://sport.uni-pannon.hu/event/thai-box/2026-02-11/
LOCATION:VESC Küzdősport terem\, Wartha Vince utca 3.\, Veszprém\, Veszprém\, 8200\, Hungary
CATEGORIES:Nyilvános sportkínálat
ATTACH;FMTTYPE=image/jpeg:https://sport.uni-pannon.hu/wp-content/uploads/2026/02/Pesthy-Marton-PES_7142-20250716-scaled.jpg
END:VEVENT
BEGIN:VEVENT
DTSTART;TZID=Europe/Budapest:20260210T190000
DTEND;TZID=Europe/Budapest:20260210T203000
DTSTAMP:20260425T154102
CREATED:20260217T074253Z
LAST-MODIFIED:20260312T134844Z
UID:10003816-1770750000-1770755400@sport.uni-pannon.hu
SUMMARY:Aikido
DESCRIPTION:Díjhoz kötött \n\nIdőpont: kedd\, csütörtök: 19:00-20:30\nhelyszín: VESC Küzdősport terem (VESC Küzdősport központ\, 8200 Veszprém\, Wartha Vince utca 3. (régi tornászgyakorló))\njelentkezés és további információ: Pál Szilárd +36 30 2270 715
URL:https://sport.uni-pannon.hu/event/aikido-2/2026-02-10/
LOCATION:VESC Küzdősport terem\, Wartha Vince utca 3.\, Veszprém\, Veszprém\, 8200\, Hungary
CATEGORIES:Nyilvános sportkínálat
ATTACH;FMTTYPE=image/jpeg:https://sport.uni-pannon.hu/wp-content/uploads/2026/02/aikido.jpg
END:VEVENT
BEGIN:VEVENT
DTSTART;TZID=Europe/Budapest:20260209T183000
DTEND;TZID=Europe/Budapest:20260209T200000
DTSTAMP:20260425T154102
CREATED:20260212T072851Z
LAST-MODIFIED:20260212T072851Z
UID:10001492-1770661800-1770667200@sport.uni-pannon.hu
SUMMARY:Ökölvívás
DESCRIPTION:Ár: 2.000Ft/fő/alkalom (diák- és alumni kedvezmény 30%)\, bérlet lehetőségekről további információ telefonon vagy e-mailen elérhető. \n\nHelyszín: Wartha Vince u. 3. VESC Küzdősport központ (régi tornászgyakorló)\nIdőpont: hétfő\, szerda\, péntek: 18:30-20:00\nTovábbi információ: Fontos Tamás\, tamasfontos@gmail.com
URL:https://sport.uni-pannon.hu/event/okolvivas/2026-02-09/
LOCATION:VESC Küzdősport terem\, Wartha Vince utca 3.\, Veszprém\, Veszprém\, 8200\, Hungary
CATEGORIES:Nyilvános sportkínálat
ATTACH;FMTTYPE=image/jpeg:https://sport.uni-pannon.hu/wp-content/uploads/2026/02/KBAL0164.jpg
END:VEVENT
BEGIN:VEVENT
DTSTART;TZID=Europe/Budapest:20260209T183000
DTEND;TZID=Europe/Budapest:20260209T200000
DTSTAMP:20260425T154102
CREATED:20260212T072207Z
LAST-MODIFIED:20260312T141258Z
UID:10000550-1770661800-1770667200@sport.uni-pannon.hu
SUMMARY:Grappling/ földharc
DESCRIPTION:Ár: 2.000Ft/fő/alkalom (diák- és alumni kedvezmény 30%)\, bérlet lehetőségekről további információ telefonon vagy e-mailen elérhető. \n\nHelyszín: Wartha Vince u. 3. VESC Küzdősport központ (régi tornászgyakorló)\nIdőpontok: hétfő\, szerda\, péntek: 18:30-20:00\nTovábbi információ: Fontos Tamás\, tamasfontos@gmail.com
URL:https://sport.uni-pannon.hu/event/grappling-foldharc/2026-02-09/
LOCATION:VESC Küzdősport terem\, Wartha Vince utca 3.\, Veszprém\, Veszprém\, 8200\, Hungary
CATEGORIES:Nyilvános sportkínálat
ATTACH;FMTTYPE=image/jpeg:https://sport.uni-pannon.hu/wp-content/uploads/2026/02/grappling-kickbox-okolvivas.jpeg
END:VEVENT
BEGIN:VEVENT
DTSTART;TZID=Europe/Budapest:20260209T171500
DTEND;TZID=Europe/Budapest:20260209T181500
DTSTAMP:20260425T154102
CREATED:20260212T072616Z
LAST-MODIFIED:20260227T112116Z
UID:10000707-1770657300-1770660900@sport.uni-pannon.hu
SUMMARY:Thai box/Kick-box
DESCRIPTION:Ár: 2.000Ft/fő/alkalom (diák- és alumni kedvezmény 30%)\, bérlet lehetőségekről további információ telefonon vagy e-mailen elérhető. \n\nHelyszín: Wartha Vince u. 3. VESC Küzdősport központ (régi tornászgyakorló)\nIdőpont: hétfő\, szerda\, péntek: 17:15-18:15\nTovábbi információ: Fontos Tamás\, tamasfontos@gmail.com
URL:https://sport.uni-pannon.hu/event/thai-box/2026-02-09/
LOCATION:VESC Küzdősport terem\, Wartha Vince utca 3.\, Veszprém\, Veszprém\, 8200\, Hungary
CATEGORIES:Nyilvános sportkínálat
ATTACH;FMTTYPE=image/jpeg:https://sport.uni-pannon.hu/wp-content/uploads/2026/02/Pesthy-Marton-PES_7142-20250716-scaled.jpg
END:VEVENT
END:VCALENDAR