BEGIN:VCALENDAR
VERSION:2.0
PRODID:-//Sport Éve 2026 - ECPv6.15.20//NONSGML v1.0//EN
CALSCALE:GREGORIAN
METHOD:PUBLISH
X-WR-CALNAME:Sport Éve 2026
X-ORIGINAL-URL:https://sport.uni-pannon.hu
X-WR-CALDESC:Események Sport Éve 2026
REFRESH-INTERVAL;VALUE=DURATION:PT1H
X-Robots-Tag:noindex
X-PUBLISHED-TTL:PT1H
BEGIN:VTIMEZONE
TZID:Europe/Budapest
BEGIN:DAYLIGHT
TZOFFSETFROM:+0100
TZOFFSETTO:+0200
TZNAME:CEST
DTSTART:20250330T010000
END:DAYLIGHT
BEGIN:STANDARD
TZOFFSETFROM:+0200
TZOFFSETTO:+0100
TZNAME:CET
DTSTART:20251026T010000
END:STANDARD
BEGIN:DAYLIGHT
TZOFFSETFROM:+0100
TZOFFSETTO:+0200
TZNAME:CEST
DTSTART:20260329T010000
END:DAYLIGHT
BEGIN:STANDARD
TZOFFSETFROM:+0200
TZOFFSETTO:+0100
TZNAME:CET
DTSTART:20261025T010000
END:STANDARD
BEGIN:DAYLIGHT
TZOFFSETFROM:+0100
TZOFFSETTO:+0200
TZNAME:CEST
DTSTART:20270328T010000
END:DAYLIGHT
BEGIN:STANDARD
TZOFFSETFROM:+0200
TZOFFSETTO:+0100
TZNAME:CET
DTSTART:20271031T010000
END:STANDARD
END:VTIMEZONE
BEGIN:VEVENT
DTSTART;TZID=Europe/Budapest:20260326T190000
DTEND;TZID=Europe/Budapest:20260326T203000
DTSTAMP:20260424T072700
CREATED:20260217T074253Z
LAST-MODIFIED:20260312T134844Z
UID:10000344-1774551600-1774557000@sport.uni-pannon.hu
SUMMARY:Aikido
DESCRIPTION:Díjhoz kötött \n\nIdőpont: kedd\, csütörtök: 19:00-20:30\nhelyszín: VESC Küzdősport terem (VESC Küzdősport központ\, 8200 Veszprém\, Wartha Vince utca 3. (régi tornászgyakorló))\njelentkezés és további információ: Pál Szilárd +36 30 2270 715
URL:https://sport.uni-pannon.hu/event/aikido-2/2026-03-26/
LOCATION:VESC Küzdősport terem\, Wartha Vince utca 3.\, Veszprém\, Veszprém\, 8200\, Hungary
CATEGORIES:Nyilvános sportkínálat
ATTACH;FMTTYPE=image/jpeg:https://sport.uni-pannon.hu/wp-content/uploads/2026/02/aikido.jpg
END:VEVENT
BEGIN:VEVENT
DTSTART;TZID=Europe/Budapest:20260326T190000
DTEND;TZID=Europe/Budapest:20260326T203000
DTSTAMP:20260424T072700
CREATED:20260211T135955Z
LAST-MODIFIED:20260312T135018Z
UID:10003987-1774551600-1774557000@sport.uni-pannon.hu
SUMMARY:Aikido
DESCRIPTION:Díjhoz kötött \n\nIdőpont: kedd\, csütörtök: 19:00-20:30\nhelyszín: VESC Küzdősport terem (VESC Küzdősport központ\, 8200 Veszprém\, Wartha Vince utca 3. (régi tornászgyakorló))\njelentkezés és további információ: Pál Szilárd +36 30 2270 715
URL:https://sport.uni-pannon.hu/event/aikido/2026-03-26/
LOCATION:VESC Küzdősport terem\, Wartha Vince utca 3.\, Veszprém\, Veszprém\, 8200\, Hungary
CATEGORIES:Nyilvános sportkínálat
ATTACH;FMTTYPE=image/jpeg:https://sport.uni-pannon.hu/wp-content/uploads/2026/02/aikido-1.jpg
END:VEVENT
BEGIN:VEVENT
DTSTART;TZID=Europe/Budapest:20260325T183000
DTEND;TZID=Europe/Budapest:20260325T200000
DTSTAMP:20260424T072700
CREATED:20260212T072851Z
LAST-MODIFIED:20260212T072851Z
UID:10001511-1774463400-1774468800@sport.uni-pannon.hu
SUMMARY:Ökölvívás
DESCRIPTION:Ár: 2.000Ft/fő/alkalom (diák- és alumni kedvezmény 30%)\, bérlet lehetőségekről további információ telefonon vagy e-mailen elérhető. \n\nHelyszín: Wartha Vince u. 3. VESC Küzdősport központ (régi tornászgyakorló)\nIdőpont: hétfő\, szerda\, péntek: 18:30-20:00\nTovábbi információ: Fontos Tamás\, tamasfontos@gmail.com
URL:https://sport.uni-pannon.hu/event/okolvivas/2026-03-25/
LOCATION:VESC Küzdősport terem\, Wartha Vince utca 3.\, Veszprém\, Veszprém\, 8200\, Hungary
CATEGORIES:Nyilvános sportkínálat
ATTACH;FMTTYPE=image/jpeg:https://sport.uni-pannon.hu/wp-content/uploads/2026/02/KBAL0164.jpg
END:VEVENT
BEGIN:VEVENT
DTSTART;TZID=Europe/Budapest:20260325T183000
DTEND;TZID=Europe/Budapest:20260325T200000
DTSTAMP:20260424T072700
CREATED:20260212T072207Z
LAST-MODIFIED:20260312T141258Z
UID:10000569-1774463400-1774468800@sport.uni-pannon.hu
SUMMARY:Grappling/ földharc
DESCRIPTION:Ár: 2.000Ft/fő/alkalom (diák- és alumni kedvezmény 30%)\, bérlet lehetőségekről további információ telefonon vagy e-mailen elérhető. \n\nHelyszín: Wartha Vince u. 3. VESC Küzdősport központ (régi tornászgyakorló)\nIdőpontok: hétfő\, szerda\, péntek: 18:30-20:00\nTovábbi információ: Fontos Tamás\, tamasfontos@gmail.com
URL:https://sport.uni-pannon.hu/event/grappling-foldharc/2026-03-25/
LOCATION:VESC Küzdősport terem\, Wartha Vince utca 3.\, Veszprém\, Veszprém\, 8200\, Hungary
CATEGORIES:Nyilvános sportkínálat
ATTACH;FMTTYPE=image/jpeg:https://sport.uni-pannon.hu/wp-content/uploads/2026/02/grappling-kickbox-okolvivas.jpeg
END:VEVENT
BEGIN:VEVENT
DTSTART;TZID=Europe/Budapest:20260325T171500
DTEND;TZID=Europe/Budapest:20260325T181500
DTSTAMP:20260424T072700
CREATED:20260212T072616Z
LAST-MODIFIED:20260227T112116Z
UID:10000726-1774458900-1774462500@sport.uni-pannon.hu
SUMMARY:Thai box/Kick-box
DESCRIPTION:Ár: 2.000Ft/fő/alkalom (diák- és alumni kedvezmény 30%)\, bérlet lehetőségekről további információ telefonon vagy e-mailen elérhető. \n\nHelyszín: Wartha Vince u. 3. VESC Küzdősport központ (régi tornászgyakorló)\nIdőpont: hétfő\, szerda\, péntek: 17:15-18:15\nTovábbi információ: Fontos Tamás\, tamasfontos@gmail.com
URL:https://sport.uni-pannon.hu/event/thai-box/2026-03-25/
LOCATION:VESC Küzdősport terem\, Wartha Vince utca 3.\, Veszprém\, Veszprém\, 8200\, Hungary
CATEGORIES:Nyilvános sportkínálat
ATTACH;FMTTYPE=image/jpeg:https://sport.uni-pannon.hu/wp-content/uploads/2026/02/Pesthy-Marton-PES_7142-20250716-scaled.jpg
END:VEVENT
BEGIN:VEVENT
DTSTART;TZID=Europe/Budapest:20260324T190000
DTEND;TZID=Europe/Budapest:20260324T203000
DTSTAMP:20260424T072700
CREATED:20260217T074253Z
LAST-MODIFIED:20260312T134844Z
UID:10003821-1774378800-1774384200@sport.uni-pannon.hu
SUMMARY:Aikido
DESCRIPTION:Díjhoz kötött \n\nIdőpont: kedd\, csütörtök: 19:00-20:30\nhelyszín: VESC Küzdősport terem (VESC Küzdősport központ\, 8200 Veszprém\, Wartha Vince utca 3. (régi tornászgyakorló))\njelentkezés és további információ: Pál Szilárd +36 30 2270 715
URL:https://sport.uni-pannon.hu/event/aikido-2/2026-03-24/
LOCATION:VESC Küzdősport terem\, Wartha Vince utca 3.\, Veszprém\, Veszprém\, 8200\, Hungary
CATEGORIES:Nyilvános sportkínálat
ATTACH;FMTTYPE=image/jpeg:https://sport.uni-pannon.hu/wp-content/uploads/2026/02/aikido.jpg
END:VEVENT
BEGIN:VEVENT
DTSTART;TZID=Europe/Budapest:20260323T183000
DTEND;TZID=Europe/Budapest:20260323T200000
DTSTAMP:20260424T072700
CREATED:20260212T072851Z
LAST-MODIFIED:20260212T072851Z
UID:10001510-1774290600-1774296000@sport.uni-pannon.hu
SUMMARY:Ökölvívás
DESCRIPTION:Ár: 2.000Ft/fő/alkalom (diák- és alumni kedvezmény 30%)\, bérlet lehetőségekről további információ telefonon vagy e-mailen elérhető. \n\nHelyszín: Wartha Vince u. 3. VESC Küzdősport központ (régi tornászgyakorló)\nIdőpont: hétfő\, szerda\, péntek: 18:30-20:00\nTovábbi információ: Fontos Tamás\, tamasfontos@gmail.com
URL:https://sport.uni-pannon.hu/event/okolvivas/2026-03-23/
LOCATION:VESC Küzdősport terem\, Wartha Vince utca 3.\, Veszprém\, Veszprém\, 8200\, Hungary
CATEGORIES:Nyilvános sportkínálat
ATTACH;FMTTYPE=image/jpeg:https://sport.uni-pannon.hu/wp-content/uploads/2026/02/KBAL0164.jpg
END:VEVENT
BEGIN:VEVENT
DTSTART;TZID=Europe/Budapest:20260323T183000
DTEND;TZID=Europe/Budapest:20260323T200000
DTSTAMP:20260424T072700
CREATED:20260212T072207Z
LAST-MODIFIED:20260312T141258Z
UID:10000568-1774290600-1774296000@sport.uni-pannon.hu
SUMMARY:Grappling/ földharc
DESCRIPTION:Ár: 2.000Ft/fő/alkalom (diák- és alumni kedvezmény 30%)\, bérlet lehetőségekről további információ telefonon vagy e-mailen elérhető. \n\nHelyszín: Wartha Vince u. 3. VESC Küzdősport központ (régi tornászgyakorló)\nIdőpontok: hétfő\, szerda\, péntek: 18:30-20:00\nTovábbi információ: Fontos Tamás\, tamasfontos@gmail.com
URL:https://sport.uni-pannon.hu/event/grappling-foldharc/2026-03-23/
LOCATION:VESC Küzdősport terem\, Wartha Vince utca 3.\, Veszprém\, Veszprém\, 8200\, Hungary
CATEGORIES:Nyilvános sportkínálat
ATTACH;FMTTYPE=image/jpeg:https://sport.uni-pannon.hu/wp-content/uploads/2026/02/grappling-kickbox-okolvivas.jpeg
END:VEVENT
BEGIN:VEVENT
DTSTART;TZID=Europe/Budapest:20260323T171500
DTEND;TZID=Europe/Budapest:20260323T181500
DTSTAMP:20260424T072700
CREATED:20260212T072616Z
LAST-MODIFIED:20260227T112116Z
UID:10000725-1774286100-1774289700@sport.uni-pannon.hu
SUMMARY:Thai box/Kick-box
DESCRIPTION:Ár: 2.000Ft/fő/alkalom (diák- és alumni kedvezmény 30%)\, bérlet lehetőségekről további információ telefonon vagy e-mailen elérhető. \n\nHelyszín: Wartha Vince u. 3. VESC Küzdősport központ (régi tornászgyakorló)\nIdőpont: hétfő\, szerda\, péntek: 17:15-18:15\nTovábbi információ: Fontos Tamás\, tamasfontos@gmail.com
URL:https://sport.uni-pannon.hu/event/thai-box/2026-03-23/
LOCATION:VESC Küzdősport terem\, Wartha Vince utca 3.\, Veszprém\, Veszprém\, 8200\, Hungary
CATEGORIES:Nyilvános sportkínálat
ATTACH;FMTTYPE=image/jpeg:https://sport.uni-pannon.hu/wp-content/uploads/2026/02/Pesthy-Marton-PES_7142-20250716-scaled.jpg
END:VEVENT
BEGIN:VEVENT
DTSTART;TZID=Europe/Budapest:20260320T183000
DTEND;TZID=Europe/Budapest:20260320T200000
DTSTAMP:20260424T072700
CREATED:20260212T072851Z
LAST-MODIFIED:20260212T072851Z
UID:10001509-1774031400-1774036800@sport.uni-pannon.hu
SUMMARY:Ökölvívás
DESCRIPTION:Ár: 2.000Ft/fő/alkalom (diák- és alumni kedvezmény 30%)\, bérlet lehetőségekről további információ telefonon vagy e-mailen elérhető. \n\nHelyszín: Wartha Vince u. 3. VESC Küzdősport központ (régi tornászgyakorló)\nIdőpont: hétfő\, szerda\, péntek: 18:30-20:00\nTovábbi információ: Fontos Tamás\, tamasfontos@gmail.com
URL:https://sport.uni-pannon.hu/event/okolvivas/2026-03-20/
LOCATION:VESC Küzdősport terem\, Wartha Vince utca 3.\, Veszprém\, Veszprém\, 8200\, Hungary
CATEGORIES:Nyilvános sportkínálat
ATTACH;FMTTYPE=image/jpeg:https://sport.uni-pannon.hu/wp-content/uploads/2026/02/KBAL0164.jpg
END:VEVENT
BEGIN:VEVENT
DTSTART;TZID=Europe/Budapest:20260320T183000
DTEND;TZID=Europe/Budapest:20260320T200000
DTSTAMP:20260424T072700
CREATED:20260212T072207Z
LAST-MODIFIED:20260312T141258Z
UID:10000567-1774031400-1774036800@sport.uni-pannon.hu
SUMMARY:Grappling/ földharc
DESCRIPTION:Ár: 2.000Ft/fő/alkalom (diák- és alumni kedvezmény 30%)\, bérlet lehetőségekről további információ telefonon vagy e-mailen elérhető. \n\nHelyszín: Wartha Vince u. 3. VESC Küzdősport központ (régi tornászgyakorló)\nIdőpontok: hétfő\, szerda\, péntek: 18:30-20:00\nTovábbi információ: Fontos Tamás\, tamasfontos@gmail.com
URL:https://sport.uni-pannon.hu/event/grappling-foldharc/2026-03-20/
LOCATION:VESC Küzdősport terem\, Wartha Vince utca 3.\, Veszprém\, Veszprém\, 8200\, Hungary
CATEGORIES:Nyilvános sportkínálat
ATTACH;FMTTYPE=image/jpeg:https://sport.uni-pannon.hu/wp-content/uploads/2026/02/grappling-kickbox-okolvivas.jpeg
END:VEVENT
BEGIN:VEVENT
DTSTART;TZID=Europe/Budapest:20260320T171500
DTEND;TZID=Europe/Budapest:20260320T181500
DTSTAMP:20260424T072700
CREATED:20260212T072616Z
LAST-MODIFIED:20260227T112116Z
UID:10000724-1774026900-1774030500@sport.uni-pannon.hu
SUMMARY:Thai box/Kick-box
DESCRIPTION:Ár: 2.000Ft/fő/alkalom (diák- és alumni kedvezmény 30%)\, bérlet lehetőségekről további információ telefonon vagy e-mailen elérhető. \n\nHelyszín: Wartha Vince u. 3. VESC Küzdősport központ (régi tornászgyakorló)\nIdőpont: hétfő\, szerda\, péntek: 17:15-18:15\nTovábbi információ: Fontos Tamás\, tamasfontos@gmail.com
URL:https://sport.uni-pannon.hu/event/thai-box/2026-03-20/
LOCATION:VESC Küzdősport terem\, Wartha Vince utca 3.\, Veszprém\, Veszprém\, 8200\, Hungary
CATEGORIES:Nyilvános sportkínálat
ATTACH;FMTTYPE=image/jpeg:https://sport.uni-pannon.hu/wp-content/uploads/2026/02/Pesthy-Marton-PES_7142-20250716-scaled.jpg
END:VEVENT
BEGIN:VEVENT
DTSTART;TZID=Europe/Budapest:20260319T190000
DTEND;TZID=Europe/Budapest:20260319T203000
DTSTAMP:20260424T072700
CREATED:20260217T074253Z
LAST-MODIFIED:20260312T134844Z
UID:10000343-1773946800-1773952200@sport.uni-pannon.hu
SUMMARY:Aikido
DESCRIPTION:Díjhoz kötött \n\nIdőpont: kedd\, csütörtök: 19:00-20:30\nhelyszín: VESC Küzdősport terem (VESC Küzdősport központ\, 8200 Veszprém\, Wartha Vince utca 3. (régi tornászgyakorló))\njelentkezés és további információ: Pál Szilárd +36 30 2270 715
URL:https://sport.uni-pannon.hu/event/aikido-2/2026-03-19/
LOCATION:VESC Küzdősport terem\, Wartha Vince utca 3.\, Veszprém\, Veszprém\, 8200\, Hungary
CATEGORIES:Nyilvános sportkínálat
ATTACH;FMTTYPE=image/jpeg:https://sport.uni-pannon.hu/wp-content/uploads/2026/02/aikido.jpg
END:VEVENT
BEGIN:VEVENT
DTSTART;TZID=Europe/Budapest:20260319T190000
DTEND;TZID=Europe/Budapest:20260319T203000
DTSTAMP:20260424T072700
CREATED:20260211T135955Z
LAST-MODIFIED:20260312T135018Z
UID:10003986-1773946800-1773952200@sport.uni-pannon.hu
SUMMARY:Aikido
DESCRIPTION:Díjhoz kötött \n\nIdőpont: kedd\, csütörtök: 19:00-20:30\nhelyszín: VESC Küzdősport terem (VESC Küzdősport központ\, 8200 Veszprém\, Wartha Vince utca 3. (régi tornászgyakorló))\njelentkezés és további információ: Pál Szilárd +36 30 2270 715
URL:https://sport.uni-pannon.hu/event/aikido/2026-03-19/
LOCATION:VESC Küzdősport terem\, Wartha Vince utca 3.\, Veszprém\, Veszprém\, 8200\, Hungary
CATEGORIES:Nyilvános sportkínálat
ATTACH;FMTTYPE=image/jpeg:https://sport.uni-pannon.hu/wp-content/uploads/2026/02/aikido-1.jpg
END:VEVENT
BEGIN:VEVENT
DTSTART;TZID=Europe/Budapest:20260318T183000
DTEND;TZID=Europe/Budapest:20260318T200000
DTSTAMP:20260424T072700
CREATED:20260212T072851Z
LAST-MODIFIED:20260212T072851Z
UID:10001508-1773858600-1773864000@sport.uni-pannon.hu
SUMMARY:Ökölvívás
DESCRIPTION:Ár: 2.000Ft/fő/alkalom (diák- és alumni kedvezmény 30%)\, bérlet lehetőségekről további információ telefonon vagy e-mailen elérhető. \n\nHelyszín: Wartha Vince u. 3. VESC Küzdősport központ (régi tornászgyakorló)\nIdőpont: hétfő\, szerda\, péntek: 18:30-20:00\nTovábbi információ: Fontos Tamás\, tamasfontos@gmail.com
URL:https://sport.uni-pannon.hu/event/okolvivas/2026-03-18/
LOCATION:VESC Küzdősport terem\, Wartha Vince utca 3.\, Veszprém\, Veszprém\, 8200\, Hungary
CATEGORIES:Nyilvános sportkínálat
ATTACH;FMTTYPE=image/jpeg:https://sport.uni-pannon.hu/wp-content/uploads/2026/02/KBAL0164.jpg
END:VEVENT
BEGIN:VEVENT
DTSTART;TZID=Europe/Budapest:20260318T183000
DTEND;TZID=Europe/Budapest:20260318T200000
DTSTAMP:20260424T072700
CREATED:20260212T072207Z
LAST-MODIFIED:20260312T141258Z
UID:10000566-1773858600-1773864000@sport.uni-pannon.hu
SUMMARY:Grappling/ földharc
DESCRIPTION:Ár: 2.000Ft/fő/alkalom (diák- és alumni kedvezmény 30%)\, bérlet lehetőségekről további információ telefonon vagy e-mailen elérhető. \n\nHelyszín: Wartha Vince u. 3. VESC Küzdősport központ (régi tornászgyakorló)\nIdőpontok: hétfő\, szerda\, péntek: 18:30-20:00\nTovábbi információ: Fontos Tamás\, tamasfontos@gmail.com
URL:https://sport.uni-pannon.hu/event/grappling-foldharc/2026-03-18/
LOCATION:VESC Küzdősport terem\, Wartha Vince utca 3.\, Veszprém\, Veszprém\, 8200\, Hungary
CATEGORIES:Nyilvános sportkínálat
ATTACH;FMTTYPE=image/jpeg:https://sport.uni-pannon.hu/wp-content/uploads/2026/02/grappling-kickbox-okolvivas.jpeg
END:VEVENT
BEGIN:VEVENT
DTSTART;TZID=Europe/Budapest:20260318T171500
DTEND;TZID=Europe/Budapest:20260318T181500
DTSTAMP:20260424T072700
CREATED:20260212T072616Z
LAST-MODIFIED:20260227T112116Z
UID:10000723-1773854100-1773857700@sport.uni-pannon.hu
SUMMARY:Thai box/Kick-box
DESCRIPTION:Ár: 2.000Ft/fő/alkalom (diák- és alumni kedvezmény 30%)\, bérlet lehetőségekről további információ telefonon vagy e-mailen elérhető. \n\nHelyszín: Wartha Vince u. 3. VESC Küzdősport központ (régi tornászgyakorló)\nIdőpont: hétfő\, szerda\, péntek: 17:15-18:15\nTovábbi információ: Fontos Tamás\, tamasfontos@gmail.com
URL:https://sport.uni-pannon.hu/event/thai-box/2026-03-18/
LOCATION:VESC Küzdősport terem\, Wartha Vince utca 3.\, Veszprém\, Veszprém\, 8200\, Hungary
CATEGORIES:Nyilvános sportkínálat
ATTACH;FMTTYPE=image/jpeg:https://sport.uni-pannon.hu/wp-content/uploads/2026/02/Pesthy-Marton-PES_7142-20250716-scaled.jpg
END:VEVENT
BEGIN:VEVENT
DTSTART;TZID=Europe/Budapest:20260317T190000
DTEND;TZID=Europe/Budapest:20260317T203000
DTSTAMP:20260424T072700
CREATED:20260217T074253Z
LAST-MODIFIED:20260312T134844Z
UID:10003820-1773774000-1773779400@sport.uni-pannon.hu
SUMMARY:Aikido
DESCRIPTION:Díjhoz kötött \n\nIdőpont: kedd\, csütörtök: 19:00-20:30\nhelyszín: VESC Küzdősport terem (VESC Küzdősport központ\, 8200 Veszprém\, Wartha Vince utca 3. (régi tornászgyakorló))\njelentkezés és további információ: Pál Szilárd +36 30 2270 715
URL:https://sport.uni-pannon.hu/event/aikido-2/2026-03-17/
LOCATION:VESC Küzdősport terem\, Wartha Vince utca 3.\, Veszprém\, Veszprém\, 8200\, Hungary
CATEGORIES:Nyilvános sportkínálat
ATTACH;FMTTYPE=image/jpeg:https://sport.uni-pannon.hu/wp-content/uploads/2026/02/aikido.jpg
END:VEVENT
BEGIN:VEVENT
DTSTART;TZID=Europe/Budapest:20260316T183000
DTEND;TZID=Europe/Budapest:20260316T200000
DTSTAMP:20260424T072700
CREATED:20260212T072851Z
LAST-MODIFIED:20260212T072851Z
UID:10001507-1773685800-1773691200@sport.uni-pannon.hu
SUMMARY:Ökölvívás
DESCRIPTION:Ár: 2.000Ft/fő/alkalom (diák- és alumni kedvezmény 30%)\, bérlet lehetőségekről további információ telefonon vagy e-mailen elérhető. \n\nHelyszín: Wartha Vince u. 3. VESC Küzdősport központ (régi tornászgyakorló)\nIdőpont: hétfő\, szerda\, péntek: 18:30-20:00\nTovábbi információ: Fontos Tamás\, tamasfontos@gmail.com
URL:https://sport.uni-pannon.hu/event/okolvivas/2026-03-16/
LOCATION:VESC Küzdősport terem\, Wartha Vince utca 3.\, Veszprém\, Veszprém\, 8200\, Hungary
CATEGORIES:Nyilvános sportkínálat
ATTACH;FMTTYPE=image/jpeg:https://sport.uni-pannon.hu/wp-content/uploads/2026/02/KBAL0164.jpg
END:VEVENT
BEGIN:VEVENT
DTSTART;TZID=Europe/Budapest:20260316T183000
DTEND;TZID=Europe/Budapest:20260316T200000
DTSTAMP:20260424T072700
CREATED:20260212T072207Z
LAST-MODIFIED:20260312T141258Z
UID:10000565-1773685800-1773691200@sport.uni-pannon.hu
SUMMARY:Grappling/ földharc
DESCRIPTION:Ár: 2.000Ft/fő/alkalom (diák- és alumni kedvezmény 30%)\, bérlet lehetőségekről további információ telefonon vagy e-mailen elérhető. \n\nHelyszín: Wartha Vince u. 3. VESC Küzdősport központ (régi tornászgyakorló)\nIdőpontok: hétfő\, szerda\, péntek: 18:30-20:00\nTovábbi információ: Fontos Tamás\, tamasfontos@gmail.com
URL:https://sport.uni-pannon.hu/event/grappling-foldharc/2026-03-16/
LOCATION:VESC Küzdősport terem\, Wartha Vince utca 3.\, Veszprém\, Veszprém\, 8200\, Hungary
CATEGORIES:Nyilvános sportkínálat
ATTACH;FMTTYPE=image/jpeg:https://sport.uni-pannon.hu/wp-content/uploads/2026/02/grappling-kickbox-okolvivas.jpeg
END:VEVENT
BEGIN:VEVENT
DTSTART;TZID=Europe/Budapest:20260316T171500
DTEND;TZID=Europe/Budapest:20260316T181500
DTSTAMP:20260424T072700
CREATED:20260212T072616Z
LAST-MODIFIED:20260227T112116Z
UID:10000722-1773681300-1773684900@sport.uni-pannon.hu
SUMMARY:Thai box/Kick-box
DESCRIPTION:Ár: 2.000Ft/fő/alkalom (diák- és alumni kedvezmény 30%)\, bérlet lehetőségekről további információ telefonon vagy e-mailen elérhető. \n\nHelyszín: Wartha Vince u. 3. VESC Küzdősport központ (régi tornászgyakorló)\nIdőpont: hétfő\, szerda\, péntek: 17:15-18:15\nTovábbi információ: Fontos Tamás\, tamasfontos@gmail.com
URL:https://sport.uni-pannon.hu/event/thai-box/2026-03-16/
LOCATION:VESC Küzdősport terem\, Wartha Vince utca 3.\, Veszprém\, Veszprém\, 8200\, Hungary
CATEGORIES:Nyilvános sportkínálat
ATTACH;FMTTYPE=image/jpeg:https://sport.uni-pannon.hu/wp-content/uploads/2026/02/Pesthy-Marton-PES_7142-20250716-scaled.jpg
END:VEVENT
BEGIN:VEVENT
DTSTART;TZID=Europe/Budapest:20260313T183000
DTEND;TZID=Europe/Budapest:20260313T200000
DTSTAMP:20260424T072700
CREATED:20260212T072851Z
LAST-MODIFIED:20260212T072851Z
UID:10001506-1773426600-1773432000@sport.uni-pannon.hu
SUMMARY:Ökölvívás
DESCRIPTION:Ár: 2.000Ft/fő/alkalom (diák- és alumni kedvezmény 30%)\, bérlet lehetőségekről további információ telefonon vagy e-mailen elérhető. \n\nHelyszín: Wartha Vince u. 3. VESC Küzdősport központ (régi tornászgyakorló)\nIdőpont: hétfő\, szerda\, péntek: 18:30-20:00\nTovábbi információ: Fontos Tamás\, tamasfontos@gmail.com
URL:https://sport.uni-pannon.hu/event/okolvivas/2026-03-13/
LOCATION:VESC Küzdősport terem\, Wartha Vince utca 3.\, Veszprém\, Veszprém\, 8200\, Hungary
CATEGORIES:Nyilvános sportkínálat
ATTACH;FMTTYPE=image/jpeg:https://sport.uni-pannon.hu/wp-content/uploads/2026/02/KBAL0164.jpg
END:VEVENT
BEGIN:VEVENT
DTSTART;TZID=Europe/Budapest:20260313T183000
DTEND;TZID=Europe/Budapest:20260313T200000
DTSTAMP:20260424T072700
CREATED:20260212T072207Z
LAST-MODIFIED:20260312T141258Z
UID:10000564-1773426600-1773432000@sport.uni-pannon.hu
SUMMARY:Grappling/ földharc
DESCRIPTION:Ár: 2.000Ft/fő/alkalom (diák- és alumni kedvezmény 30%)\, bérlet lehetőségekről további információ telefonon vagy e-mailen elérhető. \n\nHelyszín: Wartha Vince u. 3. VESC Küzdősport központ (régi tornászgyakorló)\nIdőpontok: hétfő\, szerda\, péntek: 18:30-20:00\nTovábbi információ: Fontos Tamás\, tamasfontos@gmail.com
URL:https://sport.uni-pannon.hu/event/grappling-foldharc/2026-03-13/
LOCATION:VESC Küzdősport terem\, Wartha Vince utca 3.\, Veszprém\, Veszprém\, 8200\, Hungary
CATEGORIES:Nyilvános sportkínálat
ATTACH;FMTTYPE=image/jpeg:https://sport.uni-pannon.hu/wp-content/uploads/2026/02/grappling-kickbox-okolvivas.jpeg
END:VEVENT
BEGIN:VEVENT
DTSTART;TZID=Europe/Budapest:20260313T171500
DTEND;TZID=Europe/Budapest:20260313T181500
DTSTAMP:20260424T072700
CREATED:20260212T072616Z
LAST-MODIFIED:20260227T112116Z
UID:10000721-1773422100-1773425700@sport.uni-pannon.hu
SUMMARY:Thai box/Kick-box
DESCRIPTION:Ár: 2.000Ft/fő/alkalom (diák- és alumni kedvezmény 30%)\, bérlet lehetőségekről további információ telefonon vagy e-mailen elérhető. \n\nHelyszín: Wartha Vince u. 3. VESC Küzdősport központ (régi tornászgyakorló)\nIdőpont: hétfő\, szerda\, péntek: 17:15-18:15\nTovábbi információ: Fontos Tamás\, tamasfontos@gmail.com
URL:https://sport.uni-pannon.hu/event/thai-box/2026-03-13/
LOCATION:VESC Küzdősport terem\, Wartha Vince utca 3.\, Veszprém\, Veszprém\, 8200\, Hungary
CATEGORIES:Nyilvános sportkínálat
ATTACH;FMTTYPE=image/jpeg:https://sport.uni-pannon.hu/wp-content/uploads/2026/02/Pesthy-Marton-PES_7142-20250716-scaled.jpg
END:VEVENT
BEGIN:VEVENT
DTSTART;TZID=Europe/Budapest:20260312T190000
DTEND;TZID=Europe/Budapest:20260312T203000
DTSTAMP:20260424T072700
CREATED:20260217T074253Z
LAST-MODIFIED:20260312T134844Z
UID:10000342-1773342000-1773347400@sport.uni-pannon.hu
SUMMARY:Aikido
DESCRIPTION:Díjhoz kötött \n\nIdőpont: kedd\, csütörtök: 19:00-20:30\nhelyszín: VESC Küzdősport terem (VESC Küzdősport központ\, 8200 Veszprém\, Wartha Vince utca 3. (régi tornászgyakorló))\njelentkezés és további információ: Pál Szilárd +36 30 2270 715
URL:https://sport.uni-pannon.hu/event/aikido-2/2026-03-12/
LOCATION:VESC Küzdősport terem\, Wartha Vince utca 3.\, Veszprém\, Veszprém\, 8200\, Hungary
CATEGORIES:Nyilvános sportkínálat
ATTACH;FMTTYPE=image/jpeg:https://sport.uni-pannon.hu/wp-content/uploads/2026/02/aikido.jpg
END:VEVENT
BEGIN:VEVENT
DTSTART;TZID=Europe/Budapest:20260312T190000
DTEND;TZID=Europe/Budapest:20260312T203000
DTSTAMP:20260424T072700
CREATED:20260211T135955Z
LAST-MODIFIED:20260312T135018Z
UID:10003985-1773342000-1773347400@sport.uni-pannon.hu
SUMMARY:Aikido
DESCRIPTION:Díjhoz kötött \n\nIdőpont: kedd\, csütörtök: 19:00-20:30\nhelyszín: VESC Küzdősport terem (VESC Küzdősport központ\, 8200 Veszprém\, Wartha Vince utca 3. (régi tornászgyakorló))\njelentkezés és további információ: Pál Szilárd +36 30 2270 715
URL:https://sport.uni-pannon.hu/event/aikido/2026-03-12/
LOCATION:VESC Küzdősport terem\, Wartha Vince utca 3.\, Veszprém\, Veszprém\, 8200\, Hungary
CATEGORIES:Nyilvános sportkínálat
ATTACH;FMTTYPE=image/jpeg:https://sport.uni-pannon.hu/wp-content/uploads/2026/02/aikido-1.jpg
END:VEVENT
BEGIN:VEVENT
DTSTART;TZID=Europe/Budapest:20260311T183000
DTEND;TZID=Europe/Budapest:20260311T200000
DTSTAMP:20260424T072700
CREATED:20260212T072851Z
LAST-MODIFIED:20260212T072851Z
UID:10001505-1773253800-1773259200@sport.uni-pannon.hu
SUMMARY:Ökölvívás
DESCRIPTION:Ár: 2.000Ft/fő/alkalom (diák- és alumni kedvezmény 30%)\, bérlet lehetőségekről további információ telefonon vagy e-mailen elérhető. \n\nHelyszín: Wartha Vince u. 3. VESC Küzdősport központ (régi tornászgyakorló)\nIdőpont: hétfő\, szerda\, péntek: 18:30-20:00\nTovábbi információ: Fontos Tamás\, tamasfontos@gmail.com
URL:https://sport.uni-pannon.hu/event/okolvivas/2026-03-11/
LOCATION:VESC Küzdősport terem\, Wartha Vince utca 3.\, Veszprém\, Veszprém\, 8200\, Hungary
CATEGORIES:Nyilvános sportkínálat
ATTACH;FMTTYPE=image/jpeg:https://sport.uni-pannon.hu/wp-content/uploads/2026/02/KBAL0164.jpg
END:VEVENT
BEGIN:VEVENT
DTSTART;TZID=Europe/Budapest:20260311T183000
DTEND;TZID=Europe/Budapest:20260311T200000
DTSTAMP:20260424T072700
CREATED:20260212T072207Z
LAST-MODIFIED:20260312T141258Z
UID:10000563-1773253800-1773259200@sport.uni-pannon.hu
SUMMARY:Grappling/ földharc
DESCRIPTION:Ár: 2.000Ft/fő/alkalom (diák- és alumni kedvezmény 30%)\, bérlet lehetőségekről további információ telefonon vagy e-mailen elérhető. \n\nHelyszín: Wartha Vince u. 3. VESC Küzdősport központ (régi tornászgyakorló)\nIdőpontok: hétfő\, szerda\, péntek: 18:30-20:00\nTovábbi információ: Fontos Tamás\, tamasfontos@gmail.com
URL:https://sport.uni-pannon.hu/event/grappling-foldharc/2026-03-11/
LOCATION:VESC Küzdősport terem\, Wartha Vince utca 3.\, Veszprém\, Veszprém\, 8200\, Hungary
CATEGORIES:Nyilvános sportkínálat
ATTACH;FMTTYPE=image/jpeg:https://sport.uni-pannon.hu/wp-content/uploads/2026/02/grappling-kickbox-okolvivas.jpeg
END:VEVENT
BEGIN:VEVENT
DTSTART;TZID=Europe/Budapest:20260311T171500
DTEND;TZID=Europe/Budapest:20260311T181500
DTSTAMP:20260424T072700
CREATED:20260212T072616Z
LAST-MODIFIED:20260227T112116Z
UID:10000720-1773249300-1773252900@sport.uni-pannon.hu
SUMMARY:Thai box/Kick-box
DESCRIPTION:Ár: 2.000Ft/fő/alkalom (diák- és alumni kedvezmény 30%)\, bérlet lehetőségekről további információ telefonon vagy e-mailen elérhető. \n\nHelyszín: Wartha Vince u. 3. VESC Küzdősport központ (régi tornászgyakorló)\nIdőpont: hétfő\, szerda\, péntek: 17:15-18:15\nTovábbi információ: Fontos Tamás\, tamasfontos@gmail.com
URL:https://sport.uni-pannon.hu/event/thai-box/2026-03-11/
LOCATION:VESC Küzdősport terem\, Wartha Vince utca 3.\, Veszprém\, Veszprém\, 8200\, Hungary
CATEGORIES:Nyilvános sportkínálat
ATTACH;FMTTYPE=image/jpeg:https://sport.uni-pannon.hu/wp-content/uploads/2026/02/Pesthy-Marton-PES_7142-20250716-scaled.jpg
END:VEVENT
BEGIN:VEVENT
DTSTART;TZID=Europe/Budapest:20260310T190000
DTEND;TZID=Europe/Budapest:20260310T203000
DTSTAMP:20260424T072700
CREATED:20260217T074253Z
LAST-MODIFIED:20260312T134844Z
UID:10003819-1773169200-1773174600@sport.uni-pannon.hu
SUMMARY:Aikido
DESCRIPTION:Díjhoz kötött \n\nIdőpont: kedd\, csütörtök: 19:00-20:30\nhelyszín: VESC Küzdősport terem (VESC Küzdősport központ\, 8200 Veszprém\, Wartha Vince utca 3. (régi tornászgyakorló))\njelentkezés és további információ: Pál Szilárd +36 30 2270 715
URL:https://sport.uni-pannon.hu/event/aikido-2/2026-03-10/
LOCATION:VESC Küzdősport terem\, Wartha Vince utca 3.\, Veszprém\, Veszprém\, 8200\, Hungary
CATEGORIES:Nyilvános sportkínálat
ATTACH;FMTTYPE=image/jpeg:https://sport.uni-pannon.hu/wp-content/uploads/2026/02/aikido.jpg
END:VEVENT
END:VCALENDAR