BEGIN:VCALENDAR
VERSION:2.0
PRODID:-//Sport Éve 2026 - ECPv6.15.20//NONSGML v1.0//EN
CALSCALE:GREGORIAN
METHOD:PUBLISH
X-ORIGINAL-URL:https://sport.uni-pannon.hu
X-WR-CALDESC:Események Sport Éve 2026
REFRESH-INTERVAL;VALUE=DURATION:PT1H
X-Robots-Tag:noindex
X-PUBLISHED-TTL:PT1H
BEGIN:VTIMEZONE
TZID:Europe/Budapest
BEGIN:DAYLIGHT
TZOFFSETFROM:+0100
TZOFFSETTO:+0200
TZNAME:CEST
DTSTART:20250330T010000
END:DAYLIGHT
BEGIN:STANDARD
TZOFFSETFROM:+0200
TZOFFSETTO:+0100
TZNAME:CET
DTSTART:20251026T010000
END:STANDARD
BEGIN:DAYLIGHT
TZOFFSETFROM:+0100
TZOFFSETTO:+0200
TZNAME:CEST
DTSTART:20260329T010000
END:DAYLIGHT
BEGIN:STANDARD
TZOFFSETFROM:+0200
TZOFFSETTO:+0100
TZNAME:CET
DTSTART:20261025T010000
END:STANDARD
BEGIN:DAYLIGHT
TZOFFSETFROM:+0100
TZOFFSETTO:+0200
TZNAME:CEST
DTSTART:20270328T010000
END:DAYLIGHT
BEGIN:STANDARD
TZOFFSETFROM:+0200
TZOFFSETTO:+0100
TZNAME:CET
DTSTART:20271031T010000
END:STANDARD
END:VTIMEZONE
BEGIN:VEVENT
DTSTART;TZID=Europe/Budapest:20260422T060000
DTEND;TZID=Europe/Budapest:20260422T073000
DTSTAMP:20260421T170154
CREATED:20260216T105538Z
LAST-MODIFIED:20260312T142438Z
UID:10003407-1776837600-1776843000@sport.uni-pannon.hu
SUMMARY:Vízi evezős edzések - VESC
DESCRIPTION:Időpont: hétfő\, szerda\, péntek: 06:00-07:30\nhétfő\, szerda: 15:30-17:30 (Amennyiben az időjárás nem teszi lehetővé a szabadtéri edzést\, a TSI ergo termében szárazedzés. A délutáni szárazedzések 15:30 helyett csak 16:00 órakor kezdődnek.)\nHelyszín: Veszprém\,\nDíjhoz kötött\, jelentkezés és további információ: szentessy.balazs@uni-pannon.hu
URL:https://sport.uni-pannon.hu/event/vizi-evezos-edzesek-vesc-3/2026-04-22/
LOCATION:Veszprém\, Veszprém\, Veszprém\, 8200\, Hungary
CATEGORIES:Nyilvános sportkínálat
ATTACH;FMTTYPE=image/jpeg:https://sport.uni-pannon.hu/wp-content/uploads/2026/02/vizi-evezos-edzes.jpg
END:VEVENT
BEGIN:VEVENT
DTSTART;TZID=Europe/Budapest:20260422T153000
DTEND;TZID=Europe/Budapest:20260422T173000
DTSTAMP:20260421T170154
CREATED:20260213T085602Z
LAST-MODIFIED:20260312T142500Z
UID:10003481-1776871800-1776879000@sport.uni-pannon.hu
SUMMARY:Vízi evezős edzések - VESC
DESCRIPTION:Időpont: hétfő\, szerda\, péntek: 06:00-07:30\nhétfő\, szerda: 15:30-17:30 (Amennyiben az időjárás nem teszi lehetővé a szabadtéri edzést\, a TSI ergo termében szárazedzés. A délutáni szárazedzések 15:30 helyett csak 16:00 órakor kezdődnek.)\nHelyszín: Veszprém\,\nDíjhoz kötött\, jelentkezés és további információ: szentessy.balazs@uni-pannon.hu
URL:https://sport.uni-pannon.hu/event/vizi-evezos-edzesek-vesc-2/2026-04-22/
LOCATION:Veszprém\, Veszprém\, Veszprém\, 8200\, Hungary
CATEGORIES:Nyilvános sportkínálat
ATTACH;FMTTYPE=image/jpeg:https://sport.uni-pannon.hu/wp-content/uploads/2026/02/vizi-evezos-edzes.jpg
END:VEVENT
BEGIN:VEVENT
DTSTART;TZID=Europe/Budapest:20260424T060000
DTEND;TZID=Europe/Budapest:20260424T073000
DTSTAMP:20260421T170154
CREATED:20260216T105538Z
LAST-MODIFIED:20260312T142438Z
UID:10003408-1777010400-1777015800@sport.uni-pannon.hu
SUMMARY:Vízi evezős edzések - VESC
DESCRIPTION:Időpont: hétfő\, szerda\, péntek: 06:00-07:30\nhétfő\, szerda: 15:30-17:30 (Amennyiben az időjárás nem teszi lehetővé a szabadtéri edzést\, a TSI ergo termében szárazedzés. A délutáni szárazedzések 15:30 helyett csak 16:00 órakor kezdődnek.)\nHelyszín: Veszprém\,\nDíjhoz kötött\, jelentkezés és további információ: szentessy.balazs@uni-pannon.hu
URL:https://sport.uni-pannon.hu/event/vizi-evezos-edzesek-vesc-3/2026-04-24/
LOCATION:Veszprém\, Veszprém\, Veszprém\, 8200\, Hungary
CATEGORIES:Nyilvános sportkínálat
ATTACH;FMTTYPE=image/jpeg:https://sport.uni-pannon.hu/wp-content/uploads/2026/02/vizi-evezos-edzes.jpg
END:VEVENT
BEGIN:VEVENT
DTSTART;TZID=Europe/Budapest:20260427T060000
DTEND;TZID=Europe/Budapest:20260427T073000
DTSTAMP:20260421T170154
CREATED:20260216T105538Z
LAST-MODIFIED:20260312T142438Z
UID:10003409-1777269600-1777275000@sport.uni-pannon.hu
SUMMARY:Vízi evezős edzések - VESC
DESCRIPTION:Időpont: hétfő\, szerda\, péntek: 06:00-07:30\nhétfő\, szerda: 15:30-17:30 (Amennyiben az időjárás nem teszi lehetővé a szabadtéri edzést\, a TSI ergo termében szárazedzés. A délutáni szárazedzések 15:30 helyett csak 16:00 órakor kezdődnek.)\nHelyszín: Veszprém\,\nDíjhoz kötött\, jelentkezés és további információ: szentessy.balazs@uni-pannon.hu
URL:https://sport.uni-pannon.hu/event/vizi-evezos-edzesek-vesc-3/2026-04-27/
LOCATION:Veszprém\, Veszprém\, Veszprém\, 8200\, Hungary
CATEGORIES:Nyilvános sportkínálat
ATTACH;FMTTYPE=image/jpeg:https://sport.uni-pannon.hu/wp-content/uploads/2026/02/vizi-evezos-edzes.jpg
END:VEVENT
BEGIN:VEVENT
DTSTART;TZID=Europe/Budapest:20260427T153000
DTEND;TZID=Europe/Budapest:20260427T173000
DTSTAMP:20260421T170154
CREATED:20260213T085602Z
LAST-MODIFIED:20260312T142500Z
UID:10003482-1777303800-1777311000@sport.uni-pannon.hu
SUMMARY:Vízi evezős edzések - VESC
DESCRIPTION:Időpont: hétfő\, szerda\, péntek: 06:00-07:30\nhétfő\, szerda: 15:30-17:30 (Amennyiben az időjárás nem teszi lehetővé a szabadtéri edzést\, a TSI ergo termében szárazedzés. A délutáni szárazedzések 15:30 helyett csak 16:00 órakor kezdődnek.)\nHelyszín: Veszprém\,\nDíjhoz kötött\, jelentkezés és további információ: szentessy.balazs@uni-pannon.hu
URL:https://sport.uni-pannon.hu/event/vizi-evezos-edzesek-vesc-2/2026-04-27/
LOCATION:Veszprém\, Veszprém\, Veszprém\, 8200\, Hungary
CATEGORIES:Nyilvános sportkínálat
ATTACH;FMTTYPE=image/jpeg:https://sport.uni-pannon.hu/wp-content/uploads/2026/02/vizi-evezos-edzes.jpg
END:VEVENT
BEGIN:VEVENT
DTSTART;TZID=Europe/Budapest:20260429T060000
DTEND;TZID=Europe/Budapest:20260429T073000
DTSTAMP:20260421T170154
CREATED:20260216T105538Z
LAST-MODIFIED:20260312T142438Z
UID:10003410-1777442400-1777447800@sport.uni-pannon.hu
SUMMARY:Vízi evezős edzések - VESC
DESCRIPTION:Időpont: hétfő\, szerda\, péntek: 06:00-07:30\nhétfő\, szerda: 15:30-17:30 (Amennyiben az időjárás nem teszi lehetővé a szabadtéri edzést\, a TSI ergo termében szárazedzés. A délutáni szárazedzések 15:30 helyett csak 16:00 órakor kezdődnek.)\nHelyszín: Veszprém\,\nDíjhoz kötött\, jelentkezés és további információ: szentessy.balazs@uni-pannon.hu
URL:https://sport.uni-pannon.hu/event/vizi-evezos-edzesek-vesc-3/2026-04-29/
LOCATION:Veszprém\, Veszprém\, Veszprém\, 8200\, Hungary
CATEGORIES:Nyilvános sportkínálat
ATTACH;FMTTYPE=image/jpeg:https://sport.uni-pannon.hu/wp-content/uploads/2026/02/vizi-evezos-edzes.jpg
END:VEVENT
BEGIN:VEVENT
DTSTART;TZID=Europe/Budapest:20260429T153000
DTEND;TZID=Europe/Budapest:20260429T173000
DTSTAMP:20260421T170154
CREATED:20260213T085602Z
LAST-MODIFIED:20260312T142500Z
UID:10003483-1777476600-1777483800@sport.uni-pannon.hu
SUMMARY:Vízi evezős edzések - VESC
DESCRIPTION:Időpont: hétfő\, szerda\, péntek: 06:00-07:30\nhétfő\, szerda: 15:30-17:30 (Amennyiben az időjárás nem teszi lehetővé a szabadtéri edzést\, a TSI ergo termében szárazedzés. A délutáni szárazedzések 15:30 helyett csak 16:00 órakor kezdődnek.)\nHelyszín: Veszprém\,\nDíjhoz kötött\, jelentkezés és további információ: szentessy.balazs@uni-pannon.hu
URL:https://sport.uni-pannon.hu/event/vizi-evezos-edzesek-vesc-2/2026-04-29/
LOCATION:Veszprém\, Veszprém\, Veszprém\, 8200\, Hungary
CATEGORIES:Nyilvános sportkínálat
ATTACH;FMTTYPE=image/jpeg:https://sport.uni-pannon.hu/wp-content/uploads/2026/02/vizi-evezos-edzes.jpg
END:VEVENT
BEGIN:VEVENT
DTSTART;TZID=Europe/Budapest:20260501T060000
DTEND;TZID=Europe/Budapest:20260501T073000
DTSTAMP:20260421T170154
CREATED:20260216T105538Z
LAST-MODIFIED:20260312T142438Z
UID:10003411-1777615200-1777620600@sport.uni-pannon.hu
SUMMARY:Vízi evezős edzések - VESC
DESCRIPTION:Időpont: hétfő\, szerda\, péntek: 06:00-07:30\nhétfő\, szerda: 15:30-17:30 (Amennyiben az időjárás nem teszi lehetővé a szabadtéri edzést\, a TSI ergo termében szárazedzés. A délutáni szárazedzések 15:30 helyett csak 16:00 órakor kezdődnek.)\nHelyszín: Veszprém\,\nDíjhoz kötött\, jelentkezés és további információ: szentessy.balazs@uni-pannon.hu
URL:https://sport.uni-pannon.hu/event/vizi-evezos-edzesek-vesc-3/2026-05-01/
LOCATION:Veszprém\, Veszprém\, Veszprém\, 8200\, Hungary
CATEGORIES:Nyilvános sportkínálat
ATTACH;FMTTYPE=image/jpeg:https://sport.uni-pannon.hu/wp-content/uploads/2026/02/vizi-evezos-edzes.jpg
END:VEVENT
BEGIN:VEVENT
DTSTART;TZID=Europe/Budapest:20260504T060000
DTEND;TZID=Europe/Budapest:20260504T073000
DTSTAMP:20260421T170154
CREATED:20260216T105538Z
LAST-MODIFIED:20260312T142438Z
UID:10003412-1777874400-1777879800@sport.uni-pannon.hu
SUMMARY:Vízi evezős edzések - VESC
DESCRIPTION:Időpont: hétfő\, szerda\, péntek: 06:00-07:30\nhétfő\, szerda: 15:30-17:30 (Amennyiben az időjárás nem teszi lehetővé a szabadtéri edzést\, a TSI ergo termében szárazedzés. A délutáni szárazedzések 15:30 helyett csak 16:00 órakor kezdődnek.)\nHelyszín: Veszprém\,\nDíjhoz kötött\, jelentkezés és további információ: szentessy.balazs@uni-pannon.hu
URL:https://sport.uni-pannon.hu/event/vizi-evezos-edzesek-vesc-3/2026-05-04/
LOCATION:Veszprém\, Veszprém\, Veszprém\, 8200\, Hungary
CATEGORIES:Nyilvános sportkínálat
ATTACH;FMTTYPE=image/jpeg:https://sport.uni-pannon.hu/wp-content/uploads/2026/02/vizi-evezos-edzes.jpg
END:VEVENT
BEGIN:VEVENT
DTSTART;TZID=Europe/Budapest:20260504T153000
DTEND;TZID=Europe/Budapest:20260504T173000
DTSTAMP:20260421T170154
CREATED:20260213T085602Z
LAST-MODIFIED:20260312T142500Z
UID:10003484-1777908600-1777915800@sport.uni-pannon.hu
SUMMARY:Vízi evezős edzések - VESC
DESCRIPTION:Időpont: hétfő\, szerda\, péntek: 06:00-07:30\nhétfő\, szerda: 15:30-17:30 (Amennyiben az időjárás nem teszi lehetővé a szabadtéri edzést\, a TSI ergo termében szárazedzés. A délutáni szárazedzések 15:30 helyett csak 16:00 órakor kezdődnek.)\nHelyszín: Veszprém\,\nDíjhoz kötött\, jelentkezés és további információ: szentessy.balazs@uni-pannon.hu
URL:https://sport.uni-pannon.hu/event/vizi-evezos-edzesek-vesc-2/2026-05-04/
LOCATION:Veszprém\, Veszprém\, Veszprém\, 8200\, Hungary
CATEGORIES:Nyilvános sportkínálat
ATTACH;FMTTYPE=image/jpeg:https://sport.uni-pannon.hu/wp-content/uploads/2026/02/vizi-evezos-edzes.jpg
END:VEVENT
BEGIN:VEVENT
DTSTART;TZID=Europe/Budapest:20260506T060000
DTEND;TZID=Europe/Budapest:20260506T073000
DTSTAMP:20260421T170154
CREATED:20260216T105538Z
LAST-MODIFIED:20260312T142438Z
UID:10003413-1778047200-1778052600@sport.uni-pannon.hu
SUMMARY:Vízi evezős edzések - VESC
DESCRIPTION:Időpont: hétfő\, szerda\, péntek: 06:00-07:30\nhétfő\, szerda: 15:30-17:30 (Amennyiben az időjárás nem teszi lehetővé a szabadtéri edzést\, a TSI ergo termében szárazedzés. A délutáni szárazedzések 15:30 helyett csak 16:00 órakor kezdődnek.)\nHelyszín: Veszprém\,\nDíjhoz kötött\, jelentkezés és további információ: szentessy.balazs@uni-pannon.hu
URL:https://sport.uni-pannon.hu/event/vizi-evezos-edzesek-vesc-3/2026-05-06/
LOCATION:Veszprém\, Veszprém\, Veszprém\, 8200\, Hungary
CATEGORIES:Nyilvános sportkínálat
ATTACH;FMTTYPE=image/jpeg:https://sport.uni-pannon.hu/wp-content/uploads/2026/02/vizi-evezos-edzes.jpg
END:VEVENT
BEGIN:VEVENT
DTSTART;TZID=Europe/Budapest:20260506T153000
DTEND;TZID=Europe/Budapest:20260506T173000
DTSTAMP:20260421T170154
CREATED:20260213T085602Z
LAST-MODIFIED:20260312T142500Z
UID:10003485-1778081400-1778088600@sport.uni-pannon.hu
SUMMARY:Vízi evezős edzések - VESC
DESCRIPTION:Időpont: hétfő\, szerda\, péntek: 06:00-07:30\nhétfő\, szerda: 15:30-17:30 (Amennyiben az időjárás nem teszi lehetővé a szabadtéri edzést\, a TSI ergo termében szárazedzés. A délutáni szárazedzések 15:30 helyett csak 16:00 órakor kezdődnek.)\nHelyszín: Veszprém\,\nDíjhoz kötött\, jelentkezés és további információ: szentessy.balazs@uni-pannon.hu
URL:https://sport.uni-pannon.hu/event/vizi-evezos-edzesek-vesc-2/2026-05-06/
LOCATION:Veszprém\, Veszprém\, Veszprém\, 8200\, Hungary
CATEGORIES:Nyilvános sportkínálat
ATTACH;FMTTYPE=image/jpeg:https://sport.uni-pannon.hu/wp-content/uploads/2026/02/vizi-evezos-edzes.jpg
END:VEVENT
BEGIN:VEVENT
DTSTART;TZID=Europe/Budapest:20260508T060000
DTEND;TZID=Europe/Budapest:20260508T073000
DTSTAMP:20260421T170154
CREATED:20260216T105538Z
LAST-MODIFIED:20260312T142438Z
UID:10003414-1778220000-1778225400@sport.uni-pannon.hu
SUMMARY:Vízi evezős edzések - VESC
DESCRIPTION:Időpont: hétfő\, szerda\, péntek: 06:00-07:30\nhétfő\, szerda: 15:30-17:30 (Amennyiben az időjárás nem teszi lehetővé a szabadtéri edzést\, a TSI ergo termében szárazedzés. A délutáni szárazedzések 15:30 helyett csak 16:00 órakor kezdődnek.)\nHelyszín: Veszprém\,\nDíjhoz kötött\, jelentkezés és további információ: szentessy.balazs@uni-pannon.hu
URL:https://sport.uni-pannon.hu/event/vizi-evezos-edzesek-vesc-3/2026-05-08/
LOCATION:Veszprém\, Veszprém\, Veszprém\, 8200\, Hungary
CATEGORIES:Nyilvános sportkínálat
ATTACH;FMTTYPE=image/jpeg:https://sport.uni-pannon.hu/wp-content/uploads/2026/02/vizi-evezos-edzes.jpg
END:VEVENT
BEGIN:VEVENT
DTSTART;TZID=Europe/Budapest:20260511T060000
DTEND;TZID=Europe/Budapest:20260511T073000
DTSTAMP:20260421T170154
CREATED:20260216T105538Z
LAST-MODIFIED:20260312T142438Z
UID:10003415-1778479200-1778484600@sport.uni-pannon.hu
SUMMARY:Vízi evezős edzések - VESC
DESCRIPTION:Időpont: hétfő\, szerda\, péntek: 06:00-07:30\nhétfő\, szerda: 15:30-17:30 (Amennyiben az időjárás nem teszi lehetővé a szabadtéri edzést\, a TSI ergo termében szárazedzés. A délutáni szárazedzések 15:30 helyett csak 16:00 órakor kezdődnek.)\nHelyszín: Veszprém\,\nDíjhoz kötött\, jelentkezés és további információ: szentessy.balazs@uni-pannon.hu
URL:https://sport.uni-pannon.hu/event/vizi-evezos-edzesek-vesc-3/2026-05-11/
LOCATION:Veszprém\, Veszprém\, Veszprém\, 8200\, Hungary
CATEGORIES:Nyilvános sportkínálat
ATTACH;FMTTYPE=image/jpeg:https://sport.uni-pannon.hu/wp-content/uploads/2026/02/vizi-evezos-edzes.jpg
END:VEVENT
BEGIN:VEVENT
DTSTART;TZID=Europe/Budapest:20260511T153000
DTEND;TZID=Europe/Budapest:20260511T173000
DTSTAMP:20260421T170154
CREATED:20260213T085602Z
LAST-MODIFIED:20260312T142500Z
UID:10003486-1778513400-1778520600@sport.uni-pannon.hu
SUMMARY:Vízi evezős edzések - VESC
DESCRIPTION:Időpont: hétfő\, szerda\, péntek: 06:00-07:30\nhétfő\, szerda: 15:30-17:30 (Amennyiben az időjárás nem teszi lehetővé a szabadtéri edzést\, a TSI ergo termében szárazedzés. A délutáni szárazedzések 15:30 helyett csak 16:00 órakor kezdődnek.)\nHelyszín: Veszprém\,\nDíjhoz kötött\, jelentkezés és további információ: szentessy.balazs@uni-pannon.hu
URL:https://sport.uni-pannon.hu/event/vizi-evezos-edzesek-vesc-2/2026-05-11/
LOCATION:Veszprém\, Veszprém\, Veszprém\, 8200\, Hungary
CATEGORIES:Nyilvános sportkínálat
ATTACH;FMTTYPE=image/jpeg:https://sport.uni-pannon.hu/wp-content/uploads/2026/02/vizi-evezos-edzes.jpg
END:VEVENT
BEGIN:VEVENT
DTSTART;TZID=Europe/Budapest:20260513T060000
DTEND;TZID=Europe/Budapest:20260513T073000
DTSTAMP:20260421T170154
CREATED:20260216T105538Z
LAST-MODIFIED:20260312T142438Z
UID:10003416-1778652000-1778657400@sport.uni-pannon.hu
SUMMARY:Vízi evezős edzések - VESC
DESCRIPTION:Időpont: hétfő\, szerda\, péntek: 06:00-07:30\nhétfő\, szerda: 15:30-17:30 (Amennyiben az időjárás nem teszi lehetővé a szabadtéri edzést\, a TSI ergo termében szárazedzés. A délutáni szárazedzések 15:30 helyett csak 16:00 órakor kezdődnek.)\nHelyszín: Veszprém\,\nDíjhoz kötött\, jelentkezés és további információ: szentessy.balazs@uni-pannon.hu
URL:https://sport.uni-pannon.hu/event/vizi-evezos-edzesek-vesc-3/2026-05-13/
LOCATION:Veszprém\, Veszprém\, Veszprém\, 8200\, Hungary
CATEGORIES:Nyilvános sportkínálat
ATTACH;FMTTYPE=image/jpeg:https://sport.uni-pannon.hu/wp-content/uploads/2026/02/vizi-evezos-edzes.jpg
END:VEVENT
BEGIN:VEVENT
DTSTART;TZID=Europe/Budapest:20260513T153000
DTEND;TZID=Europe/Budapest:20260513T173000
DTSTAMP:20260421T170154
CREATED:20260213T085602Z
LAST-MODIFIED:20260312T142500Z
UID:10003487-1778686200-1778693400@sport.uni-pannon.hu
SUMMARY:Vízi evezős edzések - VESC
DESCRIPTION:Időpont: hétfő\, szerda\, péntek: 06:00-07:30\nhétfő\, szerda: 15:30-17:30 (Amennyiben az időjárás nem teszi lehetővé a szabadtéri edzést\, a TSI ergo termében szárazedzés. A délutáni szárazedzések 15:30 helyett csak 16:00 órakor kezdődnek.)\nHelyszín: Veszprém\,\nDíjhoz kötött\, jelentkezés és további információ: szentessy.balazs@uni-pannon.hu
URL:https://sport.uni-pannon.hu/event/vizi-evezos-edzesek-vesc-2/2026-05-13/
LOCATION:Veszprém\, Veszprém\, Veszprém\, 8200\, Hungary
CATEGORIES:Nyilvános sportkínálat
ATTACH;FMTTYPE=image/jpeg:https://sport.uni-pannon.hu/wp-content/uploads/2026/02/vizi-evezos-edzes.jpg
END:VEVENT
BEGIN:VEVENT
DTSTART;TZID=Europe/Budapest:20260515T060000
DTEND;TZID=Europe/Budapest:20260515T073000
DTSTAMP:20260421T170154
CREATED:20260216T105538Z
LAST-MODIFIED:20260312T142438Z
UID:10003417-1778824800-1778830200@sport.uni-pannon.hu
SUMMARY:Vízi evezős edzések - VESC
DESCRIPTION:Időpont: hétfő\, szerda\, péntek: 06:00-07:30\nhétfő\, szerda: 15:30-17:30 (Amennyiben az időjárás nem teszi lehetővé a szabadtéri edzést\, a TSI ergo termében szárazedzés. A délutáni szárazedzések 15:30 helyett csak 16:00 órakor kezdődnek.)\nHelyszín: Veszprém\,\nDíjhoz kötött\, jelentkezés és további információ: szentessy.balazs@uni-pannon.hu
URL:https://sport.uni-pannon.hu/event/vizi-evezos-edzesek-vesc-3/2026-05-15/
LOCATION:Veszprém\, Veszprém\, Veszprém\, 8200\, Hungary
CATEGORIES:Nyilvános sportkínálat
ATTACH;FMTTYPE=image/jpeg:https://sport.uni-pannon.hu/wp-content/uploads/2026/02/vizi-evezos-edzes.jpg
END:VEVENT
END:VCALENDAR