BEGIN:VCALENDAR
VERSION:2.0
PRODID:-//Sport Éve 2026 - ECPv6.15.20//NONSGML v1.0//EN
CALSCALE:GREGORIAN
METHOD:PUBLISH
X-WR-CALNAME:Sport Éve 2026
X-ORIGINAL-URL:https://sport.uni-pannon.hu
X-WR-CALDESC:Események Sport Éve 2026
REFRESH-INTERVAL;VALUE=DURATION:PT1H
X-Robots-Tag:noindex
X-PUBLISHED-TTL:PT1H
BEGIN:VTIMEZONE
TZID:Europe/Budapest
BEGIN:DAYLIGHT
TZOFFSETFROM:+0100
TZOFFSETTO:+0200
TZNAME:CEST
DTSTART:20250330T010000
END:DAYLIGHT
BEGIN:STANDARD
TZOFFSETFROM:+0200
TZOFFSETTO:+0100
TZNAME:CET
DTSTART:20251026T010000
END:STANDARD
BEGIN:DAYLIGHT
TZOFFSETFROM:+0100
TZOFFSETTO:+0200
TZNAME:CEST
DTSTART:20260329T010000
END:DAYLIGHT
BEGIN:STANDARD
TZOFFSETFROM:+0200
TZOFFSETTO:+0100
TZNAME:CET
DTSTART:20261025T010000
END:STANDARD
BEGIN:DAYLIGHT
TZOFFSETFROM:+0100
TZOFFSETTO:+0200
TZNAME:CEST
DTSTART:20270328T010000
END:DAYLIGHT
BEGIN:STANDARD
TZOFFSETFROM:+0200
TZOFFSETTO:+0100
TZNAME:CET
DTSTART:20271031T010000
END:STANDARD
END:VTIMEZONE
BEGIN:VEVENT
DTSTART;TZID=Europe/Budapest:20260421T160000
DTEND;TZID=Europe/Budapest:20260421T173000
DTSTAMP:20260423T025931
CREATED:20260204T110918Z
LAST-MODIFIED:20260219T094348Z
UID:10000013-1776787200-1776792600@sport.uni-pannon.hu
SUMMARY:Köredzés (dolgozói)
DESCRIPTION:Minden izomcsoportra kiterjedő erősítő gyakorlatok köredzés formában eszközökkel és eszközök nélkül. A foglalkozáson való részvétel előzetes regisztrációhoz kötött! Regisztráció és további információ a megadott e-mail címen lehetséges. Térítésmentes egyetemi dolgozók részére. \n\nIdőpont: kedd 16:00-17:30\nÓratartó: Szigeti-Osváth Erzsébet\nHelyszín: Vívóterem\nElérhetőség: szigeti-osvath.erzsebet@uni-pannon.hu
URL:https://sport.uni-pannon.hu/event/koredzes-dolgozoi/2026-04-21/
LOCATION:Vívóterem\, Egyetem utca 10.\, Veszprém\, Veszprém\, 8200\, Hungary
CATEGORIES:Dolgozói sportkínálat
ATTACH;FMTTYPE=image/jpeg:https://sport.uni-pannon.hu/wp-content/uploads/2026/02/koredzes-sml.jpg
ORGANIZER;CN="Szigeti-Osv%C3%A1th Erzs%C3%A9bet":MAILTO:szigeti-osvath.erzsebet@uni-pannon.hu
END:VEVENT
BEGIN:VEVENT
DTSTART;TZID=Europe/Budapest:20260414T160000
DTEND;TZID=Europe/Budapest:20260414T173000
DTSTAMP:20260423T025931
CREATED:20260204T110918Z
LAST-MODIFIED:20260219T094348Z
UID:10000012-1776182400-1776187800@sport.uni-pannon.hu
SUMMARY:Köredzés (dolgozói)
DESCRIPTION:Minden izomcsoportra kiterjedő erősítő gyakorlatok köredzés formában eszközökkel és eszközök nélkül. A foglalkozáson való részvétel előzetes regisztrációhoz kötött! Regisztráció és további információ a megadott e-mail címen lehetséges. Térítésmentes egyetemi dolgozók részére. \n\nIdőpont: kedd 16:00-17:30\nÓratartó: Szigeti-Osváth Erzsébet\nHelyszín: Vívóterem\nElérhetőség: szigeti-osvath.erzsebet@uni-pannon.hu
URL:https://sport.uni-pannon.hu/event/koredzes-dolgozoi/2026-04-14/
LOCATION:Vívóterem\, Egyetem utca 10.\, Veszprém\, Veszprém\, 8200\, Hungary
CATEGORIES:Dolgozói sportkínálat
ATTACH;FMTTYPE=image/jpeg:https://sport.uni-pannon.hu/wp-content/uploads/2026/02/koredzes-sml.jpg
ORGANIZER;CN="Szigeti-Osv%C3%A1th Erzs%C3%A9bet":MAILTO:szigeti-osvath.erzsebet@uni-pannon.hu
END:VEVENT
BEGIN:VEVENT
DTSTART;TZID=Europe/Budapest:20260407T160000
DTEND;TZID=Europe/Budapest:20260407T173000
DTSTAMP:20260423T025931
CREATED:20260204T110918Z
LAST-MODIFIED:20260219T094348Z
UID:10000011-1775577600-1775583000@sport.uni-pannon.hu
SUMMARY:Köredzés (dolgozói)
DESCRIPTION:Minden izomcsoportra kiterjedő erősítő gyakorlatok köredzés formában eszközökkel és eszközök nélkül. A foglalkozáson való részvétel előzetes regisztrációhoz kötött! Regisztráció és további információ a megadott e-mail címen lehetséges. Térítésmentes egyetemi dolgozók részére. \n\nIdőpont: kedd 16:00-17:30\nÓratartó: Szigeti-Osváth Erzsébet\nHelyszín: Vívóterem\nElérhetőség: szigeti-osvath.erzsebet@uni-pannon.hu
URL:https://sport.uni-pannon.hu/event/koredzes-dolgozoi/2026-04-07/
LOCATION:Vívóterem\, Egyetem utca 10.\, Veszprém\, Veszprém\, 8200\, Hungary
CATEGORIES:Dolgozói sportkínálat
ATTACH;FMTTYPE=image/jpeg:https://sport.uni-pannon.hu/wp-content/uploads/2026/02/koredzes-sml.jpg
ORGANIZER;CN="Szigeti-Osv%C3%A1th Erzs%C3%A9bet":MAILTO:szigeti-osvath.erzsebet@uni-pannon.hu
END:VEVENT
BEGIN:VEVENT
DTSTART;TZID=Europe/Budapest:20260331T160000
DTEND;TZID=Europe/Budapest:20260331T173000
DTSTAMP:20260423T025931
CREATED:20260204T110918Z
LAST-MODIFIED:20260219T094348Z
UID:10000010-1774972800-1774978200@sport.uni-pannon.hu
SUMMARY:Köredzés (dolgozói)
DESCRIPTION:Minden izomcsoportra kiterjedő erősítő gyakorlatok köredzés formában eszközökkel és eszközök nélkül. A foglalkozáson való részvétel előzetes regisztrációhoz kötött! Regisztráció és további információ a megadott e-mail címen lehetséges. Térítésmentes egyetemi dolgozók részére. \n\nIdőpont: kedd 16:00-17:30\nÓratartó: Szigeti-Osváth Erzsébet\nHelyszín: Vívóterem\nElérhetőség: szigeti-osvath.erzsebet@uni-pannon.hu
URL:https://sport.uni-pannon.hu/event/koredzes-dolgozoi/2026-03-31/
LOCATION:Vívóterem\, Egyetem utca 10.\, Veszprém\, Veszprém\, 8200\, Hungary
CATEGORIES:Dolgozói sportkínálat
ATTACH;FMTTYPE=image/jpeg:https://sport.uni-pannon.hu/wp-content/uploads/2026/02/koredzes-sml.jpg
ORGANIZER;CN="Szigeti-Osv%C3%A1th Erzs%C3%A9bet":MAILTO:szigeti-osvath.erzsebet@uni-pannon.hu
END:VEVENT
BEGIN:VEVENT
DTSTART;TZID=Europe/Budapest:20260324T160000
DTEND;TZID=Europe/Budapest:20260324T173000
DTSTAMP:20260423T025931
CREATED:20260204T110918Z
LAST-MODIFIED:20260219T094348Z
UID:10000009-1774368000-1774373400@sport.uni-pannon.hu
SUMMARY:Köredzés (dolgozói)
DESCRIPTION:Minden izomcsoportra kiterjedő erősítő gyakorlatok köredzés formában eszközökkel és eszközök nélkül. A foglalkozáson való részvétel előzetes regisztrációhoz kötött! Regisztráció és további információ a megadott e-mail címen lehetséges. Térítésmentes egyetemi dolgozók részére. \n\nIdőpont: kedd 16:00-17:30\nÓratartó: Szigeti-Osváth Erzsébet\nHelyszín: Vívóterem\nElérhetőség: szigeti-osvath.erzsebet@uni-pannon.hu
URL:https://sport.uni-pannon.hu/event/koredzes-dolgozoi/2026-03-24/
LOCATION:Vívóterem\, Egyetem utca 10.\, Veszprém\, Veszprém\, 8200\, Hungary
CATEGORIES:Dolgozói sportkínálat
ATTACH;FMTTYPE=image/jpeg:https://sport.uni-pannon.hu/wp-content/uploads/2026/02/koredzes-sml.jpg
ORGANIZER;CN="Szigeti-Osv%C3%A1th Erzs%C3%A9bet":MAILTO:szigeti-osvath.erzsebet@uni-pannon.hu
END:VEVENT
BEGIN:VEVENT
DTSTART;TZID=Europe/Budapest:20260317T160000
DTEND;TZID=Europe/Budapest:20260317T173000
DTSTAMP:20260423T025931
CREATED:20260204T110918Z
LAST-MODIFIED:20260219T094348Z
UID:10000008-1773763200-1773768600@sport.uni-pannon.hu
SUMMARY:Köredzés (dolgozói)
DESCRIPTION:Minden izomcsoportra kiterjedő erősítő gyakorlatok köredzés formában eszközökkel és eszközök nélkül. A foglalkozáson való részvétel előzetes regisztrációhoz kötött! Regisztráció és további információ a megadott e-mail címen lehetséges. Térítésmentes egyetemi dolgozók részére. \n\nIdőpont: kedd 16:00-17:30\nÓratartó: Szigeti-Osváth Erzsébet\nHelyszín: Vívóterem\nElérhetőség: szigeti-osvath.erzsebet@uni-pannon.hu
URL:https://sport.uni-pannon.hu/event/koredzes-dolgozoi/2026-03-17/
LOCATION:Vívóterem\, Egyetem utca 10.\, Veszprém\, Veszprém\, 8200\, Hungary
CATEGORIES:Dolgozói sportkínálat
ATTACH;FMTTYPE=image/jpeg:https://sport.uni-pannon.hu/wp-content/uploads/2026/02/koredzes-sml.jpg
ORGANIZER;CN="Szigeti-Osv%C3%A1th Erzs%C3%A9bet":MAILTO:szigeti-osvath.erzsebet@uni-pannon.hu
END:VEVENT
BEGIN:VEVENT
DTSTART;TZID=Europe/Budapest:20260310T160000
DTEND;TZID=Europe/Budapest:20260310T173000
DTSTAMP:20260423T025931
CREATED:20260204T110918Z
LAST-MODIFIED:20260219T094348Z
UID:10000007-1773158400-1773163800@sport.uni-pannon.hu
SUMMARY:Köredzés (dolgozói)
DESCRIPTION:Minden izomcsoportra kiterjedő erősítő gyakorlatok köredzés formában eszközökkel és eszközök nélkül. A foglalkozáson való részvétel előzetes regisztrációhoz kötött! Regisztráció és további információ a megadott e-mail címen lehetséges. Térítésmentes egyetemi dolgozók részére. \n\nIdőpont: kedd 16:00-17:30\nÓratartó: Szigeti-Osváth Erzsébet\nHelyszín: Vívóterem\nElérhetőség: szigeti-osvath.erzsebet@uni-pannon.hu
URL:https://sport.uni-pannon.hu/event/koredzes-dolgozoi/2026-03-10/
LOCATION:Vívóterem\, Egyetem utca 10.\, Veszprém\, Veszprém\, 8200\, Hungary
CATEGORIES:Dolgozói sportkínálat
ATTACH;FMTTYPE=image/jpeg:https://sport.uni-pannon.hu/wp-content/uploads/2026/02/koredzes-sml.jpg
ORGANIZER;CN="Szigeti-Osv%C3%A1th Erzs%C3%A9bet":MAILTO:szigeti-osvath.erzsebet@uni-pannon.hu
END:VEVENT
BEGIN:VEVENT
DTSTART;TZID=Europe/Budapest:20260303T160000
DTEND;TZID=Europe/Budapest:20260303T173000
DTSTAMP:20260423T025931
CREATED:20260204T110918Z
LAST-MODIFIED:20260219T094348Z
UID:10000006-1772553600-1772559000@sport.uni-pannon.hu
SUMMARY:Köredzés (dolgozói)
DESCRIPTION:Minden izomcsoportra kiterjedő erősítő gyakorlatok köredzés formában eszközökkel és eszközök nélkül. A foglalkozáson való részvétel előzetes regisztrációhoz kötött! Regisztráció és további információ a megadott e-mail címen lehetséges. Térítésmentes egyetemi dolgozók részére. \n\nIdőpont: kedd 16:00-17:30\nÓratartó: Szigeti-Osváth Erzsébet\nHelyszín: Vívóterem\nElérhetőség: szigeti-osvath.erzsebet@uni-pannon.hu
URL:https://sport.uni-pannon.hu/event/koredzes-dolgozoi/2026-03-03/
LOCATION:Vívóterem\, Egyetem utca 10.\, Veszprém\, Veszprém\, 8200\, Hungary
CATEGORIES:Dolgozói sportkínálat
ATTACH;FMTTYPE=image/jpeg:https://sport.uni-pannon.hu/wp-content/uploads/2026/02/koredzes-sml.jpg
ORGANIZER;CN="Szigeti-Osv%C3%A1th Erzs%C3%A9bet":MAILTO:szigeti-osvath.erzsebet@uni-pannon.hu
END:VEVENT
BEGIN:VEVENT
DTSTART;TZID=Europe/Budapest:20260224T160000
DTEND;TZID=Europe/Budapest:20260224T173000
DTSTAMP:20260423T025931
CREATED:20260204T110918Z
LAST-MODIFIED:20260219T094348Z
UID:10000005-1771948800-1771954200@sport.uni-pannon.hu
SUMMARY:Köredzés (dolgozói)
DESCRIPTION:Minden izomcsoportra kiterjedő erősítő gyakorlatok köredzés formában eszközökkel és eszközök nélkül. A foglalkozáson való részvétel előzetes regisztrációhoz kötött! Regisztráció és további információ a megadott e-mail címen lehetséges. Térítésmentes egyetemi dolgozók részére. \n\nIdőpont: kedd 16:00-17:30\nÓratartó: Szigeti-Osváth Erzsébet\nHelyszín: Vívóterem\nElérhetőség: szigeti-osvath.erzsebet@uni-pannon.hu
URL:https://sport.uni-pannon.hu/event/koredzes-dolgozoi/2026-02-24/
LOCATION:Vívóterem\, Egyetem utca 10.\, Veszprém\, Veszprém\, 8200\, Hungary
CATEGORIES:Dolgozói sportkínálat
ATTACH;FMTTYPE=image/jpeg:https://sport.uni-pannon.hu/wp-content/uploads/2026/02/koredzes-sml.jpg
ORGANIZER;CN="Szigeti-Osv%C3%A1th Erzs%C3%A9bet":MAILTO:szigeti-osvath.erzsebet@uni-pannon.hu
END:VEVENT
BEGIN:VEVENT
DTSTART;TZID=Europe/Budapest:20260217T160000
DTEND;TZID=Europe/Budapest:20260217T173000
DTSTAMP:20260423T025931
CREATED:20260204T110918Z
LAST-MODIFIED:20260219T094348Z
UID:10000004-1771344000-1771349400@sport.uni-pannon.hu
SUMMARY:Köredzés (dolgozói)
DESCRIPTION:Minden izomcsoportra kiterjedő erősítő gyakorlatok köredzés formában eszközökkel és eszközök nélkül. A foglalkozáson való részvétel előzetes regisztrációhoz kötött! Regisztráció és további információ a megadott e-mail címen lehetséges. Térítésmentes egyetemi dolgozók részére. \n\nIdőpont: kedd 16:00-17:30\nÓratartó: Szigeti-Osváth Erzsébet\nHelyszín: Vívóterem\nElérhetőség: szigeti-osvath.erzsebet@uni-pannon.hu
URL:https://sport.uni-pannon.hu/event/koredzes-dolgozoi/2026-02-17/
LOCATION:Vívóterem\, Egyetem utca 10.\, Veszprém\, Veszprém\, 8200\, Hungary
CATEGORIES:Dolgozói sportkínálat
ATTACH;FMTTYPE=image/jpeg:https://sport.uni-pannon.hu/wp-content/uploads/2026/02/koredzes-sml.jpg
ORGANIZER;CN="Szigeti-Osv%C3%A1th Erzs%C3%A9bet":MAILTO:szigeti-osvath.erzsebet@uni-pannon.hu
END:VEVENT
BEGIN:VEVENT
DTSTART;TZID=Europe/Budapest:20260210T160000
DTEND;TZID=Europe/Budapest:20260210T173000
DTSTAMP:20260423T025931
CREATED:20260204T110918Z
LAST-MODIFIED:20260219T094348Z
UID:10000003-1770739200-1770744600@sport.uni-pannon.hu
SUMMARY:Köredzés (dolgozói)
DESCRIPTION:Minden izomcsoportra kiterjedő erősítő gyakorlatok köredzés formában eszközökkel és eszközök nélkül. A foglalkozáson való részvétel előzetes regisztrációhoz kötött! Regisztráció és további információ a megadott e-mail címen lehetséges. Térítésmentes egyetemi dolgozók részére. \n\nIdőpont: kedd 16:00-17:30\nÓratartó: Szigeti-Osváth Erzsébet\nHelyszín: Vívóterem\nElérhetőség: szigeti-osvath.erzsebet@uni-pannon.hu
URL:https://sport.uni-pannon.hu/event/koredzes-dolgozoi/2026-02-10/
LOCATION:Vívóterem\, Egyetem utca 10.\, Veszprém\, Veszprém\, 8200\, Hungary
CATEGORIES:Dolgozói sportkínálat
ATTACH;FMTTYPE=image/jpeg:https://sport.uni-pannon.hu/wp-content/uploads/2026/02/koredzes-sml.jpg
ORGANIZER;CN="Szigeti-Osv%C3%A1th Erzs%C3%A9bet":MAILTO:szigeti-osvath.erzsebet@uni-pannon.hu
END:VEVENT
END:VCALENDAR