BEGIN:VCALENDAR
VERSION:2.0
PRODID:-//Sport Éve 2026 - ECPv6.15.20//NONSGML v1.0//EN
CALSCALE:GREGORIAN
METHOD:PUBLISH
X-ORIGINAL-URL:https://sport.uni-pannon.hu
X-WR-CALDESC:Események Sport Éve 2026
REFRESH-INTERVAL;VALUE=DURATION:PT1H
X-Robots-Tag:noindex
X-PUBLISHED-TTL:PT1H
BEGIN:VTIMEZONE
TZID:Europe/Budapest
BEGIN:DAYLIGHT
TZOFFSETFROM:+0100
TZOFFSETTO:+0200
TZNAME:CEST
DTSTART:20250330T010000
END:DAYLIGHT
BEGIN:STANDARD
TZOFFSETFROM:+0200
TZOFFSETTO:+0100
TZNAME:CET
DTSTART:20251026T010000
END:STANDARD
BEGIN:DAYLIGHT
TZOFFSETFROM:+0100
TZOFFSETTO:+0200
TZNAME:CEST
DTSTART:20260329T010000
END:DAYLIGHT
BEGIN:STANDARD
TZOFFSETFROM:+0200
TZOFFSETTO:+0100
TZNAME:CET
DTSTART:20261025T010000
END:STANDARD
BEGIN:DAYLIGHT
TZOFFSETFROM:+0100
TZOFFSETTO:+0200
TZNAME:CEST
DTSTART:20270328T010000
END:DAYLIGHT
BEGIN:STANDARD
TZOFFSETFROM:+0200
TZOFFSETTO:+0100
TZNAME:CET
DTSTART:20271031T010000
END:STANDARD
END:VTIMEZONE
BEGIN:VEVENT
DTSTART;TZID=Europe/Budapest:20260309T161500
DTEND;TZID=Europe/Budapest:20260309T171500
DTSTAMP:20260423T041659
CREATED:20260204T112419Z
LAST-MODIFIED:20260219T094136Z
UID:10000073-1773072900-1773076500@sport.uni-pannon.hu
SUMMARY:Preventív gerinctorna
DESCRIPTION:Mobilizációs gyakorlatok\, a helyes tartás kialakítása\, a szükséges izmok erősítése és az úgy nevezett „rövidülésre hajlamos izmok” aktivizálása\, nyújtása. Az óra célja testünk egészséges működésének fenntartása\, rugalmasságának megőrzése\, visszanyerése. Térítésmentes az egyetemi dolgozók részére. Az órára szükséges a bejelentkezés. \n\nIdőpont: hétfő 16:15-17:15\nÓratartó: Szóka Orsolya\nHelyszín: Vívóterem\nElérhetőség és bejelentkezés: szoka.orsolya@uni-pannon.hu
URL:https://sport.uni-pannon.hu/event/preventiv-gerinctorna/2026-03-09/
LOCATION:Vívóterem\, Egyetem utca 10.\, Veszprém\, Veszprém\, 8200\, Hungary
CATEGORIES:Dolgozói sportkínálat
ATTACH;FMTTYPE=image/jpeg:https://sport.uni-pannon.hu/wp-content/uploads/2026/02/gerinctorna.jpg
ORGANIZER;CN="Sz%C3%B3ka Oroslya":MAILTO:szoka.orsolya@uni-pannon.hu
END:VEVENT
BEGIN:VEVENT
DTSTART;TZID=Europe/Budapest:20260306T133000
DTEND;TZID=Europe/Budapest:20260306T143000
DTSTAMP:20260423T041659
CREATED:20260204T114814Z
LAST-MODIFIED:20260219T094442Z
UID:10000204-1772803800-1772807400@sport.uni-pannon.hu
SUMMARY:Dolgozói foci
DESCRIPTION:Térítésmentes egyetemi dolgozók részére. \n\nPéntek: 13:30-14:30\nHelyszín: Tornacsarnok\nBejelentkezés: szoka.orsolya@uni-pannon.hu
URL:https://sport.uni-pannon.hu/event/dolgozoi-foci/2026-03-06/
LOCATION:Tornacsarnok\, Egyetem utca 10.\, Veszprém\, Veszprém\, 8200\, Hungary
CATEGORIES:Dolgozói sportkínálat
ATTACH;FMTTYPE=image/jpeg:https://sport.uni-pannon.hu/wp-content/uploads/2026/02/foci.jpg
ORGANIZER;CN="Sz%C3%B3ka Oroslya":MAILTO:szoka.orsolya@uni-pannon.hu
END:VEVENT
BEGIN:VEVENT
DTSTART;TZID=Europe/Budapest:20260302T161500
DTEND;TZID=Europe/Budapest:20260302T171500
DTSTAMP:20260423T041659
CREATED:20260204T112419Z
LAST-MODIFIED:20260219T094136Z
UID:10000072-1772468100-1772471700@sport.uni-pannon.hu
SUMMARY:Preventív gerinctorna
DESCRIPTION:Mobilizációs gyakorlatok\, a helyes tartás kialakítása\, a szükséges izmok erősítése és az úgy nevezett „rövidülésre hajlamos izmok” aktivizálása\, nyújtása. Az óra célja testünk egészséges működésének fenntartása\, rugalmasságának megőrzése\, visszanyerése. Térítésmentes az egyetemi dolgozók részére. Az órára szükséges a bejelentkezés. \n\nIdőpont: hétfő 16:15-17:15\nÓratartó: Szóka Orsolya\nHelyszín: Vívóterem\nElérhetőség és bejelentkezés: szoka.orsolya@uni-pannon.hu
URL:https://sport.uni-pannon.hu/event/preventiv-gerinctorna/2026-03-02/
LOCATION:Vívóterem\, Egyetem utca 10.\, Veszprém\, Veszprém\, 8200\, Hungary
CATEGORIES:Dolgozói sportkínálat
ATTACH;FMTTYPE=image/jpeg:https://sport.uni-pannon.hu/wp-content/uploads/2026/02/gerinctorna.jpg
ORGANIZER;CN="Sz%C3%B3ka Oroslya":MAILTO:szoka.orsolya@uni-pannon.hu
END:VEVENT
BEGIN:VEVENT
DTSTART;TZID=Europe/Budapest:20260227T133000
DTEND;TZID=Europe/Budapest:20260227T143000
DTSTAMP:20260423T041659
CREATED:20260204T114814Z
LAST-MODIFIED:20260219T094442Z
UID:10000203-1772199000-1772202600@sport.uni-pannon.hu
SUMMARY:Dolgozói foci
DESCRIPTION:Térítésmentes egyetemi dolgozók részére. \n\nPéntek: 13:30-14:30\nHelyszín: Tornacsarnok\nBejelentkezés: szoka.orsolya@uni-pannon.hu
URL:https://sport.uni-pannon.hu/event/dolgozoi-foci/2026-02-27/
LOCATION:Tornacsarnok\, Egyetem utca 10.\, Veszprém\, Veszprém\, 8200\, Hungary
CATEGORIES:Dolgozói sportkínálat
ATTACH;FMTTYPE=image/jpeg:https://sport.uni-pannon.hu/wp-content/uploads/2026/02/foci.jpg
ORGANIZER;CN="Sz%C3%B3ka Oroslya":MAILTO:szoka.orsolya@uni-pannon.hu
END:VEVENT
BEGIN:VEVENT
DTSTART;TZID=Europe/Budapest:20260223T161500
DTEND;TZID=Europe/Budapest:20260223T171500
DTSTAMP:20260423T041659
CREATED:20260204T112419Z
LAST-MODIFIED:20260219T094136Z
UID:10000071-1771863300-1771866900@sport.uni-pannon.hu
SUMMARY:Preventív gerinctorna
DESCRIPTION:Mobilizációs gyakorlatok\, a helyes tartás kialakítása\, a szükséges izmok erősítése és az úgy nevezett „rövidülésre hajlamos izmok” aktivizálása\, nyújtása. Az óra célja testünk egészséges működésének fenntartása\, rugalmasságának megőrzése\, visszanyerése. Térítésmentes az egyetemi dolgozók részére. Az órára szükséges a bejelentkezés. \n\nIdőpont: hétfő 16:15-17:15\nÓratartó: Szóka Orsolya\nHelyszín: Vívóterem\nElérhetőség és bejelentkezés: szoka.orsolya@uni-pannon.hu
URL:https://sport.uni-pannon.hu/event/preventiv-gerinctorna/2026-02-23/
LOCATION:Vívóterem\, Egyetem utca 10.\, Veszprém\, Veszprém\, 8200\, Hungary
CATEGORIES:Dolgozói sportkínálat
ATTACH;FMTTYPE=image/jpeg:https://sport.uni-pannon.hu/wp-content/uploads/2026/02/gerinctorna.jpg
ORGANIZER;CN="Sz%C3%B3ka Oroslya":MAILTO:szoka.orsolya@uni-pannon.hu
END:VEVENT
BEGIN:VEVENT
DTSTART;TZID=Europe/Budapest:20260220T133000
DTEND;TZID=Europe/Budapest:20260220T143000
DTSTAMP:20260423T041659
CREATED:20260204T114814Z
LAST-MODIFIED:20260219T094442Z
UID:10000202-1771594200-1771597800@sport.uni-pannon.hu
SUMMARY:Dolgozói foci
DESCRIPTION:Térítésmentes egyetemi dolgozók részére. \n\nPéntek: 13:30-14:30\nHelyszín: Tornacsarnok\nBejelentkezés: szoka.orsolya@uni-pannon.hu
URL:https://sport.uni-pannon.hu/event/dolgozoi-foci/2026-02-20/
LOCATION:Tornacsarnok\, Egyetem utca 10.\, Veszprém\, Veszprém\, 8200\, Hungary
CATEGORIES:Dolgozói sportkínálat
ATTACH;FMTTYPE=image/jpeg:https://sport.uni-pannon.hu/wp-content/uploads/2026/02/foci.jpg
ORGANIZER;CN="Sz%C3%B3ka Oroslya":MAILTO:szoka.orsolya@uni-pannon.hu
END:VEVENT
BEGIN:VEVENT
DTSTART;TZID=Europe/Budapest:20260216T161500
DTEND;TZID=Europe/Budapest:20260216T171500
DTSTAMP:20260423T041659
CREATED:20260204T112419Z
LAST-MODIFIED:20260219T094136Z
UID:10000070-1771258500-1771262100@sport.uni-pannon.hu
SUMMARY:Preventív gerinctorna
DESCRIPTION:Mobilizációs gyakorlatok\, a helyes tartás kialakítása\, a szükséges izmok erősítése és az úgy nevezett „rövidülésre hajlamos izmok” aktivizálása\, nyújtása. Az óra célja testünk egészséges működésének fenntartása\, rugalmasságának megőrzése\, visszanyerése. Térítésmentes az egyetemi dolgozók részére. Az órára szükséges a bejelentkezés. \n\nIdőpont: hétfő 16:15-17:15\nÓratartó: Szóka Orsolya\nHelyszín: Vívóterem\nElérhetőség és bejelentkezés: szoka.orsolya@uni-pannon.hu
URL:https://sport.uni-pannon.hu/event/preventiv-gerinctorna/2026-02-16/
LOCATION:Vívóterem\, Egyetem utca 10.\, Veszprém\, Veszprém\, 8200\, Hungary
CATEGORIES:Dolgozói sportkínálat
ATTACH;FMTTYPE=image/jpeg:https://sport.uni-pannon.hu/wp-content/uploads/2026/02/gerinctorna.jpg
ORGANIZER;CN="Sz%C3%B3ka Oroslya":MAILTO:szoka.orsolya@uni-pannon.hu
END:VEVENT
BEGIN:VEVENT
DTSTART;TZID=Europe/Budapest:20260213T133000
DTEND;TZID=Europe/Budapest:20260213T143000
DTSTAMP:20260423T041659
CREATED:20260204T114814Z
LAST-MODIFIED:20260219T094442Z
UID:10000201-1770989400-1770993000@sport.uni-pannon.hu
SUMMARY:Dolgozói foci
DESCRIPTION:Térítésmentes egyetemi dolgozók részére. \n\nPéntek: 13:30-14:30\nHelyszín: Tornacsarnok\nBejelentkezés: szoka.orsolya@uni-pannon.hu
URL:https://sport.uni-pannon.hu/event/dolgozoi-foci/2026-02-13/
LOCATION:Tornacsarnok\, Egyetem utca 10.\, Veszprém\, Veszprém\, 8200\, Hungary
CATEGORIES:Dolgozói sportkínálat
ATTACH;FMTTYPE=image/jpeg:https://sport.uni-pannon.hu/wp-content/uploads/2026/02/foci.jpg
ORGANIZER;CN="Sz%C3%B3ka Oroslya":MAILTO:szoka.orsolya@uni-pannon.hu
END:VEVENT
BEGIN:VEVENT
DTSTART;TZID=Europe/Budapest:20260209T161500
DTEND;TZID=Europe/Budapest:20260209T171500
DTSTAMP:20260423T041659
CREATED:20260204T112419Z
LAST-MODIFIED:20260219T094136Z
UID:10000069-1770653700-1770657300@sport.uni-pannon.hu
SUMMARY:Preventív gerinctorna
DESCRIPTION:Mobilizációs gyakorlatok\, a helyes tartás kialakítása\, a szükséges izmok erősítése és az úgy nevezett „rövidülésre hajlamos izmok” aktivizálása\, nyújtása. Az óra célja testünk egészséges működésének fenntartása\, rugalmasságának megőrzése\, visszanyerése. Térítésmentes az egyetemi dolgozók részére. Az órára szükséges a bejelentkezés. \n\nIdőpont: hétfő 16:15-17:15\nÓratartó: Szóka Orsolya\nHelyszín: Vívóterem\nElérhetőség és bejelentkezés: szoka.orsolya@uni-pannon.hu
URL:https://sport.uni-pannon.hu/event/preventiv-gerinctorna/2026-02-09/
LOCATION:Vívóterem\, Egyetem utca 10.\, Veszprém\, Veszprém\, 8200\, Hungary
CATEGORIES:Dolgozói sportkínálat
ATTACH;FMTTYPE=image/jpeg:https://sport.uni-pannon.hu/wp-content/uploads/2026/02/gerinctorna.jpg
ORGANIZER;CN="Sz%C3%B3ka Oroslya":MAILTO:szoka.orsolya@uni-pannon.hu
END:VEVENT
END:VCALENDAR