BEGIN:VCALENDAR
VERSION:2.0
PRODID:-//Sport Éve 2026 - ECPv6.15.20//NONSGML v1.0//EN
CALSCALE:GREGORIAN
METHOD:PUBLISH
X-WR-CALNAME:Sport Éve 2026
X-ORIGINAL-URL:https://sport.uni-pannon.hu
X-WR-CALDESC:Események Sport Éve 2026
REFRESH-INTERVAL;VALUE=DURATION:PT1H
X-Robots-Tag:noindex
X-PUBLISHED-TTL:PT1H
BEGIN:VTIMEZONE
TZID:Europe/Budapest
BEGIN:DAYLIGHT
TZOFFSETFROM:+0100
TZOFFSETTO:+0200
TZNAME:CEST
DTSTART:20250330T010000
END:DAYLIGHT
BEGIN:STANDARD
TZOFFSETFROM:+0200
TZOFFSETTO:+0100
TZNAME:CET
DTSTART:20251026T010000
END:STANDARD
BEGIN:DAYLIGHT
TZOFFSETFROM:+0100
TZOFFSETTO:+0200
TZNAME:CEST
DTSTART:20260329T010000
END:DAYLIGHT
BEGIN:STANDARD
TZOFFSETFROM:+0200
TZOFFSETTO:+0100
TZNAME:CET
DTSTART:20261025T010000
END:STANDARD
BEGIN:DAYLIGHT
TZOFFSETFROM:+0100
TZOFFSETTO:+0200
TZNAME:CEST
DTSTART:20270328T010000
END:DAYLIGHT
BEGIN:STANDARD
TZOFFSETFROM:+0200
TZOFFSETTO:+0100
TZNAME:CET
DTSTART:20271031T010000
END:STANDARD
END:VTIMEZONE
BEGIN:VEVENT
DTSTART;TZID=Europe/Budapest:20260422T160000
DTEND;TZID=Europe/Budapest:20260422T173000
DTSTAMP:20260424T194032
CREATED:20260204T112916Z
LAST-MODIFIED:20260219T094419Z
UID:10000145-1776873600-1776879000@sport.uni-pannon.hu
SUMMARY:Kondicionáló tréning (dolgozói)
DESCRIPTION:Az edzések célja\, hogy a szervezet teljesítőképessége nőjön\, és általános fizikai állóképességét javítsa. A kondicionáló edzések különféle mozgásformákat kombinálnak\, beleértve a kardiót\, az erősítést és a nyújtást. Bárki számára hasznos lehet\, aki szeretné növelni fizikai terhelhetőségét és javítani általános közérzetét. Térítésmentes az egyetemi dolgozók részére. \n\nIdőpont: szerda 16:00-17:30\nÓratartó: Tóth Zsuzsa\nHelyszín: Vívóterem\nJelentkezés: toth.zsuzsa@uni-pannon.hu
URL:https://sport.uni-pannon.hu/event/kondicionalo-trening/2026-04-22/
LOCATION:Vívóterem\, Egyetem utca 10.\, Veszprém\, Veszprém\, 8200\, Hungary
CATEGORIES:Dolgozói sportkínálat
ATTACH;FMTTYPE=image/jpeg:https://sport.uni-pannon.hu/wp-content/uploads/2026/02/kondi.jpg
ORGANIZER;CN="T%C3%B3th Zsuzsa":MAILTO:toth.zsuzsa@uni-pannon.hu
END:VEVENT
BEGIN:VEVENT
DTSTART;TZID=Europe/Budapest:20260415T160000
DTEND;TZID=Europe/Budapest:20260415T173000
DTSTAMP:20260424T194032
CREATED:20260204T112916Z
LAST-MODIFIED:20260219T094419Z
UID:10000144-1776268800-1776274200@sport.uni-pannon.hu
SUMMARY:Kondicionáló tréning (dolgozói)
DESCRIPTION:Az edzések célja\, hogy a szervezet teljesítőképessége nőjön\, és általános fizikai állóképességét javítsa. A kondicionáló edzések különféle mozgásformákat kombinálnak\, beleértve a kardiót\, az erősítést és a nyújtást. Bárki számára hasznos lehet\, aki szeretné növelni fizikai terhelhetőségét és javítani általános közérzetét. Térítésmentes az egyetemi dolgozók részére. \n\nIdőpont: szerda 16:00-17:30\nÓratartó: Tóth Zsuzsa\nHelyszín: Vívóterem\nJelentkezés: toth.zsuzsa@uni-pannon.hu
URL:https://sport.uni-pannon.hu/event/kondicionalo-trening/2026-04-15/
LOCATION:Vívóterem\, Egyetem utca 10.\, Veszprém\, Veszprém\, 8200\, Hungary
CATEGORIES:Dolgozói sportkínálat
ATTACH;FMTTYPE=image/jpeg:https://sport.uni-pannon.hu/wp-content/uploads/2026/02/kondi.jpg
ORGANIZER;CN="T%C3%B3th Zsuzsa":MAILTO:toth.zsuzsa@uni-pannon.hu
END:VEVENT
BEGIN:VEVENT
DTSTART;TZID=Europe/Budapest:20260408T160000
DTEND;TZID=Europe/Budapest:20260408T173000
DTSTAMP:20260424T194032
CREATED:20260204T112916Z
LAST-MODIFIED:20260219T094419Z
UID:10000143-1775664000-1775669400@sport.uni-pannon.hu
SUMMARY:Kondicionáló tréning (dolgozói)
DESCRIPTION:Az edzések célja\, hogy a szervezet teljesítőképessége nőjön\, és általános fizikai állóképességét javítsa. A kondicionáló edzések különféle mozgásformákat kombinálnak\, beleértve a kardiót\, az erősítést és a nyújtást. Bárki számára hasznos lehet\, aki szeretné növelni fizikai terhelhetőségét és javítani általános közérzetét. Térítésmentes az egyetemi dolgozók részére. \n\nIdőpont: szerda 16:00-17:30\nÓratartó: Tóth Zsuzsa\nHelyszín: Vívóterem\nJelentkezés: toth.zsuzsa@uni-pannon.hu
URL:https://sport.uni-pannon.hu/event/kondicionalo-trening/2026-04-08/
LOCATION:Vívóterem\, Egyetem utca 10.\, Veszprém\, Veszprém\, 8200\, Hungary
CATEGORIES:Dolgozói sportkínálat
ATTACH;FMTTYPE=image/jpeg:https://sport.uni-pannon.hu/wp-content/uploads/2026/02/kondi.jpg
ORGANIZER;CN="T%C3%B3th Zsuzsa":MAILTO:toth.zsuzsa@uni-pannon.hu
END:VEVENT
BEGIN:VEVENT
DTSTART;TZID=Europe/Budapest:20260401T160000
DTEND;TZID=Europe/Budapest:20260401T173000
DTSTAMP:20260424T194032
CREATED:20260204T112916Z
LAST-MODIFIED:20260219T094419Z
UID:10000142-1775059200-1775064600@sport.uni-pannon.hu
SUMMARY:Kondicionáló tréning (dolgozói)
DESCRIPTION:Az edzések célja\, hogy a szervezet teljesítőképessége nőjön\, és általános fizikai állóképességét javítsa. A kondicionáló edzések különféle mozgásformákat kombinálnak\, beleértve a kardiót\, az erősítést és a nyújtást. Bárki számára hasznos lehet\, aki szeretné növelni fizikai terhelhetőségét és javítani általános közérzetét. Térítésmentes az egyetemi dolgozók részére. \n\nIdőpont: szerda 16:00-17:30\nÓratartó: Tóth Zsuzsa\nHelyszín: Vívóterem\nJelentkezés: toth.zsuzsa@uni-pannon.hu
URL:https://sport.uni-pannon.hu/event/kondicionalo-trening/2026-04-01/
LOCATION:Vívóterem\, Egyetem utca 10.\, Veszprém\, Veszprém\, 8200\, Hungary
CATEGORIES:Dolgozói sportkínálat
ATTACH;FMTTYPE=image/jpeg:https://sport.uni-pannon.hu/wp-content/uploads/2026/02/kondi.jpg
ORGANIZER;CN="T%C3%B3th Zsuzsa":MAILTO:toth.zsuzsa@uni-pannon.hu
END:VEVENT
BEGIN:VEVENT
DTSTART;TZID=Europe/Budapest:20260325T160000
DTEND;TZID=Europe/Budapest:20260325T173000
DTSTAMP:20260424T194032
CREATED:20260204T112916Z
LAST-MODIFIED:20260219T094419Z
UID:10000141-1774454400-1774459800@sport.uni-pannon.hu
SUMMARY:Kondicionáló tréning (dolgozói)
DESCRIPTION:Az edzések célja\, hogy a szervezet teljesítőképessége nőjön\, és általános fizikai állóképességét javítsa. A kondicionáló edzések különféle mozgásformákat kombinálnak\, beleértve a kardiót\, az erősítést és a nyújtást. Bárki számára hasznos lehet\, aki szeretné növelni fizikai terhelhetőségét és javítani általános közérzetét. Térítésmentes az egyetemi dolgozók részére. \n\nIdőpont: szerda 16:00-17:30\nÓratartó: Tóth Zsuzsa\nHelyszín: Vívóterem\nJelentkezés: toth.zsuzsa@uni-pannon.hu
URL:https://sport.uni-pannon.hu/event/kondicionalo-trening/2026-03-25/
LOCATION:Vívóterem\, Egyetem utca 10.\, Veszprém\, Veszprém\, 8200\, Hungary
CATEGORIES:Dolgozói sportkínálat
ATTACH;FMTTYPE=image/jpeg:https://sport.uni-pannon.hu/wp-content/uploads/2026/02/kondi.jpg
ORGANIZER;CN="T%C3%B3th Zsuzsa":MAILTO:toth.zsuzsa@uni-pannon.hu
END:VEVENT
BEGIN:VEVENT
DTSTART;TZID=Europe/Budapest:20260318T160000
DTEND;TZID=Europe/Budapest:20260318T173000
DTSTAMP:20260424T194032
CREATED:20260204T112916Z
LAST-MODIFIED:20260219T094419Z
UID:10000140-1773849600-1773855000@sport.uni-pannon.hu
SUMMARY:Kondicionáló tréning (dolgozói)
DESCRIPTION:Az edzések célja\, hogy a szervezet teljesítőképessége nőjön\, és általános fizikai állóképességét javítsa. A kondicionáló edzések különféle mozgásformákat kombinálnak\, beleértve a kardiót\, az erősítést és a nyújtást. Bárki számára hasznos lehet\, aki szeretné növelni fizikai terhelhetőségét és javítani általános közérzetét. Térítésmentes az egyetemi dolgozók részére. \n\nIdőpont: szerda 16:00-17:30\nÓratartó: Tóth Zsuzsa\nHelyszín: Vívóterem\nJelentkezés: toth.zsuzsa@uni-pannon.hu
URL:https://sport.uni-pannon.hu/event/kondicionalo-trening/2026-03-18/
LOCATION:Vívóterem\, Egyetem utca 10.\, Veszprém\, Veszprém\, 8200\, Hungary
CATEGORIES:Dolgozói sportkínálat
ATTACH;FMTTYPE=image/jpeg:https://sport.uni-pannon.hu/wp-content/uploads/2026/02/kondi.jpg
ORGANIZER;CN="T%C3%B3th Zsuzsa":MAILTO:toth.zsuzsa@uni-pannon.hu
END:VEVENT
BEGIN:VEVENT
DTSTART;TZID=Europe/Budapest:20260311T160000
DTEND;TZID=Europe/Budapest:20260311T173000
DTSTAMP:20260424T194032
CREATED:20260204T112916Z
LAST-MODIFIED:20260219T094419Z
UID:10000139-1773244800-1773250200@sport.uni-pannon.hu
SUMMARY:Kondicionáló tréning (dolgozói)
DESCRIPTION:Az edzések célja\, hogy a szervezet teljesítőképessége nőjön\, és általános fizikai állóképességét javítsa. A kondicionáló edzések különféle mozgásformákat kombinálnak\, beleértve a kardiót\, az erősítést és a nyújtást. Bárki számára hasznos lehet\, aki szeretné növelni fizikai terhelhetőségét és javítani általános közérzetét. Térítésmentes az egyetemi dolgozók részére. \n\nIdőpont: szerda 16:00-17:30\nÓratartó: Tóth Zsuzsa\nHelyszín: Vívóterem\nJelentkezés: toth.zsuzsa@uni-pannon.hu
URL:https://sport.uni-pannon.hu/event/kondicionalo-trening/2026-03-11/
LOCATION:Vívóterem\, Egyetem utca 10.\, Veszprém\, Veszprém\, 8200\, Hungary
CATEGORIES:Dolgozói sportkínálat
ATTACH;FMTTYPE=image/jpeg:https://sport.uni-pannon.hu/wp-content/uploads/2026/02/kondi.jpg
ORGANIZER;CN="T%C3%B3th Zsuzsa":MAILTO:toth.zsuzsa@uni-pannon.hu
END:VEVENT
BEGIN:VEVENT
DTSTART;TZID=Europe/Budapest:20260304T160000
DTEND;TZID=Europe/Budapest:20260304T173000
DTSTAMP:20260424T194032
CREATED:20260204T112916Z
LAST-MODIFIED:20260219T094419Z
UID:10000138-1772640000-1772645400@sport.uni-pannon.hu
SUMMARY:Kondicionáló tréning (dolgozói)
DESCRIPTION:Az edzések célja\, hogy a szervezet teljesítőképessége nőjön\, és általános fizikai állóképességét javítsa. A kondicionáló edzések különféle mozgásformákat kombinálnak\, beleértve a kardiót\, az erősítést és a nyújtást. Bárki számára hasznos lehet\, aki szeretné növelni fizikai terhelhetőségét és javítani általános közérzetét. Térítésmentes az egyetemi dolgozók részére. \n\nIdőpont: szerda 16:00-17:30\nÓratartó: Tóth Zsuzsa\nHelyszín: Vívóterem\nJelentkezés: toth.zsuzsa@uni-pannon.hu
URL:https://sport.uni-pannon.hu/event/kondicionalo-trening/2026-03-04/
LOCATION:Vívóterem\, Egyetem utca 10.\, Veszprém\, Veszprém\, 8200\, Hungary
CATEGORIES:Dolgozói sportkínálat
ATTACH;FMTTYPE=image/jpeg:https://sport.uni-pannon.hu/wp-content/uploads/2026/02/kondi.jpg
ORGANIZER;CN="T%C3%B3th Zsuzsa":MAILTO:toth.zsuzsa@uni-pannon.hu
END:VEVENT
BEGIN:VEVENT
DTSTART;TZID=Europe/Budapest:20260225T160000
DTEND;TZID=Europe/Budapest:20260225T173000
DTSTAMP:20260424T194032
CREATED:20260204T112916Z
LAST-MODIFIED:20260219T094419Z
UID:10000137-1772035200-1772040600@sport.uni-pannon.hu
SUMMARY:Kondicionáló tréning (dolgozói)
DESCRIPTION:Az edzések célja\, hogy a szervezet teljesítőképessége nőjön\, és általános fizikai állóképességét javítsa. A kondicionáló edzések különféle mozgásformákat kombinálnak\, beleértve a kardiót\, az erősítést és a nyújtást. Bárki számára hasznos lehet\, aki szeretné növelni fizikai terhelhetőségét és javítani általános közérzetét. Térítésmentes az egyetemi dolgozók részére. \n\nIdőpont: szerda 16:00-17:30\nÓratartó: Tóth Zsuzsa\nHelyszín: Vívóterem\nJelentkezés: toth.zsuzsa@uni-pannon.hu
URL:https://sport.uni-pannon.hu/event/kondicionalo-trening/2026-02-25/
LOCATION:Vívóterem\, Egyetem utca 10.\, Veszprém\, Veszprém\, 8200\, Hungary
CATEGORIES:Dolgozói sportkínálat
ATTACH;FMTTYPE=image/jpeg:https://sport.uni-pannon.hu/wp-content/uploads/2026/02/kondi.jpg
ORGANIZER;CN="T%C3%B3th Zsuzsa":MAILTO:toth.zsuzsa@uni-pannon.hu
END:VEVENT
BEGIN:VEVENT
DTSTART;TZID=Europe/Budapest:20260218T160000
DTEND;TZID=Europe/Budapest:20260218T173000
DTSTAMP:20260424T194032
CREATED:20260204T112916Z
LAST-MODIFIED:20260219T094419Z
UID:10000136-1771430400-1771435800@sport.uni-pannon.hu
SUMMARY:Kondicionáló tréning (dolgozói)
DESCRIPTION:Az edzések célja\, hogy a szervezet teljesítőképessége nőjön\, és általános fizikai állóképességét javítsa. A kondicionáló edzések különféle mozgásformákat kombinálnak\, beleértve a kardiót\, az erősítést és a nyújtást. Bárki számára hasznos lehet\, aki szeretné növelni fizikai terhelhetőségét és javítani általános közérzetét. Térítésmentes az egyetemi dolgozók részére. \n\nIdőpont: szerda 16:00-17:30\nÓratartó: Tóth Zsuzsa\nHelyszín: Vívóterem\nJelentkezés: toth.zsuzsa@uni-pannon.hu
URL:https://sport.uni-pannon.hu/event/kondicionalo-trening/2026-02-18/
LOCATION:Vívóterem\, Egyetem utca 10.\, Veszprém\, Veszprém\, 8200\, Hungary
CATEGORIES:Dolgozói sportkínálat
ATTACH;FMTTYPE=image/jpeg:https://sport.uni-pannon.hu/wp-content/uploads/2026/02/kondi.jpg
ORGANIZER;CN="T%C3%B3th Zsuzsa":MAILTO:toth.zsuzsa@uni-pannon.hu
END:VEVENT
BEGIN:VEVENT
DTSTART;TZID=Europe/Budapest:20260211T160000
DTEND;TZID=Europe/Budapest:20260211T173000
DTSTAMP:20260424T194032
CREATED:20260204T112916Z
LAST-MODIFIED:20260219T094419Z
UID:10000135-1770825600-1770831000@sport.uni-pannon.hu
SUMMARY:Kondicionáló tréning (dolgozói)
DESCRIPTION:Az edzések célja\, hogy a szervezet teljesítőképessége nőjön\, és általános fizikai állóképességét javítsa. A kondicionáló edzések különféle mozgásformákat kombinálnak\, beleértve a kardiót\, az erősítést és a nyújtást. Bárki számára hasznos lehet\, aki szeretné növelni fizikai terhelhetőségét és javítani általános közérzetét. Térítésmentes az egyetemi dolgozók részére. \n\nIdőpont: szerda 16:00-17:30\nÓratartó: Tóth Zsuzsa\nHelyszín: Vívóterem\nJelentkezés: toth.zsuzsa@uni-pannon.hu
URL:https://sport.uni-pannon.hu/event/kondicionalo-trening/2026-02-11/
LOCATION:Vívóterem\, Egyetem utca 10.\, Veszprém\, Veszprém\, 8200\, Hungary
CATEGORIES:Dolgozói sportkínálat
ATTACH;FMTTYPE=image/jpeg:https://sport.uni-pannon.hu/wp-content/uploads/2026/02/kondi.jpg
ORGANIZER;CN="T%C3%B3th Zsuzsa":MAILTO:toth.zsuzsa@uni-pannon.hu
END:VEVENT
END:VCALENDAR